BEGIN:VCALENDAR
VERSION:2.0
PRODID:icalendar-ruby
CALSCALE:GREGORIAN
BEGIN:VTIMEZONE
TZID:America/Denver
BEGIN:DAYLIGHT
DTSTART:20260308T030000
TZOFFSETFROM:-0700
TZOFFSETTO:-0600
RRULE:FREQ=YEARLY;BYDAY=2SU;BYMONTH=3
TZNAME:MDT
END:DAYLIGHT
BEGIN:STANDARD
DTSTART:20261101T010000
TZOFFSETFROM:-0600
TZOFFSETTO:-0700
RRULE:FREQ=YEARLY;BYDAY=1SU;BYMONTH=11
TZNAME:MST
END:STANDARD
END:VTIMEZONE
BEGIN:VEVENT
DTSTAMP:20260420T001708Z
UID:9ffd6833-a082-4122-9b17-2684dc5141b3
DTSTART:20260419T074500
DTEND:20260419T090000
DESCRIPTION:
LOCATION:591 Antelope Dr\, Layton\, UT 84041\, USA
SUMMARY:Orchestra 
END:VEVENT
BEGIN:VEVENT
DTSTAMP:20260420T001708Z
UID:13b6cb17-e4dd-4ad9-b0e1-520e0f55f68f
DTSTART:20260420T074500
DTEND:20260420T090000
DESCRIPTION:
LOCATION:591 Antelope Dr\, Layton\, UT 84041\, USA
SUMMARY:Orchestra 
END:VEVENT
BEGIN:VEVENT
DTSTAMP:20260420T001708Z
UID:fce48ad7-7bb9-446f-bc49-d7877873ecba
DTSTART:20260421T074500
DTEND:20260421T090000
DESCRIPTION:
LOCATION:591 Antelope Dr\, Layton\, UT 84041\, USA
SUMMARY:Orchestra 
END:VEVENT
BEGIN:VEVENT
DTSTAMP:20260420T001708Z
UID:fa338838-2e95-4f4d-8e0d-9920eebda27b
DTSTART:20260422T074500
DTEND:20260422T090000
DESCRIPTION:
LOCATION:591 Antelope Dr\, Layton\, UT 84041\, USA
SUMMARY:Orchestra 
END:VEVENT
BEGIN:VEVENT
DTSTAMP:20260420T001708Z
UID:82d44056-673b-4a41-96fc-492bab7490bd
DTSTART:20260423T074500
DTEND:20260423T090000
DESCRIPTION:
LOCATION:591 Antelope Dr\, Layton\, UT 84041\, USA
SUMMARY:Orchestra 
END:VEVENT
BEGIN:VEVENT
DTSTAMP:20260420T001708Z
UID:b90ab73a-e3b5-4caa-aa88-514298560c48
DTSTART:20260423T074500
DTEND:20260423T090000
DESCRIPTION:
LOCATION:591 Antelope Dr\, Layton\, UT 84041\, USA
SUMMARY:Orchestra 
END:VEVENT
BEGIN:VEVENT
DTSTAMP:20260420T001708Z
UID:b7681dd3-0f00-46bb-aa69-6807cc5e168d
DTSTART;VALUE=DATE:20260424
DTEND;VALUE=DATE:20260425
DESCRIPTION:
LOCATION:
SUMMARY:Teacher Work Day-No School For Students 
END:VEVENT
BEGIN:VEVENT
DTSTAMP:20260420T001708Z
UID:46a249d7-f064-4e65-8028-a0e34639eb31
DTSTART:20260424T074500
DTEND:20260424T090000
DESCRIPTION:
LOCATION:591 Antelope Dr\, Layton\, UT 84041\, USA
SUMMARY:Orchestra 
END:VEVENT
BEGIN:VEVENT
DTSTAMP:20260420T001708Z
UID:ea2267c0-1054-40e5-82d1-074c98ec3eed
DTSTART:20260425T074500
DTEND:20260425T090000
DESCRIPTION:
LOCATION:591 Antelope Dr\, Layton\, UT 84041\, USA
SUMMARY:Orchestra 
END:VEVENT
BEGIN:VEVENT
DTSTAMP:20260420T001708Z
UID:54232e32-ceb4-4af9-a070-9349aa2403d1
DTSTART:20260426T074500
DTEND:20260426T090000
DESCRIPTION:
LOCATION:591 Antelope Dr\, Layton\, UT 84041\, USA
SUMMARY:Orchestra 
END:VEVENT
BEGIN:VEVENT
DTSTAMP:20260420T001708Z
UID:22570dbe-f94b-4066-af8e-976fd33d3789
DTSTART:20260427T074500
DTEND:20260427T090000
DESCRIPTION:
LOCATION:591 Antelope Dr\, Layton\, UT 84041\, USA
SUMMARY:Orchestra 
END:VEVENT
BEGIN:VEVENT
DTSTAMP:20260420T001708Z
UID:74c77a18-dd99-4fc2-b3cb-66ee7c45973b
DTSTART:20260428T074500
DTEND:20260428T090000
DESCRIPTION:
LOCATION:591 Antelope Dr\, Layton\, UT 84041\, USA
SUMMARY:Orchestra 
END:VEVENT
BEGIN:VEVENT
DTSTAMP:20260420T001708Z
UID:e30d768d-187c-49ab-bdaa-98fca02e347a
DTSTART:20260429T074500
DTEND:20260429T090000
DESCRIPTION:
LOCATION:591 Antelope Dr\, Layton\, UT 84041\, USA
SUMMARY:Orchestra 
END:VEVENT
BEGIN:VEVENT
DTSTAMP:20260420T001708Z
UID:0df4b7d3-e674-4a81-8d87-e0719e46cbab
DTSTART:20260430T074500
DTEND:20260430T090000
DESCRIPTION:
LOCATION:591 Antelope Dr\, Layton\, UT 84041\, USA
SUMMARY:Orchestra 
END:VEVENT
BEGIN:VEVENT
DTSTAMP:20260420T001708Z
UID:c43c9a2e-88db-41ce-9936-868269f9a071
DTSTART:20260430T074500
DTEND:20260430T090000
DESCRIPTION:
LOCATION:591 Antelope Dr\, Layton\, UT 84041\, USA
SUMMARY:Orchestra 
END:VEVENT
BEGIN:VEVENT
DTSTAMP:20260420T001708Z
UID:c29d4d71-eb00-499b-9ee3-8c6b71b2a83c
DTSTART:20260501T074500
DTEND:20260501T090000
DESCRIPTION:
LOCATION:591 Antelope Dr\, Layton\, UT 84041\, USA
SUMMARY:Orchestra 
END:VEVENT
BEGIN:VEVENT
DTSTAMP:20260420T001708Z
UID:576cad5c-b4aa-4dc2-b8f0-2c591be7bf9b
DTSTART:20260502T074500
DTEND:20260502T090000
DESCRIPTION:
LOCATION:591 Antelope Dr\, Layton\, UT 84041\, USA
SUMMARY:Orchestra 
END:VEVENT
BEGIN:VEVENT
DTSTAMP:20260420T001708Z
UID:afc8b409-bc93-4c02-b720-e8dc84e36c6d
DTSTART:20260503T074500
DTEND:20260503T090000
DESCRIPTION:
LOCATION:591 Antelope Dr\, Layton\, UT 84041\, USA
SUMMARY:Orchestra 
END:VEVENT
BEGIN:VEVENT
DTSTAMP:20260420T001708Z
UID:f01db07f-f9a2-493a-82a5-1e35d0cdf13f
DTSTART:20260504T074500
DTEND:20260504T090000
DESCRIPTION:
LOCATION:591 Antelope Dr\, Layton\, UT 84041\, USA
SUMMARY:Orchestra 
END:VEVENT
BEGIN:VEVENT
DTSTAMP:20260420T001708Z
UID:a58c1f95-39fa-4711-8ced-7cfe5b2ba720
DTSTART:20260505T074500
DTEND:20260505T090000
DESCRIPTION:
LOCATION:591 Antelope Dr\, Layton\, UT 84041\, USA
SUMMARY:Orchestra 
END:VEVENT
BEGIN:VEVENT
DTSTAMP:20260420T001708Z
UID:1b36cbc7-d888-40fb-840e-5b84063084a8
DTSTART:20260506T074500
DTEND:20260506T090000
DESCRIPTION:
LOCATION:591 Antelope Dr\, Layton\, UT 84041\, USA
SUMMARY:Orchestra 
END:VEVENT
BEGIN:VEVENT
DTSTAMP:20260420T001708Z
UID:943de579-f5d5-4440-99df-fce9a67794a1
DTSTART:20260507T074500
DTEND:20260507T090000
DESCRIPTION:
LOCATION:591 Antelope Dr\, Layton\, UT 84041\, USA
SUMMARY:Orchestra 
END:VEVENT
BEGIN:VEVENT
DTSTAMP:20260420T001708Z
UID:9efa16aa-ef29-481b-8bb6-f7a21319c35b
DTSTART:20260507T074500
DTEND:20260507T090000
DESCRIPTION:
LOCATION:591 Antelope Dr\, Layton\, UT 84041\, USA
SUMMARY:Orchestra 
END:VEVENT
BEGIN:VEVENT
DTSTAMP:20260420T001708Z
UID:2cc61754-1cf7-4a55-bce6-459912361b14
DTSTART:20260508T074500
DTEND:20260508T090000
DESCRIPTION:
LOCATION:591 Antelope Dr\, Layton\, UT 84041\, USA
SUMMARY:Orchestra 
END:VEVENT
BEGIN:VEVENT
DTSTAMP:20260420T001708Z
UID:74da1b48-3c46-4490-a6bd-3e2502c86f13
DTSTART:20260509T074500
DTEND:20260509T090000
DESCRIPTION:
LOCATION:591 Antelope Dr\, Layton\, UT 84041\, USA
SUMMARY:Orchestra 
END:VEVENT
BEGIN:VEVENT
DTSTAMP:20260420T001708Z
UID:8681a0d9-f634-4d3e-923d-5b6bdd62c5d4
DTSTART:20260510T074500
DTEND:20260510T090000
DESCRIPTION:
LOCATION:591 Antelope Dr\, Layton\, UT 84041\, USA
SUMMARY:Orchestra 
END:VEVENT
BEGIN:VEVENT
DTSTAMP:20260420T001708Z
UID:5220a28b-7e74-431f-b94f-6746fdeb7878
DTSTART:20260511T074500
DTEND:20260511T090000
DESCRIPTION:
LOCATION:591 Antelope Dr\, Layton\, UT 84041\, USA
SUMMARY:Orchestra 
END:VEVENT
BEGIN:VEVENT
DTSTAMP:20260420T001708Z
UID:536673fb-f549-4781-b76d-c27566ee9d77
DTSTART:20260512T074500
DTEND:20260512T090000
DESCRIPTION:
LOCATION:591 Antelope Dr\, Layton\, UT 84041\, USA
SUMMARY:Orchestra 
END:VEVENT
BEGIN:VEVENT
DTSTAMP:20260420T001708Z
UID:cc899acf-63a1-4a44-b0a7-ebd41f99812f
DTSTART:20260513T074500
DTEND:20260513T090000
DESCRIPTION:
LOCATION:591 Antelope Dr\, Layton\, UT 84041\, USA
SUMMARY:Orchestra 
END:VEVENT
BEGIN:VEVENT
DTSTAMP:20260420T001708Z
UID:46e5a5f4-a116-4209-a2f4-4b09c058192a
DTSTART:20260514T074500
DTEND:20260514T090000
DESCRIPTION:
LOCATION:591 Antelope Dr\, Layton\, UT 84041\, USA
SUMMARY:Orchestra 
END:VEVENT
BEGIN:VEVENT
DTSTAMP:20260420T001708Z
UID:5b85d544-88b4-4696-9776-276802658780
DTSTART:20260514T074500
DTEND:20260514T090000
DESCRIPTION:
LOCATION:591 Antelope Dr\, Layton\, UT 84041\, USA
SUMMARY:Orchestra 
END:VEVENT
BEGIN:VEVENT
DTSTAMP:20260420T001708Z
UID:37133fde-fa17-4247-95ac-c94eb716e326
DTSTART:20260522T080000
DTEND:20260522T133000
DESCRIPTION:
LOCATION:
SUMMARY:Last Day of School-Early Out
END:VEVENT
END:VCALENDAR
