BEGIN:VCALENDAR
VERSION:2.0
PRODID:icalendar-ruby
CALSCALE:GREGORIAN
BEGIN:VTIMEZONE
TZID:America/Denver
BEGIN:DAYLIGHT
DTSTART:20260308T030000
TZOFFSETFROM:-0700
TZOFFSETTO:-0600
RRULE:FREQ=YEARLY;BYDAY=2SU;BYMONTH=3
TZNAME:MDT
END:DAYLIGHT
BEGIN:STANDARD
DTSTART:20261101T010000
TZOFFSETFROM:-0600
TZOFFSETTO:-0700
RRULE:FREQ=YEARLY;BYDAY=1SU;BYMONTH=11
TZNAME:MST
END:STANDARD
END:VTIMEZONE
BEGIN:VEVENT
DTSTAMP:20260420T112110Z
UID:00f00664-1449-4780-9e4a-5ab53a79df45
DTSTART:20260424T133000
DTEND:20260424T133000
DESCRIPTION:
LOCATION:
SUMMARY:EO 
END:VEVENT
BEGIN:VEVENT
DTSTAMP:20260420T112110Z
UID:a94637bb-46fa-4b71-a9f3-f872d565de88
DTSTART:20260501T133000
DTEND:20260501T133000
DESCRIPTION:
LOCATION:
SUMMARY:EO 
END:VEVENT
BEGIN:VEVENT
DTSTAMP:20260420T112110Z
UID:71c13d80-61e3-48cd-b7ee-4c62902b7f02
DTSTART:20260508T133000
DTEND:20260508T133000
DESCRIPTION:
LOCATION:
SUMMARY:EO 
END:VEVENT
BEGIN:VEVENT
DTSTAMP:20260420T112110Z
UID:594c39de-4eb0-4a6f-b680-fcc9084edcf8
DTSTART;VALUE=DATE:20260513
DTEND;VALUE=DATE:20260514
DESCRIPTION:<html><head><meta http-equiv="Content-Type" content="text/html\
 ; charset=utf-8"><meta name="ProgId" content="Word.Document"><meta name="G
 enerator" content="Microsoft Word 15"><meta name="Originator" content="Mic
 rosoft Word 15"><style><!--@font-face	{font-family:"Cambria Math"}@font-fa
 ce	{font-family:Aptos}@font-face	{font-family:"Brush Script MT"}p.MsoNorma
 l\, li.MsoNormal\, div.MsoNormal	{margin:0in\;	font-size:12.0pt\;	font-fam
 ily:"Aptos"\,sans-serif}a:link\, span.MsoHyperlink	{color:#467886\;	text-d
 ecoration:underline}a:visited\, span.MsoHyperlinkFollowed	{color:#96607D\;
 	text-decoration:underline}span.EmailStyle17	{font-family:"Brush Script MT
 "\;	color:windowtext\;	font-weight:bold\;	font-style:italic}.MsoChpDefault
 	{}@page WordSection1	{margin:1.0in 1.0in 1.0in 1.0in}div.WordSection1	{}-
 -></style></head><body lang="EN-US" link="#467886" vlink="#96607D" style="
 word-wrap:break-word"><div class="WordSection1"><p class="MsoNormal"><b st
 yle=""><i style=""><span style="font-size:24.0pt\; font-family:&quot\;Brus
 h Script MT&quot\;">&nbsp\;</span></i></b></p></div></body></html>
LOCATION:West playground\, conference room \, faculty room
SUMMARY:Patriot days
END:VEVENT
BEGIN:VEVENT
DTSTAMP:20260420T112110Z
UID:fcfde304-d7e5-4a14-947c-639133684c62
DTSTART:20260515T133000
DTEND:20260515T133000
DESCRIPTION:
LOCATION:
SUMMARY:EO 
END:VEVENT
BEGIN:VEVENT
DTSTAMP:20260420T112110Z
UID:943e5c90-2af7-4a56-9311-5ad74d3d85d8
DTSTART:20260520T090000
DTEND:20260520T093000
DESCRIPTION:
LOCATION:
SUMMARY:Field day
END:VEVENT
BEGIN:VEVENT
DTSTAMP:20260420T112110Z
UID:e41510a9-57f1-47e3-bbe1-04964db7816a
DTSTART:20260521T091500
DTEND:20260521T103000
DESCRIPTION:
LOCATION:Activity room
SUMMARY:End of year assembly
END:VEVENT
BEGIN:VEVENT
DTSTAMP:20260420T112110Z
UID:c254b786-5194-4c19-81bb-0f6339b0ac68
DTSTART:20260521T103000
DTEND:20260521T113000
DESCRIPTION:
LOCATION:Activity room
SUMMARY:6th grade graduation
END:VEVENT
BEGIN:VEVENT
DTSTAMP:20260420T112110Z
UID:8524bd2c-38d3-4092-8e70-286860fd644b
DTSTART:20260521T103000
DTEND:20260521T111000
DESCRIPTION:
LOCATION:Outdoor classroom
SUMMARY:Yearbook signing
END:VEVENT
BEGIN:VEVENT
DTSTAMP:20260420T112110Z
UID:0199dcf9-a6d0-452d-b38d-a796aae170d6
DTSTART;VALUE=DATE:20260522
DTEND;VALUE=DATE:20260523
DESCRIPTION:
LOCATION:
SUMMARY:Last day of school (EO)
END:VEVENT
BEGIN:VEVENT
DTSTAMP:20260420T112110Z
UID:e6729302-1e92-4005-866d-68fda2a84388
DTSTART:20260522T133000
DTEND:20260522T133000
DESCRIPTION:
LOCATION:
SUMMARY:EO 
END:VEVENT
END:VCALENDAR
