BEGIN:VCALENDAR
VERSION:2.0
PRODID:icalendar-ruby
CALSCALE:GREGORIAN
BEGIN:VTIMEZONE
TZID:America/Denver
BEGIN:DAYLIGHT
DTSTART:20260308T030000
TZOFFSETFROM:-0700
TZOFFSETTO:-0600
RRULE:FREQ=YEARLY;BYDAY=2SU;BYMONTH=3
TZNAME:MDT
END:DAYLIGHT
BEGIN:STANDARD
DTSTART:20261101T010000
TZOFFSETFROM:-0600
TZOFFSETTO:-0700
RRULE:FREQ=YEARLY;BYDAY=1SU;BYMONTH=11
TZNAME:MST
END:STANDARD
END:VTIMEZONE
BEGIN:VEVENT
DTSTAMP:20260423T053620Z
UID:26d92129-4bae-41b7-b099-e00a177e643d
DTSTART;VALUE=DATE:20260420
DTEND;VALUE=DATE:20260502
DESCRIPTION:<html><head><meta http-equiv="Content-Type" content="text/html\
 ; charset=utf-8"></head><body><p>Our elementary school is coming together 
 for a meaningful cause\, and we’d love your support!</p><p>From <strong>
 April 20th through May 1st</strong>\, we are hosting a food drive to help 
 stock the food pantry at a neighboring elementary school in our community.
  Many families rely on these resources\, and even small donations can make
  a big difference.</p><p>We are collecting non-perishable food items such 
 as canned goods\, pasta\, rice\, cereal\, and other shelf-stable essential
 s.</p><p>As an added bonus\, each <em>neighborhood</em> in our school will
  be working together—and the neighborhood that donates the most will win
  a special prize! Along with the excitement of a little friendly competiti
 on\, students will also experience the joy of giving back and helping othe
 rs.</p><p>Let’s show our students the power of kindness\, generosity\, a
 nd community. If you’re able to contribute\, please send donations with 
 your child or drop them off at the school during this time.</p><p>Thank yo
 u for helping us support our neighbors and make a positive impact!</p></bo
 dy></html>
LOCATION:
SUMMARY:Food-for-Friends (Food Drive)
END:VEVENT
BEGIN:VEVENT
DTSTAMP:20260423T053620Z
UID:a1c4efd8-ed42-4148-9f8b-b1127d2f9134
DTSTART:20260422T170000
DTEND:20260422T200000
DESCRIPTION:<html><head><meta http-equiv="Content-Type" content="text/html\
 ; charset=utf-8"></head><body><p>Come one. Come all! To the greatest show 
 on earth!<br><br>Join us\, come view art made by all of our extraordinary 
 artist\, it's sure to amaze you!<br>Artwork will be for sale the night of 
 the Gala. The money collected goes directly back into the art program.<br>
 <br><br></p></body></html>
LOCATION:
SUMMARY:Great Artist Gala
END:VEVENT
BEGIN:VEVENT
DTSTAMP:20260423T053620Z
UID:8ca05cc9-6aef-41fa-8251-35d86a3630de
DTSTART;VALUE=DATE:20260424
DTEND;VALUE=DATE:20260425
DESCRIPTION:
LOCATION:
SUMMARY:No School - Teacher Compensation Day
END:VEVENT
BEGIN:VEVENT
DTSTAMP:20260423T053620Z
UID:7e287053-f5dd-431e-8aaf-ea91d82d3ad8
DTSTART:20260501T133000
DTEND:20260501T140000
DESCRIPTION:<html><head><meta http-equiv="Content-Type" content="text/html\
 ; charset=utf-8"></head><body><p>Student Council is selling suckers for $1
 .00/each after school on the first Friday of each month.</p></body></html>
LOCATION:
SUMMARY:Sucker Sales
END:VEVENT
BEGIN:VEVENT
DTSTAMP:20260423T053620Z
UID:83a07f0c-5d5a-401f-ac7c-9241e9f684f1
DTSTART;VALUE=DATE:20260504
DTEND;VALUE=DATE:20260509
DESCRIPTION:
LOCATION:
SUMMARY:Teacher Appreciation Week
END:VEVENT
BEGIN:VEVENT
DTSTAMP:20260423T053620Z
UID:fbb50375-aacd-445d-a7b1-ab83a307f734
DTSTART;VALUE=DATE:20260519
DTEND;VALUE=DATE:20260520
DESCRIPTION:
LOCATION:
SUMMARY:Field Day
END:VEVENT
BEGIN:VEVENT
DTSTAMP:20260423T053620Z
UID:426cd22a-03f4-40db-b8dd-7513cc7180ef
DTSTART:20260522T085000
DTEND:20260522T133000
DESCRIPTION:<html><head><meta http-equiv="Content-Type" content="text/html\
 ; charset=utf-8"></head><body><p>Student will be excused at 1:30pm this da
 y.</p></body></html>
LOCATION:
SUMMARY:Last Day of School
END:VEVENT
END:VCALENDAR
