BEGIN:VCALENDAR
VERSION:2.0
PRODID:icalendar-ruby
CALSCALE:GREGORIAN
BEGIN:VTIMEZONE
TZID:America/Denver
BEGIN:DAYLIGHT
DTSTART:20260308T030000
TZOFFSETFROM:-0700
TZOFFSETTO:-0600
RRULE:FREQ=YEARLY;BYDAY=2SU;BYMONTH=3
TZNAME:MDT
END:DAYLIGHT
BEGIN:STANDARD
DTSTART:20261101T010000
TZOFFSETFROM:-0600
TZOFFSETTO:-0700
RRULE:FREQ=YEARLY;BYDAY=1SU;BYMONTH=11
TZNAME:MST
END:STANDARD
END:VTIMEZONE
BEGIN:VEVENT
DTSTAMP:20260420T130049Z
UID:c4af9db3-002e-4896-9f9c-4c16075d5059
DTSTART:20260420T173000
DTEND:20260420T193000
DESCRIPTION:<html><head><meta http-equiv="Content-Type" content="text/html\
 ; charset=utf-8"></head><body><div></div></body></html>
LOCATION:
SUMMARY:Art Walk Night
END:VEVENT
BEGIN:VEVENT
DTSTAMP:20260420T130049Z
UID:b23fef66-b48d-4dd3-92aa-a01cd84e7737
DTSTART:20260421T074000
DTEND:20260421T093000
DESCRIPTION:<html><head><meta http-equiv="Content-Type" content="text/html\
 ; charset=utf-8"></head><body><div></div></body></html>
LOCATION:
SUMMARY:6th Grade Orchestra Practice in Library 
END:VEVENT
BEGIN:VEVENT
DTSTAMP:20260420T130049Z
UID:1168d492-42ca-486d-aad5-58ed5622fe56
DTSTART:20260421T113000
DTEND:20260421T130000
DESCRIPTION:<html><head><meta http-equiv="Content-Type" content="text/html\
 ; charset=utf-8"></head><body><div></div></body></html>
LOCATION:
SUMMARY:BOGO Book Fair During Lunch
END:VEVENT
BEGIN:VEVENT
DTSTAMP:20260420T130049Z
UID:4076399f-fae6-47c1-a6e0-d7dc30b771a0
DTSTART:20260421T170000
DTEND:20260421T183000
DESCRIPTION:<html><head><meta http-equiv="Content-Type" content="text/html\
 ; charset=utf-8"></head><body><div class="cal_e180"><div><div></div></div>
 </div></body></html>
LOCATION:
SUMMARY:BOGO Book Fair
END:VEVENT
BEGIN:VEVENT
DTSTAMP:20260420T130049Z
UID:606e3c62-63b4-4c77-8393-bf1f1fd5e14a
DTSTART:20260422T083000
DTEND:20260422T085000
DESCRIPTION:<html><head><meta http-equiv="Content-Type" content="text/html\
 ; charset=utf-8"></head><body><div></div></body></html>
LOCATION:
SUMMARY:Chess Club in Library
END:VEVENT
BEGIN:VEVENT
DTSTAMP:20260420T130049Z
UID:b793e5fb-2b86-419a-b106-f8c7ff35662f
DTSTART:20260422T113000
DTEND:20260422T130000
DESCRIPTION:<html><head><meta http-equiv="Content-Type" content="text/html\
 ; charset=utf-8"></head><body><div class="cal_15aa"><div><div></div></div>
 </div></body></html>
LOCATION:
SUMMARY:BOGO Book Fair During Lunch
END:VEVENT
BEGIN:VEVENT
DTSTAMP:20260420T130049Z
UID:034a4640-aba0-4b07-ae96-367d6e183ba9
DTSTART:20260422T133000
DTEND:20260422T135500
DESCRIPTION:<html><head><meta http-equiv="Content-Type" content="text/html\
 ; charset=utf-8"></head><body><div></div></body></html>
LOCATION:Library
SUMMARY:5th/6th Book Club
END:VEVENT
BEGIN:VEVENT
DTSTAMP:20260420T130049Z
UID:48f2d1be-1603-412c-8b32-e3759f013943
DTSTART:20260423T100000
DTEND:20260423T114500
DESCRIPTION:<html><head><meta http-equiv="Content-Type" content="text/html\
 ; charset=utf-8"></head><body><div></div></body></html>
LOCATION:
SUMMARY: 4th Grade DLI Visits North Davis Academy to attend their Spanish S
 cience Fair
END:VEVENT
BEGIN:VEVENT
DTSTAMP:20260420T130049Z
UID:5f8b72a7-5062-4c64-a946-028af70c55b0
DTSTART:20260423T143000
DTEND:20260423T153000
DESCRIPTION:<html><head><meta http-equiv="Content-Type" content="text/html\
 ; charset=utf-8"><meta name="Generator" content="Microsoft Exchange Server
 "><!-- converted from text --><style><!-- .EmailQuote { margin-left: 1pt\;
  padding-left: 4pt\; border-left: #800000 2px solid\; } --></style></head>
 <body><font size="2"><span style="font-size:11pt\;"><div class="PlainText"
 >&nbsp\;</div></span></font></body></html>
LOCATION:
SUMMARY:6th grade Farmington High Dance 2:30-3:30 gym
END:VEVENT
BEGIN:VEVENT
DTSTAMP:20260420T130049Z
UID:0c3452fe-19c8-45be-88a7-036eda763774
DTSTART:20260423T153000
DTEND:20260423T163000
DESCRIPTION:<html><head><meta http-equiv="Content-Type" content="text/html\
 ; charset=utf-8"></head><body><div></div></body></html>
LOCATION:
SUMMARY:Olympiad Practice
END:VEVENT
BEGIN:VEVENT
DTSTAMP:20260420T130049Z
UID:04606a3c-4503-44d9-91fa-f9eea2f2deb2
DTSTART;VALUE=DATE:20260424
DTEND;VALUE=DATE:20260425
DESCRIPTION:<html><head><meta http-equiv="Content-Type" content="text/html\
 ; charset=utf-8"><meta name="Generator" content="Microsoft Exchange Server
 "><!-- converted from text --><style><!-- .EmailQuote { margin-left: 1pt\;
  padding-left: 4pt\; border-left: #800000 2px solid\; } --></style></head>
 <body><font size="2"><span style="font-size:11pt\;"><div class="PlainText"
 >&nbsp\;</div></span></font></body></html>
LOCATION:
SUMMARY:6th grade in gym 12-1:00
END:VEVENT
BEGIN:VEVENT
DTSTAMP:20260420T130049Z
UID:1c795329-08a6-4ee6-a14a-263d23efda54
DTSTART;VALUE=DATE:20260424
DTEND;VALUE=DATE:20260425
DESCRIPTION:<html><head><meta http-equiv="Content-Type" content="text/html\
 ; charset=utf-8"></head><body><div></div></body></html>
LOCATION:
SUMMARY:Teacher Comp Day- No School
END:VEVENT
BEGIN:VEVENT
DTSTAMP:20260420T130049Z
UID:32912390-cb26-49ba-b39e-52a928bd1666
DTSTART:20260424T133000
DTEND:20260424T150000
DESCRIPTION:
LOCATION:Room A111
SUMMARY:Robotics Practice 
END:VEVENT
BEGIN:VEVENT
DTSTAMP:20260420T130049Z
UID:8c636ba6-f9df-43ca-be6a-35912071f233
DTSTART:20260428T074000
DTEND:20260428T093000
DESCRIPTION:<html><head><meta http-equiv="Content-Type" content="text/html\
 ; charset=utf-8"></head><body><div></div></body></html>
LOCATION:
SUMMARY:6th Grade Orchestra Practice in Library 
END:VEVENT
BEGIN:VEVENT
DTSTAMP:20260420T130049Z
UID:72564b3f-71e7-440b-81ed-ad2ba3d574c5
DTSTART:20260428T153000
DTEND:20260428T160000
DESCRIPTION:<html><head><meta http-equiv="Content-Type" content="text/html\
 ; charset=utf-8"></head><body><div></div></body></html>
LOCATION:
SUMMARY:Championship Martial Arts After School Program
END:VEVENT
BEGIN:VEVENT
DTSTAMP:20260420T130049Z
UID:54d1ca43-9d28-4121-8407-5f60331e53fb
DTSTART;VALUE=DATE:20260429
DTEND;VALUE=DATE:20260430
DESCRIPTION:<html><head><meta http-equiv="Content-Type" content="text/html\
 ; charset=utf-8"><meta name="Generator" content="Microsoft Exchange Server
 "><!-- converted from text --><style><!-- .EmailQuote { margin-left: 1pt\;
  padding-left: 4pt\; border-left: #800000 2px solid\; } --></style></head>
 <body><font size="2"><span style="font-size:11pt\;"><div class="PlainText"
 >&nbsp\;</div></span></font></body></html>
LOCATION:
SUMMARY:6th grade in Blue House Common Area 9-11:30
END:VEVENT
BEGIN:VEVENT
DTSTAMP:20260420T130049Z
UID:c9e56d43-bad7-450b-955e-5f210506a456
DTSTART:20260429T083000
DTEND:20260429T085000
DESCRIPTION:<html><head><meta http-equiv="Content-Type" content="text/html\
 ; charset=utf-8"></head><body><div></div></body></html>
LOCATION:
SUMMARY:Chess Club in Library
END:VEVENT
BEGIN:VEVENT
DTSTAMP:20260420T130049Z
UID:123870e5-e9f2-4eee-bdc4-ebb925148c67
DTSTART:20260429T133000
DTEND:20260429T135500
DESCRIPTION:<html><head><meta http-equiv="Content-Type" content="text/html\
 ; charset=utf-8"></head><body><div></div></body></html>
LOCATION:Library
SUMMARY:5th/6th Book Club
END:VEVENT
BEGIN:VEVENT
DTSTAMP:20260420T130049Z
UID:412137d3-6566-4faf-8a1c-3a3400aa271a
DTSTART:20260430T153000
DTEND:20260430T160000
DESCRIPTION:<html><head><meta http-equiv="Content-Type" content="text/html\
 ; charset=utf-8"></head><body><div class="cal_5c6b"><div><div></div></div>
 </div></body></html>
LOCATION:
SUMMARY:Championship Martial Arts After School Program
END:VEVENT
BEGIN:VEVENT
DTSTAMP:20260420T130049Z
UID:34e9a5cd-1bae-415e-874a-480234a567e9
DTSTART;VALUE=DATE:20260501
DTEND;VALUE=DATE:20260502
DESCRIPTION:<html><head><meta http-equiv="Content-Type" content="text/html\
 ; charset=utf-8"><meta name="Generator" content="Microsoft Exchange Server
 "><!-- converted from text --><style><!-- .EmailQuote { margin-left: 1pt\;
  padding-left: 4pt\; border-left: #800000 2px solid\; } --></style></head>
 <body><font size="2"><span style="font-size:11pt\;"><div class="PlainText"
 >&nbsp\;</div></span></font></body></html>
LOCATION:
SUMMARY:6th grade in gym 12-1:30
END:VEVENT
BEGIN:VEVENT
DTSTAMP:20260420T130049Z
UID:f563b238-5419-4074-b53a-c1cb5e4ed66f
DTSTART:20260501T133000
DTEND:20260501T143000
DESCRIPTION:<html><head><meta http-equiv="Content-Type" content="text/html\
 ; charset=utf-8"></head><body><div></div></body></html>
LOCATION:
SUMMARY:Olympiad Practice
END:VEVENT
BEGIN:VEVENT
DTSTAMP:20260420T130049Z
UID:056c49ce-6354-4bce-8dd9-bd4702d323f3
DTSTART:20260501T133000
DTEND:20260501T150000
DESCRIPTION:
LOCATION:Room A111
SUMMARY:Robotics Practice 
END:VEVENT
BEGIN:VEVENT
DTSTAMP:20260420T130049Z
UID:813f7a7f-b690-4e96-bf59-fff1f19d52fa
DTSTART:20260504T083000
DTEND:20260504T120000
DESCRIPTION:<html><head><meta http-equiv="Content-Type" content="text/html\
 ; charset=utf-8"></head><body><div></div></body></html>
LOCATION:Central Davis Jr High\, Central Davis Jr High\, Layton\, Utah\, 84
 041
SUMMARY:STEM Olympiad
END:VEVENT
BEGIN:VEVENT
DTSTAMP:20260420T130049Z
UID:5d27977f-c73b-4b82-8c46-87e5478405dc
DTSTART:20260505T074000
DTEND:20260505T093000
DESCRIPTION:<html><head><meta http-equiv="Content-Type" content="text/html\
 ; charset=utf-8"></head><body><div></div></body></html>
LOCATION:
SUMMARY:6th Grade Orchestra Practice in Library 
END:VEVENT
BEGIN:VEVENT
DTSTAMP:20260420T130049Z
UID:28547464-8cdd-4421-bd87-e284c92422a7
DTSTART:20260505T111500
DTEND:20260505T130000
DESCRIPTION:<html><head><meta http-equiv="Content-Type" content="text/html\
 ; charset=utf-8"></head><body><div style="font-family:Verdana\,Geneva\,san
 s-serif\; font-size:12pt\; color:rgb(0\,0\,0)"></div><div style="font-fami
 ly:Verdana\,Geneva\,sans-serif\; font-size:12pt\; color:rgb(0\,0\,0)"><br>
 </div></body></html>
LOCATION:
SUMMARY:Birthday Table During Lunch
END:VEVENT
BEGIN:VEVENT
DTSTAMP:20260420T130049Z
UID:77f811c1-2672-4269-bcad-417d1061d8ae
DTSTART:20260505T113000
DTEND:20260505T130000
DESCRIPTION:<html><head><meta http-equiv="Content-Type" content="text/html\
 ; charset=utf-8"></head><body><div></div></body></html>
LOCATION:
SUMMARY:Birthday Table
END:VEVENT
BEGIN:VEVENT
DTSTAMP:20260420T130049Z
UID:707a9031-e395-4cc4-9ea9-012f9e2b577d
DTSTART:20260505T120000
DTEND:20260505T130000
DESCRIPTION:<html><head><meta http-equiv="Content-Type" content="text/html\
 ; charset=utf-8"></head><body><div></div></body></html>
LOCATION:Eagle Bay Conference Room
SUMMARY:PTA Meeting
END:VEVENT
BEGIN:VEVENT
DTSTAMP:20260420T130049Z
UID:7614141d-0d60-4951-ade0-a3f04c7874a4
DTSTART:20260505T180000
DTEND:20260505T200000
DESCRIPTION:<html><head><meta http-equiv="Content-Type" content="text/html\
 ; charset=utf-8"></head><body><div></div></body></html>
LOCATION:Shoreline Junior High\, 1150 Westside Dr\, Layton\, UT\, 84041
SUMMARY:Monster Concert Orchestra Performance
END:VEVENT
BEGIN:VEVENT
DTSTAMP:20260420T130049Z
UID:f8b6b06e-adfc-4600-ad89-67282e161680
DTSTART;VALUE=DATE:20260506
DTEND;VALUE=DATE:20260507
DESCRIPTION:<html><head><meta http-equiv="Content-Type" content="text/html\
 ; charset=utf-8"><meta name="Generator" content="Microsoft Exchange Server
 "><!-- converted from text --><style><!-- .EmailQuote { margin-left: 1pt\;
  padding-left: 4pt\; border-left: #800000 2px solid\; } --></style></head>
 <body><font size="2"><span style="font-size:11pt\;"><div class="PlainText"
 >&nbsp\;</div></span></font></body></html>
LOCATION:
SUMMARY:6th grade in Blue House Common Area 9-11:30
END:VEVENT
BEGIN:VEVENT
DTSTAMP:20260420T130049Z
UID:0ec13c0c-3880-40cd-922a-07afbd761039
DTSTART:20260506T083000
DTEND:20260506T085000
DESCRIPTION:<html><head><meta http-equiv="Content-Type" content="text/html\
 ; charset=utf-8"></head><body><div></div></body></html>
LOCATION:
SUMMARY:Chess Club in Library
END:VEVENT
BEGIN:VEVENT
DTSTAMP:20260420T130049Z
UID:d429797a-9894-420b-88e4-cf32cfb4d232
DTSTART:20260506T133000
DTEND:20260506T135500
DESCRIPTION:<html><head><meta http-equiv="Content-Type" content="text/html\
 ; charset=utf-8"></head><body><div></div></body></html>
LOCATION:Library
SUMMARY:5th/6th Book Club
END:VEVENT
BEGIN:VEVENT
DTSTAMP:20260420T130049Z
UID:cfd9417a-4346-4edf-9854-eb280677df4b
DTSTART:20260507T113000
DTEND:20260507T130000
DESCRIPTION:<html><head><meta http-equiv="Content-Type" content="text/html\
 ; charset=utf-8"></head><body><div></div></body></html>
LOCATION:
SUMMARY:Birthday Table
END:VEVENT
BEGIN:VEVENT
DTSTAMP:20260420T130049Z
UID:71a0a37a-fc2d-4978-8a2e-9af24f6ce0f0
DTSTART:20260508T090000
DTEND:20260508T094500
DESCRIPTION:<html><head><meta http-equiv="Content-Type" content="text/html\
 ; charset=utf-8"></head><body><div></div></body></html>
LOCATION:
SUMMARY:Plan-B Theatre Assembly (K-3)
END:VEVENT
BEGIN:VEVENT
DTSTAMP:20260420T130049Z
UID:0fb59b36-82bf-4ee0-a1a4-e769cde80f77
DTSTART:20260508T103000
DTEND:20260508T110000
DESCRIPTION:<html><head><meta http-equiv="Content-Type" content="text/html\
 ; charset=utf-8"></head><body><div></div></body></html>
LOCATION:
SUMMARY:Pirates of Grammar Island for School (K-6)
END:VEVENT
BEGIN:VEVENT
DTSTAMP:20260420T130049Z
UID:4172770f-c037-4eb5-b72d-7257fcae0f57
DTSTART:20260508T123000
DTEND:20260508T133000
DESCRIPTION:<html><head><meta http-equiv="Content-Type" content="text/html\
 ; charset=utf-8"></head><body><div></div></body></html>
LOCATION:
SUMMARY:Pirates of Grammar Island Parent Performance
END:VEVENT
BEGIN:VEVENT
DTSTAMP:20260420T130049Z
UID:4ebd8cbd-7fa6-4152-bd76-a3f34c9ac3fa
DTSTART;VALUE=DATE:20260512
DTEND;VALUE=DATE:20260513
DESCRIPTION:<html><head><meta http-equiv="Content-Type" content="text/html\
 ; charset=utf-8"><meta name="Generator" content="Microsoft Exchange Server
 "><!-- converted from text --><style><!-- .EmailQuote { margin-left: 1pt\;
  padding-left: 4pt\; border-left: #800000 2px solid\; } --></style></head>
 <body><font size="2"><span style="font-size:11pt\;"><div class="PlainText"
 >&nbsp\;</div></span></font></body></html>
LOCATION:
SUMMARY:1st grade to Treehouse Museum 9-1:30
END:VEVENT
BEGIN:VEVENT
DTSTAMP:20260420T130049Z
UID:f5ec43db-4c8f-443f-964c-bc6c6c1ad5ee
DTSTART:20260512T090000
DTEND:20260512T133000
DESCRIPTION:<html><head><meta http-equiv="Content-Type" content="text/html\
 ; charset=utf-8"></head><body><div></div></body></html>
LOCATION:
SUMMARY:1st Grade Goes to Treehouse Museum
END:VEVENT
BEGIN:VEVENT
DTSTAMP:20260420T130049Z
UID:c1dccb17-9684-408e-a0d0-a242b261eb2b
DTSTART:20260512T090000
DTEND:20260512T130000
DESCRIPTION:<html><head><meta http-equiv="Content-Type" content="text/html\
 ; charset=utf-8"></head><body><div></div></body></html>
LOCATION:
SUMMARY:2nd Grade Goes to Ogden Nature Center
END:VEVENT
BEGIN:VEVENT
DTSTAMP:20260420T130049Z
UID:e42d1518-4772-4a37-9c7b-48bf6d621148
DTSTART;VALUE=DATE:20260513
DTEND;VALUE=DATE:20260514
DESCRIPTION:<html><head><meta http-equiv="Content-Type" content="text/html\
 ; charset=utf-8"><meta name="Generator" content="Microsoft Exchange Server
 "><!-- converted from text --><style><!-- .EmailQuote { margin-left: 1pt\;
  padding-left: 4pt\; border-left: #800000 2px solid\; } --></style></head>
 <body><font size="2"><span style="font-size:11pt\;"><div class="PlainText"
 >&nbsp\;</div></span></font></body></html>
LOCATION:
SUMMARY:5th grade to Children's Museum 9:30-1:30
END:VEVENT
BEGIN:VEVENT
DTSTAMP:20260420T130049Z
UID:e241bb97-a501-4278-8050-d6686c6981f1
DTSTART;VALUE=DATE:20260513
DTEND;VALUE=DATE:20260514
DESCRIPTION:<html><head><meta http-equiv="Content-Type" content="text/html\
 ; charset=utf-8"><meta name="Generator" content="Microsoft Exchange Server
 "><!-- converted from text --><style><!-- .EmailQuote { margin-left: 1pt\;
  padding-left: 4pt\; border-left: #800000 2px solid\; } --></style></head>
 <body><font size="2"><span style="font-size:11pt\;"><div class="PlainText"
 >&nbsp\;</div></span></font></body></html>
LOCATION:
SUMMARY:6th grade in Blue House Common Area 9-11:30
END:VEVENT
BEGIN:VEVENT
DTSTAMP:20260420T130049Z
UID:3eda8f9c-3d06-434a-8e5e-0d2dd60968a3
DTSTART;VALUE=DATE:20260513
DTEND;VALUE=DATE:20260515
DESCRIPTION:<html><head><meta http-equiv="Content-Type" content="text/html\
 ; charset=utf-8"></head><body><div></div></body></html>
LOCATION:
SUMMARY:Kindergarten Testing Days
END:VEVENT
BEGIN:VEVENT
DTSTAMP:20260420T130049Z
UID:de5b1ab4-b22d-4696-94ff-620bef288f00
DTSTART:20260513T083000
DTEND:20260513T085000
DESCRIPTION:<html><head><meta http-equiv="Content-Type" content="text/html\
 ; charset=utf-8"></head><body><div></div></body></html>
LOCATION:
SUMMARY:Chess Club in Library
END:VEVENT
BEGIN:VEVENT
DTSTAMP:20260420T130049Z
UID:d1c2f616-dfef-442d-9857-b9bf88633028
DTSTART:20260513T093000
DTEND:20260513T133000
DESCRIPTION:<html><head><meta http-equiv="Content-Type" content="text/html\
 ; charset=utf-8"></head><body><div></div></body></html>
LOCATION:
SUMMARY:5th Grade Goes to Gateway Museum
END:VEVENT
BEGIN:VEVENT
DTSTAMP:20260420T130049Z
UID:8a60664e-07dd-4518-b88a-b1c776629fde
DTSTART:20260513T133000
DTEND:20260513T135500
DESCRIPTION:<html><head><meta http-equiv="Content-Type" content="text/html\
 ; charset=utf-8"></head><body><div></div></body></html>
LOCATION:Library
SUMMARY:5th/6th Book Club
END:VEVENT
BEGIN:VEVENT
DTSTAMP:20260420T130049Z
UID:ff2a4e40-343b-44d5-ac94-93770c8bf138
DTSTART;VALUE=DATE:20260515
DTEND;VALUE=DATE:20260516
DESCRIPTION:<html><head><meta http-equiv="Content-Type" content="text/html\
 ; charset=utf-8"><meta name="Generator" content="Microsoft Exchange Server
 "><!-- converted from text --><style><!-- .EmailQuote { margin-left: 1pt\;
  padding-left: 4pt\; border-left: #800000 2px solid\; } --></style></head>
 <body><font size="2"><span style="font-size:11pt\;"><div class="PlainText"
 >&nbsp\;</div></span></font></body></html>
LOCATION:
SUMMARY:6th grade in gym 12-1:30
END:VEVENT
BEGIN:VEVENT
DTSTAMP:20260420T130049Z
UID:cb33cf86-68dd-48fc-b88d-d0cdf0f45464
DTSTART:20260515T091500
DTEND:20260515T103000
DESCRIPTION:<html><head><meta http-equiv="Content-Type" content="text/html\
 ; charset=utf-8"></head><body><div></div></body></html>
LOCATION:
SUMMARY:3rd Grade Wax Museum
END:VEVENT
BEGIN:VEVENT
DTSTAMP:20260420T130049Z
UID:b2637731-7b6b-493b-991b-1b02407bb522
DTSTART:20260518T100000
DTEND:20260518T120000
DESCRIPTION:<html><head><meta http-equiv="Content-Type" content="text/html\
 ; charset=utf-8"></head><body><div></div></body></html>
LOCATION:farmington pool
SUMMARY:6th Grade Pool Party
END:VEVENT
BEGIN:VEVENT
DTSTAMP:20260420T130049Z
UID:83dc98e3-2fa2-466f-ad50-edcaa5b4082b
DTSTART;VALUE=DATE:20260519
DTEND;VALUE=DATE:20260520
DESCRIPTION:<html><head><meta http-equiv="Content-Type" content="text/html\
 ; charset=utf-8"><meta name="Generator" content="Microsoft Exchange Server
 "><!-- converted from text --><style><!-- .EmailQuote { margin-left: 1pt\;
  padding-left: 4pt\; border-left: #800000 2px solid\; } --></style></head>
 <body><font size="2"><span style="font-size:11pt\;"><div class="PlainText"
 >&nbsp\;</div></span></font></body></html>
LOCATION:
SUMMARY:3rd grade field trip to Hogle Zoo
END:VEVENT
BEGIN:VEVENT
DTSTAMP:20260420T130049Z
UID:9fe21b7a-22d8-48c8-8016-f50222366aee
DTSTART:20260519T150000
DTEND:20260519T151500
DESCRIPTION:<html><head><meta http-equiv="Content-Type" content="text/html\
 ; charset=utf-8"></head><body><div></div></body></html>
LOCATION:
SUMMARY:Fire Drill
END:VEVENT
BEGIN:VEVENT
DTSTAMP:20260420T130049Z
UID:1b243dd6-2266-4ae8-8ae0-544218674e8a
DTSTART;VALUE=DATE:20260520
DTEND;VALUE=DATE:20260521
DESCRIPTION:<html><head><meta http-equiv="Content-Type" content="text/html\
 ; charset=utf-8"><meta name="Generator" content="Microsoft Exchange Server
 "><!-- converted from text --><style><!-- .EmailQuote { margin-left: 1pt\;
  padding-left: 4pt\; border-left: #800000 2px solid\; } --></style></head>
 <body><font size="2"><span style="font-size:11pt\;"><div class="PlainText"
 >&nbsp\;</div></span></font></body></html>
LOCATION:
SUMMARY:6th grade in Blue House Common Area 9-11:30
END:VEVENT
BEGIN:VEVENT
DTSTAMP:20260420T130049Z
UID:ec90c380-5ac0-4a8a-9249-c576e9f00315
DTSTART:20260520T180000
DTEND:20260520T190000
DESCRIPTION:
LOCATION:Farmington High School Auditorium
SUMMARY:Spanish Cultural Celebration
END:VEVENT
BEGIN:VEVENT
DTSTAMP:20260420T130049Z
UID:7747d7d9-e392-4c08-8a4d-5c0dc2eb32d7
DTSTART:20260521T130000
DTEND:20260521T153000
DESCRIPTION:<html><head><meta http-equiv="Content-Type" content="text/html\
 ; charset=utf-8"></head><body><div></div></body></html>
LOCATION:
SUMMARY:Field Day
END:VEVENT
BEGIN:VEVENT
DTSTAMP:20260420T130049Z
UID:3e9197e3-61a4-48d3-a6bc-cfa5c110866d
DTSTART;VALUE=DATE:20260522
DTEND;VALUE=DATE:20260523
DESCRIPTION:<html><head><meta http-equiv="Content-Type" content="text/html\
 ; charset=utf-8"><meta name="Generator" content="Microsoft Exchange Server
 "><!-- converted from text --><style><!-- .EmailQuote { margin-left: 1pt\;
  padding-left: 4pt\; border-left: #800000 2px solid\; } --></style></head>
 <body><font size="2"><span style="font-size:11pt\;"><div class="PlainText"
 >&nbsp\;</div></span></font></body></html>
LOCATION:
SUMMARY:6th grade graduation 9:00
END:VEVENT
BEGIN:VEVENT
DTSTAMP:20260420T130049Z
UID:0c37bc90-029f-48e9-ad63-11ff2ab8bf26
DTSTART;VALUE=DATE:20260522
DTEND;VALUE=DATE:20260523
DESCRIPTION:<html><head><meta http-equiv="Content-Type" content="text/html\
 ; charset=utf-8"></head><body><div></div></body></html>
LOCATION:
SUMMARY:Last Day of School
END:VEVENT
BEGIN:VEVENT
DTSTAMP:20260420T130049Z
UID:4ab9d220-6d51-4ab4-b6e9-44017972c379
DTSTART:20260522T090000
DTEND:20260522T100000
DESCRIPTION:<html><head><meta http-equiv="Content-Type" content="text/html\
 ; charset=utf-8"></head><body><div></div></body></html>
LOCATION:
SUMMARY:6th Grade Graduation
END:VEVENT
BEGIN:VEVENT
DTSTAMP:20260420T130049Z
UID:65e7f14b-f843-4ca7-93ce-9aac0e4fa164
DTSTART;VALUE=DATE:20260925
DTEND;VALUE=DATE:20260926
DESCRIPTION:<html><head><meta http-equiv="Content-Type" content="text/html\
 ; charset=utf-8"></head><body><div></div></body></html>
LOCATION:
SUMMARY:Class and Individual Picture Day
END:VEVENT
BEGIN:VEVENT
DTSTAMP:20260420T130049Z
UID:6169def9-2873-4a91-a98e-dbaf7b82682b
DTSTART;VALUE=DATE:20260929
DTEND;VALUE=DATE:20260930
DESCRIPTION:<html><head><meta http-equiv="Content-Type" content="text/html\
 ; charset=utf-8"><meta name="Generator" content="Microsoft Exchange Server
 "><!-- converted from text --><style><!-- .EmailQuote { margin-left: 1pt\;
  padding-left: 4pt\; border-left: #800000 2px solid\; } --></style></head>
 <body><font size="2"><span style="font-size:11pt\;"><div class="PlainText"
 >&nbsp\;</div></span></font></body></html>
LOCATION:
SUMMARY:6th grade rocket launch 9:15 a.m.
END:VEVENT
BEGIN:VEVENT
DTSTAMP:20260420T130049Z
UID:9dc4db55-cb6a-4d13-bb50-1e7827557a6a
DTSTART:20261109T153000
DTEND:20261109T160000
DESCRIPTION:
LOCATION:
SUMMARY:Karate After School
END:VEVENT
END:VCALENDAR
