BEGIN:VCALENDAR
VERSION:2.0
PRODID:icalendar-ruby
CALSCALE:GREGORIAN
BEGIN:VTIMEZONE
TZID:America/Denver
BEGIN:DAYLIGHT
DTSTART:20260308T030000
TZOFFSETFROM:-0700
TZOFFSETTO:-0600
RRULE:FREQ=YEARLY;BYDAY=2SU;BYMONTH=3
TZNAME:MDT
END:DAYLIGHT
BEGIN:STANDARD
DTSTART:20261101T010000
TZOFFSETFROM:-0600
TZOFFSETTO:-0700
RRULE:FREQ=YEARLY;BYDAY=1SU;BYMONTH=11
TZNAME:MST
END:STANDARD
END:VTIMEZONE
BEGIN:VEVENT
DTSTAMP:20260424T235521Z
UID:1f1d8839-f382-48eb-ad11-8fa6578fdc6d
DTSTART;VALUE=DATE:20260424
DTEND;VALUE=DATE:20260425
DESCRIPTION:
LOCATION:
SUMMARY:No School - Teacher Compensation Day
END:VEVENT
BEGIN:VEVENT
DTSTAMP:20260424T235521Z
UID:a45b6323-9dbe-4154-a8d1-b728d83ef060
DTSTART;VALUE=DATE:20260428
DTEND;VALUE=DATE:20260429
DESCRIPTION:<html><head><meta http-equiv="Content-Type" content="text/html\
 ; charset=utf-8"><meta name="Generator" content="Microsoft Word 15 (filter
 ed medium)"><style><!--@font-face	{font-family:"Cambria Math"}@font-face	{
 font-family:Aptos}p.MsoNormal\, li.MsoNormal\, div.MsoNormal	{margin:0in\;
 	font-size:12.0pt\;	font-family:"Aptos"\,sans-serif}span.EmailStyle17	{fon
 t-family:"Aptos"\,sans-serif\;	color:windowtext}@page WordSection1	{margin
 :1.0in 1.0in 1.0in 1.0in}--></style></head><body lang="EN-US" link="#46788
 6" vlink="#96607D" style="word-wrap:break-word"><div class="WordSection1">
 <p class="MsoNormal">&nbsp\;</p></div></body></html>
LOCATION:
SUMMARY:1st Grade Field Trip - Ogden Nature Center
END:VEVENT
BEGIN:VEVENT
DTSTAMP:20260424T235521Z
UID:94238ae8-44f9-463b-8c2f-6434dc655ae3
DTSTART;VALUE=DATE:20260430
DTEND;VALUE=DATE:20260501
DESCRIPTION:<html><head><meta http-equiv="Content-Type" content="text/html\
 ; charset=utf-8"><meta name="Generator" content="Microsoft Word 15 (filter
 ed medium)"><style><!--@font-face	{font-family:"Cambria Math"}@font-face	{
 font-family:Aptos}p.MsoNormal\, li.MsoNormal\, div.MsoNormal	{margin:0in\;
 	font-size:12.0pt\;	font-family:"Aptos"\,sans-serif}span.EmailStyle17	{fon
 t-family:"Aptos"\,sans-serif\;	color:windowtext}@page WordSection1	{margin
 :1.0in 1.0in 1.0in 1.0in}--></style></head><body lang="EN-US" link="#46788
 6" vlink="#96607D" style="word-wrap:break-word"><div class="WordSection1">
 <p class="MsoNormal">&nbsp\;</p></div></body></html>
LOCATION:
SUMMARY:4th Grade Field Trip - This is the Place
END:VEVENT
BEGIN:VEVENT
DTSTAMP:20260424T235521Z
UID:58cb7dec-5b47-48e6-a010-19c4d82acf4b
DTSTART:20260430T173000
DTEND:20260430T190000
DESCRIPTION:<html><head><meta http-equiv="Content-Type" content="text/html\
 ; charset=utf-8"><meta name="Generator" content="Microsoft Word 15 (filter
 ed medium)"><style><!--@font-face	{font-family:"Cambria Math"}@font-face	{
 font-family:Aptos}p.MsoNormal\, li.MsoNormal\, div.MsoNormal	{margin:0in\;
 	font-size:12.0pt\;	font-family:"Aptos"\,sans-serif}span.EmailStyle17	{fon
 t-family:"Aptos"\,sans-serif\;	color:windowtext}@page WordSection1	{margin
 :1.0in 1.0in 1.0in 1.0in}--></style></head><body lang="EN-US" link="#46788
 6" vlink="#96607D" style="word-wrap:break-word"><div class="WordSection1">
 <p class="MsoNormal">&nbsp\;</p></div></body></html>
LOCATION:
SUMMARY:Family BBQ Night
END:VEVENT
BEGIN:VEVENT
DTSTAMP:20260424T235521Z
UID:55166388-642f-4937-925e-326a596ebdc1
DTSTART;VALUE=DATE:20260504
DTEND;VALUE=DATE:20260509
DESCRIPTION:<html><head><meta http-equiv="Content-Type" content="text/html\
 ; charset=utf-8"><meta name="Generator" content="Microsoft Word 15 (filter
 ed medium)"><style><!--@font-face	{font-family:"Cambria Math"}@font-face	{
 font-family:Aptos}p.MsoNormal\, li.MsoNormal\, div.MsoNormal	{margin:0in\;
 	font-size:12.0pt\;	font-family:"Aptos"\,sans-serif}span.EmailStyle17	{fon
 t-family:"Aptos"\,sans-serif\;	color:windowtext}@page WordSection1	{margin
 :1.0in 1.0in 1.0in 1.0in}--></style></head><body lang="EN-US" link="#46788
 6" vlink="#96607D" style="word-wrap:break-word"><div class="WordSection1">
 <p class="MsoNormal">&nbsp\;</p></div></body></html>
LOCATION:
SUMMARY:Staff Appreciation Week
END:VEVENT
BEGIN:VEVENT
DTSTAMP:20260424T235521Z
UID:1ba66363-69bf-48ea-bb32-d24f603ab7a3
DTSTART:20260511T084500
DTEND:20260511T120000
DESCRIPTION:<html><head><meta http-equiv="Content-Type" content="text/html\
 ; charset=utf-8"><meta name="Generator" content="Microsoft Word 15 (filter
 ed medium)"><style><!--@font-face	{font-family:"Cambria Math"}@font-face	{
 font-family:Aptos}p.MsoNormal\, li.MsoNormal\, div.MsoNormal	{margin:0in\;
 	font-size:12.0pt\;	font-family:"Aptos"\,sans-serif}span.EmailStyle17	{fon
 t-family:"Aptos"\,sans-serif\;	color:windowtext}@page WordSection1	{margin
 :1.0in 1.0in 1.0in 1.0in}--></style></head><body lang="EN-US" link="#46788
 6" vlink="#96607D" style="word-wrap:break-word"><div class="WordSection1">
 <p class="MsoNormal">&nbsp\;</p></div></body></html>
LOCATION:
SUMMARY:District Decathlon
END:VEVENT
BEGIN:VEVENT
DTSTAMP:20260424T235521Z
UID:6c4d1c39-79da-41ea-8048-dbced9c66f6f
DTSTART:20260511T180000
DTEND:20260511T190000
DESCRIPTION:<html><head><meta http-equiv="Content-Type" content="text/html\
 ; charset=utf-8"><meta name="Generator" content="Microsoft Word 15 (filter
 ed medium)"><style><!--@font-face	{font-family:"Cambria Math"}@font-face	{
 font-family:Aptos}p.MsoNormal\, li.MsoNormal\, div.MsoNormal	{margin:0in\;
 	font-size:12.0pt\;	font-family:"Aptos"\,sans-serif}span.EmailStyle17	{fon
 t-family:"Aptos"\,sans-serif\;	color:windowtext}@page WordSection1	{margin
 :1.0in 1.0in 1.0in 1.0in}--></style></head><body lang="EN-US" link="#46788
 6" vlink="#96607D" style="word-wrap:break-word"><div class="WordSection1">
 <p class="MsoNormal">&nbsp\;</p></div></body></html>
LOCATION:Gym
SUMMARY:Choir Concert
END:VEVENT
BEGIN:VEVENT
DTSTAMP:20260424T235521Z
UID:2a946207-1f97-461e-8996-07350af27658
DTSTART:20260514T160000
DTEND:20260514T170000
DESCRIPTION:<html><head><meta http-equiv="Content-Type" content="text/html\
 ; charset=utf-8"><meta name="Generator" content="Microsoft Word 15 (filter
 ed medium)"><style><!--@font-face	{font-family:"Cambria Math"}@font-face	{
 font-family:Aptos}p.MsoNormal\, li.MsoNormal\, div.MsoNormal	{margin:0in\;
 	font-size:12.0pt\;	font-family:"Aptos"\,sans-serif}span.EmailStyle17	{fon
 t-family:"Aptos"\,sans-serif\;	color:windowtext}.MsoChpDefault	{}@page Wor
 dSection1	{margin:1.0in 1.0in 1.0in 1.0in}div.WordSection1	{}--></style></
 head><body lang="EN-US" link="#467886" vlink="#96607D" style="word-wrap:br
 eak-word"><div class="WordSection1"><p class="MsoNormal">&nbsp\;</p></div>
 </body></html>
LOCATION:Computer Lab
SUMMARY:PTA Meeting
END:VEVENT
BEGIN:VEVENT
DTSTAMP:20260424T235521Z
UID:1eacfe22-b8d7-4f0f-ab27-c771d13b8569
DTSTART:20260519T180000
DTEND:20260519T190000
DESCRIPTION:<html><head><meta http-equiv="Content-Type" content="text/html\
 ; charset=utf-8"><meta name="Generator" content="Microsoft Word 15 (filter
 ed medium)"><style><!--@font-face	{font-family:"Cambria Math"}@font-face	{
 font-family:Aptos}p.MsoNormal\, li.MsoNormal\, div.MsoNormal	{margin:0in\;
 	font-size:12.0pt\;	font-family:"Aptos"\,sans-serif}span.EmailStyle17	{fon
 t-family:"Aptos"\,sans-serif\;	color:windowtext}@page WordSection1	{margin
 :1.0in 1.0in 1.0in 1.0in}--></style></head><body lang="EN-US" link="#46788
 6" vlink="#96607D" style="word-wrap:break-word"><div class="WordSection1">
 <p class="MsoNormal">&nbsp\;</p></div></body></html>
LOCATION:Gym
SUMMARY:Kindergarten Graduation
END:VEVENT
BEGIN:VEVENT
DTSTAMP:20260424T235521Z
UID:2296b7d6-725d-494a-9890-4a4ce8639076
DTSTART;VALUE=DATE:20260520
DTEND;VALUE=DATE:20260521
DESCRIPTION:<html><head><meta http-equiv="Content-Type" content="text/html\
 ; charset=utf-8"><meta name="Generator" content="Microsoft Word 15 (filter
 ed medium)"><style><!--@font-face	{font-family:"Cambria Math"}@font-face	{
 font-family:Aptos}p.MsoNormal\, li.MsoNormal\, div.MsoNormal	{margin:0in\;
 	font-size:12.0pt\;	font-family:"Aptos"\,sans-serif}span.EmailStyle17	{fon
 t-family:"Aptos"\,sans-serif\;	color:windowtext}@page WordSection1	{margin
 :1.0in 1.0in 1.0in 1.0in}--></style></head><body lang="EN-US" link="#46788
 6" vlink="#96607D" style="word-wrap:break-word"><div class="WordSection1">
 <p class="MsoNormal">&nbsp\;</p></div></body></html>
LOCATION:
SUMMARY:Field Day
END:VEVENT
BEGIN:VEVENT
DTSTAMP:20260424T235521Z
UID:059b99d2-2b6e-4967-bfb9-d60a032d516e
DTSTART;VALUE=DATE:20260522
DTEND;VALUE=DATE:20260523
DESCRIPTION:
LOCATION:
SUMMARY:Last Day of School
END:VEVENT
BEGIN:VEVENT
DTSTAMP:20260424T235521Z
UID:8a05d1d0-45ee-4e9a-9bf8-0d52e162de3d
DTSTART:20260522T091500
DTEND:20260522T094500
DESCRIPTION:<html><head><meta http-equiv="Content-Type" content="text/html\
 ; charset=utf-8"><meta name="Generator" content="Microsoft Word 15 (filter
 ed medium)"><style><!--@font-face	{font-family:"Cambria Math"}@font-face	{
 font-family:Aptos}p.MsoNormal\, li.MsoNormal\, div.MsoNormal	{margin:0in\;
 	font-size:12.0pt\;	font-family:"Aptos"\,sans-serif}span.EmailStyle17	{fon
 t-family:"Aptos"\,sans-serif\;	color:windowtext}@page WordSection1	{margin
 :1.0in 1.0in 1.0in 1.0in}--></style></head><body lang="EN-US" link="#46788
 6" vlink="#96607D" style="word-wrap:break-word"><div class="WordSection1">
 <p class="MsoNormal">&nbsp\;</p></div></body></html>
LOCATION:Gym
SUMMARY:6th Grade Graduation
END:VEVENT
BEGIN:VEVENT
DTSTAMP:20260424T235521Z
UID:f0717c0e-e07d-49f7-a512-adb24f9efc08
DTSTART:20260609T090000
DTEND:20260609T110000
DESCRIPTION:<html><head><meta http-equiv="Content-Type" content="text/html\
 ; charset=utf-8"><meta name="Generator" content="Microsoft Word 15 (filter
 ed medium)"><style><!--@font-face	{font-family:"Cambria Math"}@font-face	{
 font-family:Aptos}p.MsoNormal\, li.MsoNormal\, div.MsoNormal	{margin:0in\;
 	font-size:12.0pt\;	font-family:"Aptos"\,sans-serif}span.EmailStyle17	{fon
 t-family:"Aptos"\,sans-serif\;	color:windowtext}@page WordSection1	{margin
 :1.0in 1.0in 1.0in 1.0in}--></style></head><body lang="EN-US" link="#46788
 6" vlink="#96607D" style="word-wrap:break-word"><div class="WordSection1">
 <p class="MsoNormal">&nbsp\;</p></div></body></html>
LOCATION:
SUMMARY:Kinder Camp
END:VEVENT
BEGIN:VEVENT
DTSTAMP:20260424T235521Z
UID:1454959d-ec08-4b19-871e-0596730189ce
DTSTART:20260610T090000
DTEND:20260610T110000
DESCRIPTION:<html><head><meta http-equiv="Content-Type" content="text/html\
 ; charset=utf-8"><meta name="Generator" content="Microsoft Word 15 (filter
 ed medium)"><style><!--@font-face	{font-family:"Cambria Math"}@font-face	{
 font-family:Aptos}p.MsoNormal\, li.MsoNormal\, div.MsoNormal	{margin:0in\;
 	font-size:12.0pt\;	font-family:"Aptos"\,sans-serif}span.EmailStyle17	{fon
 t-family:"Aptos"\,sans-serif\;	color:windowtext}@page WordSection1	{margin
 :1.0in 1.0in 1.0in 1.0in}--></style></head><body lang="EN-US" link="#46788
 6" vlink="#96607D" style="word-wrap:break-word"><div class="WordSection1">
 <p class="MsoNormal">&nbsp\;</p></div></body></html>
LOCATION:
SUMMARY:Kinder Camp
END:VEVENT
BEGIN:VEVENT
DTSTAMP:20260424T235521Z
UID:fcc2a950-1774-4411-845c-c744de17b08c
DTSTART;VALUE=DATE:20260820
DTEND;VALUE=DATE:20260821
DESCRIPTION:<html><head><meta http-equiv="Content-Type" content="text/html\
 ; charset=utf-8"><meta name="Generator" content="Microsoft Word 15 (filter
 ed medium)"><style><!--@font-face	{font-family:"Cambria Math"}@font-face	{
 font-family:Aptos}p.MsoNormal\, li.MsoNormal\, div.MsoNormal	{margin:0in\;
 	font-size:12.0pt\;	font-family:"Aptos"\,sans-serif}span.EmailStyle17	{fon
 t-family:"Aptos"\,sans-serif\;	color:windowtext}@page WordSection1	{margin
 :1.0in 1.0in 1.0in 1.0in}--></style></head><body lang="EN-US" link="#46788
 6" vlink="#96607D" style="word-wrap:break-word"><div class="WordSection1">
 <p class="MsoNormal">&nbsp\;</p></div></body></html>
LOCATION:
SUMMARY:First Day of School - Early Out
END:VEVENT
BEGIN:VEVENT
DTSTAMP:20260424T235521Z
UID:5568010e-0602-4720-b4c4-06d6945c72ef
DTSTART;VALUE=DATE:20260907
DTEND;VALUE=DATE:20260908
DESCRIPTION:<html><head><meta http-equiv="Content-Type" content="text/html\
 ; charset=utf-8"><meta name="Generator" content="Microsoft Word 15 (filter
 ed medium)"><style><!--@font-face	{font-family:"Cambria Math"}@font-face	{
 font-family:Aptos}p.MsoNormal\, li.MsoNormal\, div.MsoNormal	{margin:0in\;
 	font-size:12.0pt\;	font-family:"Aptos"\,sans-serif}span.EmailStyle17	{fon
 t-family:"Aptos"\,sans-serif\;	color:windowtext}@page WordSection1	{margin
 :1.0in 1.0in 1.0in 1.0in}--></style></head><body lang="EN-US" link="#46788
 6" vlink="#96607D" style="word-wrap:break-word"><div class="WordSection1">
 <p class="MsoNormal">&nbsp\;</p></div></body></html>
LOCATION:
SUMMARY:Labor Day - No School
END:VEVENT
BEGIN:VEVENT
DTSTAMP:20260424T235521Z
UID:361cc075-9bb8-496e-87b2-21f9d7e0c675
DTSTART;VALUE=DATE:20261014
DTEND;VALUE=DATE:20261015
DESCRIPTION:<html><head><meta http-equiv="Content-Type" content="text/html\
 ; charset=utf-8"><meta name="Generator" content="Microsoft Word 15 (filter
 ed medium)"><style><!--@font-face	{font-family:"Cambria Math"}@font-face	{
 font-family:Aptos}p.MsoNormal\, li.MsoNormal\, div.MsoNormal	{margin:0in\;
 	font-size:12.0pt\;	font-family:"Aptos"\,sans-serif}span.EmailStyle17	{fon
 t-family:"Aptos"\,sans-serif\;	color:windowtext}@page WordSection1	{margin
 :1.0in 1.0in 1.0in 1.0in}--></style></head><body lang="EN-US" link="#46788
 6" vlink="#96607D" style="word-wrap:break-word"><div class="WordSection1">
 <p class="MsoNormal">&nbsp\;</p></div></body></html>
LOCATION:
SUMMARY:Teacher Professional Day - No School
END:VEVENT
BEGIN:VEVENT
DTSTAMP:20260424T235521Z
UID:cdf1b101-8f6f-400e-8878-8fbdb3cb9fde
DTSTART;VALUE=DATE:20261015
DTEND;VALUE=DATE:20261017
DESCRIPTION:<html><head><meta http-equiv="Content-Type" content="text/html\
 ; charset=utf-8"><meta name="Generator" content="Microsoft Word 15 (filter
 ed medium)"><style><!--@font-face	{font-family:"Cambria Math"}@font-face	{
 font-family:Aptos}p.MsoNormal\, li.MsoNormal\, div.MsoNormal	{margin:0in\;
 	font-size:12.0pt\;	font-family:"Aptos"\,sans-serif}span.EmailStyle17	{fon
 t-family:"Aptos"\,sans-serif\;	color:windowtext}@page WordSection1	{margin
 :1.0in 1.0in 1.0in 1.0in}--></style></head><body lang="EN-US" link="#46788
 6" vlink="#96607D" style="word-wrap:break-word"><div class="WordSection1">
 <p class="MsoNormal">&nbsp\;</p></div></body></html>
LOCATION:
SUMMARY:Fall Break - No School
END:VEVENT
BEGIN:VEVENT
DTSTAMP:20260424T235521Z
UID:3740f540-641c-4fca-b205-145cdac46e6d
DTSTART;VALUE=DATE:20261125
DTEND;VALUE=DATE:20261128
DESCRIPTION:<html><head><meta http-equiv="Content-Type" content="text/html\
 ; charset=utf-8"><meta name="Generator" content="Microsoft Word 15 (filter
 ed medium)"><style><!--@font-face	{font-family:"Cambria Math"}@font-face	{
 font-family:Aptos}p.MsoNormal\, li.MsoNormal\, div.MsoNormal	{margin:0in\;
 	font-size:12.0pt\;	font-family:"Aptos"\,sans-serif}span.EmailStyle17	{fon
 t-family:"Aptos"\,sans-serif\;	color:windowtext}@page WordSection1	{margin
 :1.0in 1.0in 1.0in 1.0in}--></style></head><body lang="EN-US" link="#46788
 6" vlink="#96607D" style="word-wrap:break-word"><div class="WordSection1">
 <p class="MsoNormal">&nbsp\;</p></div></body></html>
LOCATION:
SUMMARY:Thanksgiving Break - No School
END:VEVENT
END:VCALENDAR
