BEGIN:VCALENDAR
VERSION:2.0
PRODID:icalendar-ruby
CALSCALE:GREGORIAN
BEGIN:VTIMEZONE
TZID:America/Denver
BEGIN:DAYLIGHT
DTSTART:20260308T030000
TZOFFSETFROM:-0700
TZOFFSETTO:-0600
RRULE:FREQ=YEARLY;BYDAY=2SU;BYMONTH=3
TZNAME:MDT
END:DAYLIGHT
BEGIN:STANDARD
DTSTART:20261101T010000
TZOFFSETFROM:-0600
TZOFFSETTO:-0700
RRULE:FREQ=YEARLY;BYDAY=1SU;BYMONTH=11
TZNAME:MST
END:STANDARD
END:VTIMEZONE
BEGIN:VEVENT
DTSTAMP:20260425T184227Z
UID:a428af21-bf57-4677-9127-34883823db59
DTSTART;VALUE=DATE:20260428
DTEND;VALUE=DATE:20260429
DESCRIPTION:<html><head><meta http-equiv="Content-Type" content="text/html\
 ; charset=utf-8"></head><body><div class="cal_a14"><div><div class="x_elem
 entToProof" style="font-family:Aptos\,Aptos_EmbeddedFont\,Aptos_MSFontServ
 ice\,Calibri\,Helvetica\,sans-serif\; font-size:12pt\; color:rgb(0\,0\,0)"
 >Let's celebrate our wonderful bus driver!</div></div></div></body></html>
LOCATION:
SUMMARY:School Bus Driver Appreciation Day
END:VEVENT
BEGIN:VEVENT
DTSTAMP:20260425T184227Z
UID:5e156d8a-63e6-4438-9aa4-f997bd70593f
DTSTART:20260430T180000
DTEND:20260430T200000
DESCRIPTION:<html><head><meta http-equiv="Content-Type" content="text/html\
 ; charset=utf-8"></head><body><div class="elementToProof" style="font-fami
 ly:Aptos\,Aptos_EmbeddedFont\,Aptos_MSFontService\,Calibri\,Helvetica\,san
 s-serif\; font-size:12pt\; color:rgb(0\,0\,0)">Come enjoy art from our ver
 y own talented students! Open house is from 6:00-8:00 pm.</div></body></ht
 ml>
LOCATION:
SUMMARY:Art Show
END:VEVENT
BEGIN:VEVENT
DTSTAMP:20260425T184227Z
UID:8e28cbc6-3ac5-4797-ab99-8858af428699
DTSTART;VALUE=DATE:20260501
DTEND;VALUE=DATE:20260502
DESCRIPTION:<html><head><meta http-equiv="Content-Type" content="text/html\
 ; charset=utf-8"></head><body><div class="cal_d245"><div><div class="x_ele
 mentToProof" style="font-family:Aptos\,Aptos_EmbeddedFont\,Aptos_MSFontSer
 vice\,Calibri\,Helvetica\,sans-serif\; font-size:12pt\; color:rgb(0\,0\,0)
 ">Help us celebrate our fantastic lunch room staff!</div></div></div></bod
 y></html>
LOCATION:
SUMMARY:School Lunch Hero Day
END:VEVENT
BEGIN:VEVENT
DTSTAMP:20260425T184227Z
UID:efc84660-6d8d-4a99-bf78-d320dec6d3d3
DTSTART:20260501T110000
DTEND:20260501T130000
DESCRIPTION:<html><head><meta http-equiv="Content-Type" content="text/html\
 ; charset=utf-8"></head><body><p><br></p><p>Come celebrate your student's 
 birthday month!</p><p><br></p><p><br></p><p><br></p><p>Lunch Schedule</p><
 p><br></p><p><br></p><p><br></p><p><br><strong>Grade</strong>    
     <strong>Lunch Time</strong><br></p><p><br></p><p>1st   
         11:15-11:30</p><p><br></p><p>2nd      
     11:30-11:45<br>3rd           &nbsp\;11:45-
 12:00</p><p><br></p><p>Kinder       &nbsp\; 12:00-12:15</p><
 p><br></p><p>4th           12:15-12:30</p><p><br></p><
 p>6th           12:30-12:45</p><p><br></p><p>5th  
          12:45-1:00</p><p><br></p></body></html>
LOCATION:
SUMMARY:May PTO Birthday Table
END:VEVENT
BEGIN:VEVENT
DTSTAMP:20260425T184227Z
UID:00bf2bb4-413f-410f-be34-31bef0e79f78
DTSTART;VALUE=DATE:20260504
DTEND;VALUE=DATE:20260505
DESCRIPTION:<html><head><meta http-equiv="Content-Type" content="text/html\
 ; charset=utf-8"></head><body><div></div></body></html>
LOCATION:
SUMMARY:Better Hearing and Speech Month
END:VEVENT
BEGIN:VEVENT
DTSTAMP:20260425T184227Z
UID:171b3847-bddb-4ec7-afb4-c4aec99aa050
DTSTART;VALUE=DATE:20260504
DTEND;VALUE=DATE:20260509
DESCRIPTION:<html><head><meta http-equiv="Content-Type" content="text/html\
 ; charset=utf-8"></head><body><div class="cal_8823"><div><div class="x_ele
 mentToProof" style="font-family:Aptos\,Aptos_EmbeddedFont\,Aptos_MSFontSer
 vice\,Calibri\,Helvetica\,sans-serif\; font-size:12pt\; color:rgb(0\,0\,0)
 ">Let's celebrate our amazing teachers!</div></div></div></body></html>
LOCATION:
SUMMARY:Teacher Appreciation Week
END:VEVENT
BEGIN:VEVENT
DTSTAMP:20260425T184227Z
UID:aa13cb89-2ec8-49e2-816e-23362597442b
DTSTART;VALUE=DATE:20260506
DTEND;VALUE=DATE:20260507
DESCRIPTION:<html><head><meta http-equiv="Content-Type" content="text/html\
 ; charset=utf-8"></head><body><div class="cal_e723"><div><div class="x_ele
 mentToProof" style="font-family:Aptos\,Aptos_EmbeddedFont\,Aptos_MSFontSer
 vice\,Calibri\,Helvetica\,sans-serif\; font-size:12pt\; color:rgb(0\,0\,0)
 ">Let's let our school nurse and health room aide know how much we appreci
 ate all they do!</div></div></div></body></html>
LOCATION:
SUMMARY:School Nurse Appreciation Day
END:VEVENT
BEGIN:VEVENT
DTSTAMP:20260425T184227Z
UID:0a50fef1-11d2-4d6c-9ed5-576ff9974044
DTSTART:20260511T093000
DTEND:20260511T103000
DESCRIPTION:<html><head><meta http-equiv="Content-Type" content="text/html\
 ; charset=utf-8"></head><body><div class="elementToProof" style="font-fami
 ly:&quot\;Aptos Serif&quot\;\,Aptos_EmbeddedFont\,Aptos_MSFontService\,ser
 if\; font-size:12pt\; color:rgb(0\,0\,0)">Monthly PTO Meeting</div><div cl
 ass="elementToProof" style="font-family:&quot\;Aptos Serif&quot\;\,Aptos_E
 mbeddedFont\,Aptos_MSFontService\,serif\; font-size:12pt\; color:rgb(0\,0\
 ,0)"><br></div><div class="elementToProof" style="font-family:&quot\;Aptos
  Serif&quot\;\,Aptos_EmbeddedFont\,Aptos_MSFontService\,serif\; font-size:
 12pt\; color:rgb(0\,0\,0)">9:30-10:30AM</div><div class="elementToProof" s
 tyle="font-family:&quot\;Aptos Serif&quot\;\,Aptos_EmbeddedFont\,Aptos_MSF
 ontService\,serif\; font-size:12pt\; color:rgb(0\,0\,0)"><br></div><div cl
 ass="elementToProof" style="font-family:&quot\;Aptos Serif&quot\;\,Aptos_E
 mbeddedFont\,Aptos_MSFontService\,serif\; font-size:12pt\; color:rgb(0\,0\
 ,0)">Conference Room</div><div class="elementToProof" style="font-family:&
 quot\;Aptos Serif&quot\;\,Aptos_EmbeddedFont\,Aptos_MSFontService\,serif\;
  font-size:12pt\; color:rgb(0\,0\,0)"><br></div><div class="elementToProof
 " style="font-family:&quot\;Aptos Serif&quot\;\,Aptos_EmbeddedFont\,Aptos_
 MSFontService\,serif\; font-size:12pt\; color:rgb(0\,0\,0)">-ks</div><div 
 class="elementToProof" style="font-family:&quot\;Aptos Serif&quot\;\,Aptos
 _EmbeddedFont\,Aptos_MSFontService\,serif\; font-size:12pt\; color:rgb(0\,
 0\,0)"><br></div></body></html>
LOCATION:
SUMMARY:PTO Meeting
END:VEVENT
BEGIN:VEVENT
DTSTAMP:20260425T184227Z
UID:0ae49c9d-c3e9-4d30-ae44-0b3643aafbf6
DTSTART:20260511T143000
DTEND:20260511T153000
DESCRIPTION:<html><head><meta http-equiv="Content-Type" content="text/html\
 ; charset=utf-8"></head><body><div style="font-family:Aptos\,Aptos_Embedde
 dFont\,Aptos_MSFontService\,Calibri\,Helvetica\,sans-serif\; font-size:12p
 t\; color:rgb(0\,0\,0)">5<sup>th</sup>&nbsp\;grade program for parents and
  guests.&nbsp\;</div></body></html>
LOCATION:
SUMMARY:5th Grade Program
END:VEVENT
BEGIN:VEVENT
DTSTAMP:20260425T184227Z
UID:44ad63e8-5aa7-40ad-b09a-9c872c2be775
DTSTART:20260512T073000
DTEND:20260512T083000
DESCRIPTION:
LOCATION:
SUMMARY:Community Council 
END:VEVENT
BEGIN:VEVENT
DTSTAMP:20260425T184227Z
UID:a458e14b-add0-4dab-baa4-58053f48f2b1
DTSTART:20260513T093000
DTEND:20260513T140000
DESCRIPTION:<html><head><meta http-equiv="Content-Type" content="text/html\
 ; charset=utf-8"></head><body><div style="font-family:Aptos\,Aptos_Embedde
 dFont\,Aptos_MSFontService\,Calibri\,Helvetica\,sans-serif\; font-size:12p
 t\; color:rgb(0\,0\,0)"></div></body></html>
LOCATION:
SUMMARY:5th Grade Field Trip 
END:VEVENT
BEGIN:VEVENT
DTSTAMP:20260425T184227Z
UID:2f42ffc3-0a01-405f-8705-3e2d53132994
DTSTART:20260514T183000
DTEND:20260514T193000
DESCRIPTION:
LOCATION:
SUMMARY:4th Grade Parent Program
END:VEVENT
BEGIN:VEVENT
DTSTAMP:20260425T184227Z
UID:3041e1d1-2233-4f50-b4c4-a375c7cef4fd
DTSTART:20260519T090000
DTEND:20260519T140000
DESCRIPTION:<html><head><meta http-equiv="Content-Type" content="text/html\
 ; charset=utf-8"></head><body><div style="font-family:Aptos\,Aptos_Embedde
 dFont\,Aptos_MSFontService\,Calibri\,Helvetica\,sans-serif\; font-size:12p
 t\; color:rgb(0\,0\,0)"><br></div></body></html>
LOCATION:
SUMMARY:2nd Grade Field Trip
END:VEVENT
BEGIN:VEVENT
DTSTAMP:20260425T184227Z
UID:4a1318c0-94e6-4975-8787-f56c0a279a12
DTSTART:20260520T093000
DTEND:20260520T140000
DESCRIPTION:<html><head><meta http-equiv="Content-Type" content="text/html\
 ; charset=utf-8"></head><body><div style="font-family:Aptos\,Aptos_Embedde
 dFont\,Aptos_MSFontService\,Calibri\,Helvetica\,sans-serif\; font-size:12p
 t\; color:rgb(0\,0\,0)"><br></div></body></html>
LOCATION:
SUMMARY:3rd Grade Field Trip 
END:VEVENT
BEGIN:VEVENT
DTSTAMP:20260425T184227Z
UID:d2392124-7704-4f1b-9b6f-5e5a927954e1
DTSTART:20260521T090000
DTEND:20260521T150000
DESCRIPTION:<html><head><meta http-equiv="Content-Type" content="text/html\
 ; charset=utf-8"></head><body><div style="font-family:Aptos\,Aptos_Embedde
 dFont\,Aptos_MSFontService\,Calibri\,Helvetica\,sans-serif\; font-size:12p
 t\; color:rgb(0\,0\,0)"><br></div></body></html>
LOCATION:
SUMMARY:Field Day
END:VEVENT
BEGIN:VEVENT
DTSTAMP:20260425T184227Z
UID:6590333a-24e7-47a1-acbf-a63b2cf8ea06
DTSTART:20260522T090000
DTEND:20260522T110000
DESCRIPTION:<html><head><meta http-equiv="Content-Type" content="text/html\
 ; charset=utf-8"></head><body><div class="elementToProof" style="font-fami
 ly:Aptos\,Aptos_EmbeddedFont\,Aptos_MSFontService\,Calibri\,Helvetica\,san
 s-serif\; font-size:12pt\; color:rgb(0\,0\,0)"><br></div></body></html>
LOCATION:
SUMMARY:6th Grade Graduation
END:VEVENT
END:VCALENDAR
