BEGIN:VCALENDAR
VERSION:2.0
PRODID:icalendar-ruby
CALSCALE:GREGORIAN
BEGIN:VTIMEZONE
TZID:America/Denver
BEGIN:DAYLIGHT
DTSTART:20260308T030000
TZOFFSETFROM:-0700
TZOFFSETTO:-0600
RRULE:FREQ=YEARLY;BYDAY=2SU;BYMONTH=3
TZNAME:MDT
END:DAYLIGHT
BEGIN:STANDARD
DTSTART:20261101T010000
TZOFFSETFROM:-0600
TZOFFSETTO:-0700
RRULE:FREQ=YEARLY;BYDAY=1SU;BYMONTH=11
TZNAME:MST
END:STANDARD
END:VTIMEZONE
BEGIN:VEVENT
DTSTAMP:20260421T092340Z
UID:de751048-6510-4a34-99ad-41d8181a464b
DTSTART;VALUE=DATE:20260420
DTEND;VALUE=DATE:20260424
DESCRIPTION:
LOCATION:
SUMMARY:Acadience Math End-of-Year Benchmark
END:VEVENT
BEGIN:VEVENT
DTSTAMP:20260421T092340Z
UID:76d48c6b-549c-4ec2-ab41-ebe170f96bd8
DTSTART;VALUE=DATE:20260420
DTEND;VALUE=DATE:20260424
DESCRIPTION:
LOCATION:
SUMMARY:RISE Science Testing
END:VEVENT
BEGIN:VEVENT
DTSTAMP:20260421T092340Z
UID:ca81bdcc-aed1-47b8-baac-185f929d03f0
DTSTART;VALUE=DATE:20260421
DTEND;VALUE=DATE:20260422
DESCRIPTION:
LOCATION:
SUMMARY:ABC Countdown: Letter D
END:VEVENT
BEGIN:VEVENT
DTSTAMP:20260421T092340Z
UID:1fcdc2b8-368e-47b7-a2df-e14c9dfc6e2e
DTSTART;VALUE=DATE:20260422
DTEND;VALUE=DATE:20260423
DESCRIPTION:
LOCATION:
SUMMARY:ABC Countdown: Letter E
END:VEVENT
BEGIN:VEVENT
DTSTAMP:20260421T092340Z
UID:03caa2b5-0e62-487c-a2de-1932852f0885
DTSTART;VALUE=DATE:20260422
DTEND;VALUE=DATE:20260423
DESCRIPTION:
LOCATION:
SUMMARY:Administrative Professionals' Day
END:VEVENT
BEGIN:VEVENT
DTSTAMP:20260421T092340Z
UID:0e5bc761-d749-4f45-ab9d-8b93ef11ac0d
DTSTART:20260422T154500
DTEND:20260422T164500
DESCRIPTION:
LOCATION:Buffalo Point Elementary School\; Conference Room
SUMMARY:Community Council
END:VEVENT
BEGIN:VEVENT
DTSTAMP:20260421T092340Z
UID:750bc77a-17d0-402a-befa-c020d2edb11d
DTSTART;VALUE=DATE:20260423
DTEND;VALUE=DATE:20260424
DESCRIPTION:
LOCATION:
SUMMARY:ABC Countdown: Letter F
END:VEVENT
BEGIN:VEVENT
DTSTAMP:20260421T092340Z
UID:125eef70-f7e2-4c69-bdce-e4ea5d954e43
DTSTART;VALUE=DATE:20260424
DTEND;VALUE=DATE:20260425
DESCRIPTION:
LOCATION:
SUMMARY:Teacher Compensation Day: No School
END:VEVENT
BEGIN:VEVENT
DTSTAMP:20260421T092340Z
UID:f938c29e-daee-4a1b-b909-de23e4419443
DTSTART;VALUE=DATE:20260427
DTEND;VALUE=DATE:20260428
DESCRIPTION:
LOCATION:
SUMMARY:ABC Countdown: Letter G
END:VEVENT
BEGIN:VEVENT
DTSTAMP:20260421T092340Z
UID:f40e175a-cbc4-408c-8df1-93711a874ca0
DTSTART;VALUE=DATE:20260427
DTEND;VALUE=DATE:20260502
DESCRIPTION:
LOCATION:
SUMMARY:Acadience Reading End-of-Year Benchmark
END:VEVENT
BEGIN:VEVENT
DTSTAMP:20260421T092340Z
UID:b2429dd5-7e69-4f59-ae48-3489ae7eaec8
DTSTART;VALUE=DATE:20260427
DTEND;VALUE=DATE:20260502
DESCRIPTION:
LOCATION:
SUMMARY:BOGO Book Fair
END:VEVENT
BEGIN:VEVENT
DTSTAMP:20260421T092340Z
UID:ea2fd936-e566-4cbc-a091-26724c2fe2a8
DTSTART;VALUE=DATE:20260427
DTEND;VALUE=DATE:20260502
DESCRIPTION:
LOCATION:
SUMMARY:RISE Makeups
END:VEVENT
BEGIN:VEVENT
DTSTAMP:20260421T092340Z
UID:1ef6e69f-09d7-4383-97ce-603614b55953
DTSTART:20260427T075000
DTEND:20260427T092000
DESCRIPTION:<html><head><meta http-equiv="Content-Type" content="text/html\
 ; charset=utf-8"></head><body><div class="elementToProof" style="font-fami
 ly:Aptos\,Aptos_EmbeddedFont\,Aptos_MSFontService\,Calibri\,Helvetica\,san
 s-serif\; font-size:12pt\; color:rgb(0\,0\,0)"><br></div></body></html>
LOCATION:Buffalo Point Elementary School\; Stage
SUMMARY:Orchestra
END:VEVENT
BEGIN:VEVENT
DTSTAMP:20260421T092340Z
UID:2272593c-dbdc-41ad-86ad-bcc6956fa2f3
DTSTART:20260427T090000
DTEND:20260427T140000
DESCRIPTION:
LOCATION:Utah State Capitol\, 350 N State St\, Salt Lake City\, UT\, 84114
SUMMARY:Fourth Grade Capitol Field Trip
END:VEVENT
BEGIN:VEVENT
DTSTAMP:20260421T092340Z
UID:dc3dc20b-ca64-465c-9a0a-4dfa88f927b1
DTSTART;VALUE=DATE:20260428
DTEND;VALUE=DATE:20260429
DESCRIPTION:
LOCATION:
SUMMARY:ABC Countdown: Letter H
END:VEVENT
BEGIN:VEVENT
DTSTAMP:20260421T092340Z
UID:71367887-e77a-44ae-80c7-ba79fa9cd921
DTSTART;VALUE=DATE:20260429
DTEND;VALUE=DATE:20260430
DESCRIPTION:
LOCATION:
SUMMARY:ABC Countdown: Letter I
END:VEVENT
BEGIN:VEVENT
DTSTAMP:20260421T092340Z
UID:e7956c2e-bdf7-4c62-b784-60f8fb8acaf8
DTSTART;VALUE=DATE:20260430
DTEND;VALUE=DATE:20260501
DESCRIPTION:
LOCATION:
SUMMARY:ABC Countdown: Letter J
END:VEVENT
BEGIN:VEVENT
DTSTAMP:20260421T092340Z
UID:7e8c121f-2dc2-40e0-ae0d-81574126b2f4
DTSTART;VALUE=DATE:20260501
DTEND;VALUE=DATE:20260502
DESCRIPTION:
LOCATION:
SUMMARY:ABC Countdown: Letter K
END:VEVENT
BEGIN:VEVENT
DTSTAMP:20260421T092340Z
UID:b5ba7926-1038-4468-bf5d-0f64e122a7d8
DTSTART;VALUE=DATE:20260504
DTEND;VALUE=DATE:20260505
DESCRIPTION:
LOCATION:
SUMMARY:ABC Countdown: Letter L
END:VEVENT
BEGIN:VEVENT
DTSTAMP:20260421T092340Z
UID:5cb5a046-e875-489f-8d05-013a6ed116ef
DTSTART;VALUE=DATE:20260504
DTEND;VALUE=DATE:20260509
DESCRIPTION:
LOCATION:
SUMMARY:Teacher Appreciation Week
END:VEVENT
BEGIN:VEVENT
DTSTAMP:20260421T092340Z
UID:19b63385-e51d-42b3-8aa4-3d134086f37a
DTSTART:20260504T075000
DTEND:20260504T092000
DESCRIPTION:<html><head><meta http-equiv="Content-Type" content="text/html\
 ; charset=utf-8"></head><body><div class="elementToProof" style="font-fami
 ly:Aptos\,Aptos_EmbeddedFont\,Aptos_MSFontService\,Calibri\,Helvetica\,san
 s-serif\; font-size:12pt\; color:rgb(0\,0\,0)"><br></div></body></html>
LOCATION:Buffalo Point Elementary School\; Stage
SUMMARY:Orchestra
END:VEVENT
BEGIN:VEVENT
DTSTAMP:20260421T092340Z
UID:621a1c1b-ec0e-4bf7-8279-c1f21db575a5
DTSTART;VALUE=DATE:20260505
DTEND;VALUE=DATE:20260506
DESCRIPTION:
LOCATION:
SUMMARY:ABC Countdown: Letter M
END:VEVENT
BEGIN:VEVENT
DTSTAMP:20260421T092340Z
UID:1be957d0-7aae-47f2-a163-b0881e702da4
DTSTART;VALUE=DATE:20260506
DTEND;VALUE=DATE:20260507
DESCRIPTION:
LOCATION:
SUMMARY:ABC Countdown: Letter N
END:VEVENT
BEGIN:VEVENT
DTSTAMP:20260421T092340Z
UID:943b7320-6af9-486f-87d4-9e6c0e97c922
DTSTART;VALUE=DATE:20260507
DTEND;VALUE=DATE:20260508
DESCRIPTION:
LOCATION:
SUMMARY:ABC Countdown: Letter O
END:VEVENT
BEGIN:VEVENT
DTSTAMP:20260421T092340Z
UID:ea6ca23c-50af-4255-bab4-f5c110401686
DTSTART;VALUE=DATE:20260508
DTEND;VALUE=DATE:20260509
DESCRIPTION:
LOCATION:
SUMMARY:ABC Countdown: Letter P
END:VEVENT
BEGIN:VEVENT
DTSTAMP:20260421T092340Z
UID:ee0e113c-e42a-4c64-a968-3f7c738845b2
DTSTART:20260508T090000
DTEND:20260508T110000
DESCRIPTION:
LOCATION:Tuscany Park\, 3500 W 2280 S\, Syracuse\, UT\, 84075
SUMMARY:Fourth Grade Tuscany Park Field Trip
END:VEVENT
BEGIN:VEVENT
DTSTAMP:20260421T092340Z
UID:9ee9e1b0-6a31-421d-b872-9d0b13941d18
DTSTART;VALUE=DATE:20260511
DTEND;VALUE=DATE:20260512
DESCRIPTION:
LOCATION:
SUMMARY:ABC Countdown: Letter Q
END:VEVENT
BEGIN:VEVENT
DTSTAMP:20260421T092340Z
UID:b2066683-7607-4acc-bf06-5e402de431a8
DTSTART:20260511T075000
DTEND:20260511T092000
DESCRIPTION:<html><head><meta http-equiv="Content-Type" content="text/html\
 ; charset=utf-8"></head><body><div class="elementToProof" style="font-fami
 ly:Aptos\,Aptos_EmbeddedFont\,Aptos_MSFontService\,Calibri\,Helvetica\,san
 s-serif\; font-size:12pt\; color:rgb(0\,0\,0)"><br></div></body></html>
LOCATION:Buffalo Point Elementary School\; Stage
SUMMARY:Orchestra
END:VEVENT
BEGIN:VEVENT
DTSTAMP:20260421T092340Z
UID:2f3c4cae-828c-4b27-b549-cefeea81c430
DTSTART:20260511T090000
DTEND:20260511T140000
DESCRIPTION:
LOCATION:Utah State Capitol\, 350 N State St\, Salt Lake City\, UT\, 84114
SUMMARY:Fourth and Fifth Grades DLI Field Trip to Capitol
END:VEVENT
BEGIN:VEVENT
DTSTAMP:20260421T092340Z
UID:24a374a1-f2d7-4ef0-8f63-bb92c4114717
DTSTART;VALUE=DATE:20260512
DTEND;VALUE=DATE:20260513
DESCRIPTION:
LOCATION:
SUMMARY:ABC Countdown: Letter R
END:VEVENT
BEGIN:VEVENT
DTSTAMP:20260421T092340Z
UID:30c3957e-7a89-45e5-914e-a87bee4ab8d7
DTSTART;VALUE=DATE:20260513
DTEND;VALUE=DATE:20260514
DESCRIPTION:
LOCATION:
SUMMARY:ABC Countdown: Letter S
END:VEVENT
BEGIN:VEVENT
DTSTAMP:20260421T092340Z
UID:a3e6d562-a9e2-49cf-b159-de12b1e2e538
DTSTART:20260513T154500
DTEND:20260513T164500
DESCRIPTION:
LOCATION:Buffalo Point Elementary School\; Library
SUMMARY:PTA Board Meeting
END:VEVENT
BEGIN:VEVENT
DTSTAMP:20260421T092340Z
UID:323ae2d9-6bd2-408b-95f4-b1a0552171fd
DTSTART;VALUE=DATE:20260514
DTEND;VALUE=DATE:20260515
DESCRIPTION:
LOCATION:
SUMMARY:ABC Countdown: Letter T
END:VEVENT
BEGIN:VEVENT
DTSTAMP:20260421T092340Z
UID:f8a3098f-cd90-4608-8597-4ebe07c30344
DTSTART;VALUE=DATE:20260515
DTEND;VALUE=DATE:20260516
DESCRIPTION:
LOCATION:
SUMMARY:ABC Countdown: Letter U
END:VEVENT
BEGIN:VEVENT
DTSTAMP:20260421T092340Z
UID:6b8e061d-e59b-4df0-881d-e53cad1c0a5a
DTSTART;VALUE=DATE:20260515
DTEND;VALUE=DATE:20260516
DESCRIPTION:
LOCATION:Buffalo Point Elementary School\, 1924 Doral Dr\, Syracuse\, UT\, 
 84075
SUMMARY:Fourth Grade Rendezvous (Tentative)
END:VEVENT
BEGIN:VEVENT
DTSTAMP:20260421T092340Z
UID:0f361044-8240-4414-843a-9414aaab95ae
DTSTART;VALUE=DATE:20260518
DTEND;VALUE=DATE:20260519
DESCRIPTION:
LOCATION:
SUMMARY:ABC Countdown: Letter V
END:VEVENT
BEGIN:VEVENT
DTSTAMP:20260421T092340Z
UID:446c186e-a300-492a-a1ec-89c8c162c2c4
DTSTART;VALUE=DATE:20260519
DTEND;VALUE=DATE:20260520
DESCRIPTION:
LOCATION:
SUMMARY:ABC Countdown: Letter w
END:VEVENT
BEGIN:VEVENT
DTSTAMP:20260421T092340Z
UID:7481350d-99b2-46fa-9b54-7497b1bf9b70
DTSTART;VALUE=DATE:20260520
DTEND;VALUE=DATE:20260521
DESCRIPTION:
LOCATION:
SUMMARY:ABC Countdown: Letter X
END:VEVENT
BEGIN:VEVENT
DTSTAMP:20260421T092340Z
UID:54b0f9e5-3d01-4ff9-8016-6e24ee3d428a
DTSTART;VALUE=DATE:20260521
DTEND;VALUE=DATE:20260522
DESCRIPTION:
LOCATION:
SUMMARY:ABC Countdown: Letter Y
END:VEVENT
BEGIN:VEVENT
DTSTAMP:20260421T092340Z
UID:87758cf5-af93-4a4f-a1ad-698f85bde5f4
DTSTART;VALUE=DATE:20260521
DTEND;VALUE=DATE:20260522
DESCRIPTION:
LOCATION:Buffalo Point Elementary School\, 1924 Doral Dr\, Syracuse\, UT\, 
 84075
SUMMARY:Field Day
END:VEVENT
BEGIN:VEVENT
DTSTAMP:20260421T092340Z
UID:6ba2e8e5-21f1-4df7-8158-d13297772de6
DTSTART;VALUE=DATE:20260522
DTEND;VALUE=DATE:20260523
DESCRIPTION:
LOCATION:
SUMMARY:ABC Countdown: Letter Z
END:VEVENT
BEGIN:VEVENT
DTSTAMP:20260421T092340Z
UID:e097460b-4d7d-4895-b0ac-9dc7c2b8f0a1
DTSTART;VALUE=DATE:20260522
DTEND;VALUE=DATE:20260523
DESCRIPTION:
LOCATION:
SUMMARY:Last Day of School
END:VEVENT
BEGIN:VEVENT
DTSTAMP:20260421T092340Z
UID:bf2843dc-9603-4d76-a25e-c7581bb98658
DTSTART:20260522T131500
DTEND:20260522T133000
DESCRIPTION:
LOCATION:Buffalo Point Elementary School\, 1924 Doral Dr\, Syracuse\, UT\, 
 84075
SUMMARY:Fire Truck Spray
END:VEVENT
BEGIN:VEVENT
DTSTAMP:20260421T092340Z
UID:839c84f7-6632-4462-a022-9dded48bcaf7
DTSTART;VALUE=DATE:20260525
DTEND;VALUE=DATE:20260526
DESCRIPTION:
LOCATION:
SUMMARY:Memorial Day
END:VEVENT
END:VCALENDAR
