BEGIN:VCALENDAR
VERSION:2.0
PRODID:icalendar-ruby
CALSCALE:GREGORIAN
BEGIN:VTIMEZONE
TZID:America/Denver
BEGIN:DAYLIGHT
DTSTART:20260308T030000
TZOFFSETFROM:-0700
TZOFFSETTO:-0600
RRULE:FREQ=YEARLY;BYDAY=2SU;BYMONTH=3
TZNAME:MDT
END:DAYLIGHT
BEGIN:STANDARD
DTSTART:20261101T010000
TZOFFSETFROM:-0600
TZOFFSETTO:-0700
RRULE:FREQ=YEARLY;BYDAY=1SU;BYMONTH=11
TZNAME:MST
END:STANDARD
END:VTIMEZONE
BEGIN:VEVENT
DTSTAMP:20260419T151821Z
UID:2f10a612-0914-4e1b-8fbe-a96b31936def
DTSTART:20260401T080000
DTEND:20260430T153000
DESCRIPTION:<html><head><meta http-equiv="Content-Type" content="text/html\
 ; charset=utf-8"></head><body><p>Support our Military Students and their f
 amilies! </p></body></html>
LOCATION:
SUMMARY:Military Child Month
END:VEVENT
BEGIN:VEVENT
DTSTAMP:20260419T151821Z
UID:84c7d575-b08e-4e99-b437-462afe7edf7e
DTSTART:20260420T153000
DTEND:20260423T170000
DESCRIPTION:<html><head><meta http-equiv="Content-Type" content="text/html\
 ; charset=utf-8"></head><body><p>Bookfair will be from 3:30PM-5:00PM Mon-T
 hurs</p></body></html>
LOCATION:
SUMMARY:BoGo Bookfair (buy 1 get 1 free) 3:30PM-5:00PM
END:VEVENT
BEGIN:VEVENT
DTSTAMP:20260419T151821Z
UID:8b966c3d-ef00-49a1-8efa-a22e9811cee9
DTSTART:20260422T153500
DTEND:20260422T160500
DESCRIPTION:
LOCATION:
SUMMARY:Hope Squad meeting
END:VEVENT
BEGIN:VEVENT
DTSTAMP:20260419T151821Z
UID:b356daac-a273-4c0c-b274-93edaee03a5f
DTSTART:20260424T080000
DTEND:20260424T133000
DESCRIPTION:
LOCATION:
SUMMARY:No School-Teacher Professional Day
END:VEVENT
BEGIN:VEVENT
DTSTAMP:20260419T151821Z
UID:99c548f9-6c31-44e2-84db-d0fe2848dd32
DTSTART:20260428T080000
DTEND:20260428T153000
DESCRIPTION:
LOCATION:
SUMMARY:School Bus Driver Appreciation Day
END:VEVENT
BEGIN:VEVENT
DTSTAMP:20260419T151821Z
UID:595d7761-c3bb-421c-85eb-318a9487d080
DTSTART:20260501T080000
DTEND:20260501T153000
DESCRIPTION:<html><head><meta http-equiv="Content-Type" content="text/html\
 ; charset=utf-8"></head><body><p>Thanks to our Principal and Lunchroom Sta
 ff for all their hard work!! You deserve to be celebrated!</p><p>Also don'
 t forget our Fun Run May 1st\, 6:00PM at Bluff Ridge Elementary. </p><p>26
 80 S 775 W Syracuse</p></body></html>
LOCATION:
SUMMARY:Principal Day/ Lunchroom Heros Day/ Fun Run
END:VEVENT
BEGIN:VEVENT
DTSTAMP:20260419T151821Z
UID:aa1eecf6-525d-450d-8566-6ebd0e580247
DTSTART:20260501T180000
DTEND:20260501T200000
DESCRIPTION:
LOCATION:
SUMMARY:BRE 1K and 5K Run\, Walk 
END:VEVENT
BEGIN:VEVENT
DTSTAMP:20260419T151821Z
UID:56344409-0bab-4e2d-91cc-fe46750e064d
DTSTART:20260505T153500
DTEND:20260505T160500
DESCRIPTION:
LOCATION:
SUMMARY:Student Council meeting
END:VEVENT
BEGIN:VEVENT
DTSTAMP:20260419T151821Z
UID:3865eef3-204e-4f99-9885-4825d1ceb30d
DTSTART:20260506T080000
DTEND:20260506T153000
DESCRIPTION:
LOCATION:
SUMMARY:School Nurse Day
END:VEVENT
BEGIN:VEVENT
DTSTAMP:20260419T151821Z
UID:53815c2e-2c9f-4221-829d-1eb24abc01c7
DTSTART:20260506T153500
DTEND:20260506T160500
DESCRIPTION:
LOCATION:
SUMMARY:Hope Squad meeting
END:VEVENT
BEGIN:VEVENT
DTSTAMP:20260419T151821Z
UID:52b35304-9dc1-4ada-bde7-9fb7f9b28713
DTSTART:20260514T150000
DTEND:20260514T153000
DESCRIPTION:
LOCATION:
SUMMARY:Fire Truck 
END:VEVENT
BEGIN:VEVENT
DTSTAMP:20260419T151821Z
UID:ff0f6a64-8325-40bf-ad21-b0a2b75e847c
DTSTART:20260518T090000
DTEND:20260518T150000
DESCRIPTION:
LOCATION:
SUMMARY:Field Day
END:VEVENT
BEGIN:VEVENT
DTSTAMP:20260419T151821Z
UID:ea0f5f9c-ddf7-4906-93c5-955b52c7da55
DTSTART:20260519T094500
DTEND:20260519T101500
DESCRIPTION:
LOCATION:
SUMMARY:Clearfield Graduation Walk
END:VEVENT
BEGIN:VEVENT
DTSTAMP:20260419T151821Z
UID:7f34c793-04ec-4e82-8394-6e6fcd386473
DTSTART:20260519T153500
DTEND:20260519T160500
DESCRIPTION:
LOCATION:
SUMMARY:Student Council meeting
END:VEVENT
BEGIN:VEVENT
DTSTAMP:20260419T151821Z
UID:23c71aa5-00df-4d24-abc3-443b7c976165
DTSTART:20260521T143000
DTEND:20260521T153000
DESCRIPTION:
LOCATION:
SUMMARY:6th Grade Graduation 
END:VEVENT
BEGIN:VEVENT
DTSTAMP:20260419T151821Z
UID:8ded2c7b-8061-4763-8caa-b6902ff044fc
DTSTART:20260522T084500
DTEND:20260522T133000
DESCRIPTION:
LOCATION:
SUMMARY:Last Day of School 
END:VEVENT
END:VCALENDAR
