BEGIN:VCALENDAR
VERSION:2.0
PRODID:icalendar-ruby
CALSCALE:GREGORIAN
BEGIN:VTIMEZONE
TZID:America/New_York
BEGIN:DAYLIGHT
DTSTART:20260308T030000
TZOFFSETFROM:-0500
TZOFFSETTO:-0400
RRULE:FREQ=YEARLY;BYDAY=2SU;BYMONTH=3
TZNAME:EDT
END:DAYLIGHT
BEGIN:STANDARD
DTSTART:20261101T010000
TZOFFSETFROM:-0400
TZOFFSETTO:-0500
RRULE:FREQ=YEARLY;BYDAY=1SU;BYMONTH=11
TZNAME:EST
END:STANDARD
END:VTIMEZONE
BEGIN:VEVENT
DTSTAMP:20260420T063148Z
UID:0ddd5435-8683-4f08-97bd-8ca8042d525d
DTSTART:20260420T080000
DTEND:20260420T150000
DESCRIPTION:
LOCATION:26 Great Pond Rd\, Aurora\, ME 04408\, USA
SUMMARY:No School - Patriots' Day
END:VEVENT
BEGIN:VEVENT
DTSTAMP:20260420T063148Z
UID:867ebb5f-aca4-47e7-8016-122ed512c00f
DTSTART:20260421T080000
DTEND:20260421T150000
DESCRIPTION:
LOCATION:26 Great Pond Rd\, Aurora\, ME 04408\, USA
SUMMARY:No School - Vacation
END:VEVENT
BEGIN:VEVENT
DTSTAMP:20260420T063148Z
UID:c2f469ae-915f-41d9-b1d2-a956c42dd418
DTSTART:20260422T080000
DTEND:20260422T150000
DESCRIPTION:
LOCATION:26 Great Pond Rd\, Aurora\, ME 04408\, USA
SUMMARY:No School - Vacation
END:VEVENT
BEGIN:VEVENT
DTSTAMP:20260420T063148Z
UID:16dd07e4-ec61-4416-b334-29c5c4713fae
DTSTART:20260423T080000
DTEND:20260423T150000
DESCRIPTION:
LOCATION:26 Great Pond Rd\, Aurora\, ME 04408\, USA
SUMMARY:No School - Vacation
END:VEVENT
BEGIN:VEVENT
DTSTAMP:20260420T063148Z
UID:9c6066c2-64cb-49d1-ac8f-6b5155d96fd5
DTSTART:20260424T080000
DTEND:20260424T150000
DESCRIPTION:
LOCATION:26 Great Pond Rd\, Aurora\, ME 04408\, USA
SUMMARY:No School - Vacation
END:VEVENT
BEGIN:VEVENT
DTSTAMP:20260420T063148Z
UID:6a667098-ad1d-4ab1-abbc-230c6580641f
DTSTART:20260424T080000
DTEND:20260424T090000
DESCRIPTION:
LOCATION:26 Great Pond Rd\, Aurora\, ME 04408\, USA
SUMMARY:No School - Vacation
END:VEVENT
BEGIN:VEVENT
DTSTAMP:20260420T063148Z
UID:810dcbc4-dc60-47aa-aef4-88dbc1acf2b2
DTSTART:20260427T151500
DTEND:20260427T163000
DESCRIPTION:
LOCATION:26 Great Pond Rd\, Aurora\, ME 04408\, USA
SUMMARY:Volleyball Intramural
END:VEVENT
BEGIN:VEVENT
DTSTAMP:20260420T063148Z
UID:10e7490c-77c3-458e-9679-7670ab2dbc07
DTSTART:20260428T150000
DTEND:20260428T161500
DESCRIPTION:
LOCATION:26 Great Pond Rd\, Aurora\, ME 04408\, USA
SUMMARY:Lego Club
END:VEVENT
BEGIN:VEVENT
DTSTAMP:20260420T063148Z
UID:301fccb6-c470-4fc8-80f7-95e63b564d71
DTSTART:20260428T151500
DTEND:20260428T163000
DESCRIPTION:
LOCATION:26 Great Pond Rd\, Aurora\, ME 04408\, USA
SUMMARY:PeeWee Basketball Intramural
END:VEVENT
BEGIN:VEVENT
DTSTAMP:20260420T063148Z
UID:d22c167b-9252-494a-9599-7e7b28f1ade6
DTSTART:20260429T151500
DTEND:20260429T163000
DESCRIPTION:
LOCATION:26 Great Pond Rd\, Aurora\, ME 04408\, USA
SUMMARY:Volleyball Intramural
END:VEVENT
BEGIN:VEVENT
DTSTAMP:20260420T063148Z
UID:f1f21166-02e4-41ca-8b4e-3f8b81ecebe8
DTSTART:20260525T080000
DTEND:20260525T150000
DESCRIPTION:
LOCATION:26 Great Pond Rd\, Aurora\, ME 04408\, USA
SUMMARY:No School - Memorial Day 
END:VEVENT
BEGIN:VEVENT
DTSTAMP:20260420T063148Z
UID:84ef8e84-ea68-458f-b928-31f269818fbc
DTSTART:20260612T080000
DTEND:20260612T120000
DESCRIPTION:
LOCATION:26 Great Pond Rd\, Aurora\, ME 04408\, USA
SUMMARY:Last Day of School - 1/2 Day
END:VEVENT
BEGIN:VEVENT
DTSTAMP:20260420T063148Z
UID:087075a9-06c2-432c-af2b-076d6adcb6c9
DTSTART:20260615T080000
DTEND:20260615T150000
DESCRIPTION:
LOCATION:26 Great Pond Rd\, Aurora\, ME 04408\, USA
SUMMARY:No School - In Service Day for Teachers
END:VEVENT
END:VCALENDAR
