BEGIN:VCALENDAR
VERSION:2.0
PRODID:icalendar-ruby
CALSCALE:GREGORIAN
BEGIN:VTIMEZONE
TZID:America/New_York
BEGIN:DAYLIGHT
DTSTART:20260308T030000
TZOFFSETFROM:-0500
TZOFFSETTO:-0400
RRULE:FREQ=YEARLY;BYDAY=2SU;BYMONTH=3
TZNAME:EDT
END:DAYLIGHT
BEGIN:STANDARD
DTSTART:20261101T010000
TZOFFSETFROM:-0400
TZOFFSETTO:-0500
RRULE:FREQ=YEARLY;BYDAY=1SU;BYMONTH=11
TZNAME:EST
END:STANDARD
END:VTIMEZONE
BEGIN:VEVENT
DTSTAMP:20260423T062215Z
UID:c04d51c7-6345-440d-be92-0a3a22c4fc7d
DTSTART;VALUE=DATE:20260420
DTEND;VALUE=DATE:20260425
DESCRIPTION:
LOCATION:
SUMMARY:No School ~ Spring Break
END:VEVENT
BEGIN:VEVENT
DTSTAMP:20260423T062215Z
UID:d3355948-4639-468e-b789-6861cc790c40
DTSTART:20260514T183000
DTEND:20260514T193000
DESCRIPTION:
LOCATION:
SUMMARY:Brewster School Committee
END:VEVENT
BEGIN:VEVENT
DTSTAMP:20260423T062215Z
UID:984412fd-8f6c-44ae-accb-9b8aa84566e3
DTSTART;VALUE=DATE:20260525
DTEND;VALUE=DATE:20260526
DESCRIPTION:
LOCATION:
SUMMARY:No School
END:VEVENT
BEGIN:VEVENT
DTSTAMP:20260423T062215Z
UID:8a0ecae2-cab9-4fe0-8314-122b8cb7f99e
DTSTART;VALUE=DATE:20260602
DTEND;VALUE=DATE:20260603
DESCRIPTION:
LOCATION:
SUMMARY:Stony Brook Field Day 
END:VEVENT
BEGIN:VEVENT
DTSTAMP:20260423T062215Z
UID:5b17685d-dbf7-46d9-bd9f-e63d444edc03
DTSTART;VALUE=DATE:20260603
DTEND;VALUE=DATE:20260604
DESCRIPTION:
LOCATION:
SUMMARY:Stony Brook (Rain Date) ~Field Day
END:VEVENT
BEGIN:VEVENT
DTSTAMP:20260423T062215Z
UID:fd8bdf80-2e51-471b-87bb-1fcad3b74685
DTSTART:20260611T183000
DTEND:20260611T193000
DESCRIPTION:
LOCATION:
SUMMARY:Brewster School Committee
END:VEVENT
BEGIN:VEVENT
DTSTAMP:20260423T062215Z
UID:aa20e0ee-205e-430c-83aa-14b1e9ed1faf
DTSTART:20260612T090000
DTEND:20260612T100000
DESCRIPTION:
LOCATION:
SUMMARY:Stony Brook ~ Spring Concert
END:VEVENT
BEGIN:VEVENT
DTSTAMP:20260423T062215Z
UID:ab79d1e4-8428-4484-96a0-e4d88235bfbe
DTSTART;VALUE=DATE:20260618
DTEND;VALUE=DATE:20260619
DESCRIPTION:
LOCATION:
SUMMARY:Last Day of School if No Snow Days
END:VEVENT
BEGIN:VEVENT
DTSTAMP:20260423T062215Z
UID:9c447ae1-b8a4-4673-b9c0-fbe634714d15
DTSTART;VALUE=DATE:20260619
DTEND;VALUE=DATE:20260620
DESCRIPTION:
LOCATION:
SUMMARY:No School ~ Juneteenth
END:VEVENT
BEGIN:VEVENT
DTSTAMP:20260423T062215Z
UID:dba34b57-5097-44d3-b829-fa116b0b8335
DTSTART;VALUE=DATE:20260916
DTEND;VALUE=DATE:20260917
DESCRIPTION:
LOCATION:
SUMMARY:Picture Day
END:VEVENT
END:VCALENDAR
