BEGIN:VCALENDAR
VERSION:2.0
PRODID:icalendar-ruby
CALSCALE:GREGORIAN
BEGIN:VTIMEZONE
TZID:America/Chicago
BEGIN:DAYLIGHT
DTSTART:20260308T030000
TZOFFSETFROM:-0600
TZOFFSETTO:-0500
RRULE:FREQ=YEARLY;BYDAY=2SU;BYMONTH=3
TZNAME:CDT
END:DAYLIGHT
BEGIN:STANDARD
DTSTART:20261101T010000
TZOFFSETFROM:-0500
TZOFFSETTO:-0600
RRULE:FREQ=YEARLY;BYDAY=1SU;BYMONTH=11
TZNAME:CST
END:STANDARD
END:VTIMEZONE
BEGIN:VEVENT
DTSTAMP:20260421T035619Z
UID:0471815b-030c-4092-8fd0-1b155ee91325
DTSTART;VALUE=DATE:20260421
DTEND;VALUE=DATE:20260422
DESCRIPTION:
LOCATION:
SUMMARY:OSTP 7th and 8th (Reading)
END:VEVENT
BEGIN:VEVENT
DTSTAMP:20260421T035619Z
UID:2dc0672f-764e-4f01-ad94-3e16c765270b
DTSTART:20260421T180000
DTEND:20260421T190000
DESCRIPTION:Longfellow Library
LOCATION:Longfellow Middle School\, 215 N Ponca Ave\, Norman\, OK 73071\, U
 SA
SUMMARY:Lakeview - Incoming 6th Grade Parent Night 
END:VEVENT
BEGIN:VEVENT
DTSTAMP:20260421T035619Z
UID:56cc0faf-b039-47c6-bf76-119f6c43582b
DTSTART;VALUE=DATE:20260422
DTEND;VALUE=DATE:20260423
DESCRIPTION:
LOCATION:
SUMMARY:OSTP 6th Reading/8th Writing
END:VEVENT
BEGIN:VEVENT
DTSTAMP:20260421T035619Z
UID:230818ce-3aae-4180-8e43-f86fd14fde96
DTSTART:20260423T180000
DTEND:20260423T190000
DESCRIPTION:Longfellow Library
LOCATION:Longfellow Middle School\, 215 N Ponca Ave\, Norman\, OK 73071\, U
 SA
SUMMARY:Eisenhower - Incoming 6th Grade Parent Night 
END:VEVENT
BEGIN:VEVENT
DTSTAMP:20260421T035619Z
UID:206e9bb8-7a90-4de8-8dd0-55c942b71c26
DTSTART:20260427T173000
DTEND:20260427T183000
DESCRIPTION:In the Longfellow library
LOCATION:
SUMMARY:PTSA General Meeting
END:VEVENT
BEGIN:VEVENT
DTSTAMP:20260421T035619Z
UID:6abdd80d-9c08-4a6c-9e7b-60047cf8e578
DTSTART;VALUE=DATE:20260428
DTEND;VALUE=DATE:20260429
DESCRIPTION:
LOCATION:
SUMMARY:OSTP 7th and 8th Math
END:VEVENT
BEGIN:VEVENT
DTSTAMP:20260421T035619Z
UID:cbc37548-7f65-4375-afc0-d4b0a8872c48
DTSTART:20260428T180000
DTEND:20260428T190000
DESCRIPTION:Longfellow Library
LOCATION:Longfellow Middle School\, 215 N Ponca Ave\, Norman\, OK 73071\, U
 SA
SUMMARY:Jefferson - Incoming 6th Grade Parent Night 
END:VEVENT
BEGIN:VEVENT
DTSTAMP:20260421T035619Z
UID:66c996d4-dfcb-4211-8b89-1aca1418b6d5
DTSTART;VALUE=DATE:20260430
DTEND;VALUE=DATE:20260501
DESCRIPTION:
LOCATION:
SUMMARY:OSTP 6th Math/8th Science
END:VEVENT
BEGIN:VEVENT
DTSTAMP:20260421T035619Z
UID:4c6ac875-6aeb-49f0-9ccd-87482ae4a920
DTSTART:20260430T180000
DTEND:20260430T190000
DESCRIPTION:Longfellow Library
LOCATION:Longfellow Middle School\, 215 N Ponca Ave\, Norman\, OK 73071\, U
 SA
SUMMARY:Wilson - Incoming 6th Grade Parent Night 
END:VEVENT
BEGIN:VEVENT
DTSTAMP:20260421T035619Z
UID:795dc95a-e34b-49f0-b911-71574726414b
DTSTART;VALUE=DATE:20260501
DTEND;VALUE=DATE:20260502
DESCRIPTION:
LOCATION:
SUMMARY:8th Grade Social
END:VEVENT
BEGIN:VEVENT
DTSTAMP:20260421T035619Z
UID:7167d200-cea5-405d-a0f6-07690c2c5d23
DTSTART:20260504T180000
DTEND:20260504T210000
DESCRIPTION:
LOCATION:Administrative Services Center\, 131 S Flood Ave\, Norman\, OK 730
 69\, USA
SUMMARY:Board of Education Meeting
END:VEVENT
BEGIN:VEVENT
DTSTAMP:20260421T035619Z
UID:d18657ca-8c4f-438f-ad45-8ab785ffbcc5
DTSTART:20260504T180000
DTEND:20260504T203000
DESCRIPTION:
LOCATION:
SUMMARY:LMS All Sports Ceremony 
END:VEVENT
BEGIN:VEVENT
DTSTAMP:20260421T035619Z
UID:25f99bde-8c18-4350-874a-d43e0a12e9ff
DTSTART:20260504T180000
DTEND:20260504T190000
DESCRIPTION:Nancy O'Brian - Professional Development Center
LOCATION:1903 Stubbeman Ave\, Norman\, OK 73069\, USA
SUMMARY:Transportation Advisory Committee
END:VEVENT
BEGIN:VEVENT
DTSTAMP:20260421T035619Z
UID:0c9fdb02-d024-4844-a663-0a60e1d80d70
DTSTART:20260505T180000
DTEND:20260505T190000
DESCRIPTION:
LOCATION:Center for Arts and Learning
SUMMARY:Indian Education Senior Recognition
END:VEVENT
BEGIN:VEVENT
DTSTAMP:20260421T035619Z
UID:d08c052b-f797-4844-bf96-59aeaa2ec1ce
DTSTART:20260506T190000
DTEND:20260506T203000
DESCRIPTION:
LOCATION:Nancy O'Brian - Clinton Theater
SUMMARY:NNHS Senior Recognition
END:VEVENT
BEGIN:VEVENT
DTSTAMP:20260421T035619Z
UID:dca02bba-7299-413c-a8d4-2d6e19476e10
DTSTART:20260512T190000
DTEND:20260512T200000
DESCRIPTION:
LOCATION:
SUMMARY:LMS Choir Spring Concert
END:VEVENT
BEGIN:VEVENT
DTSTAMP:20260421T035619Z
UID:d4673905-5951-4899-be96-7771ca594efd
DTSTART:20260513T160000
DTEND:20260513T170000
DESCRIPTION:
LOCATION:
SUMMARY:Senior Day @ LMS
END:VEVENT
BEGIN:VEVENT
DTSTAMP:20260421T035619Z
UID:73e32b45-5332-4d06-89b1-87f4ccb55373
DTSTART:20260513T190000
DTEND:20260513T200000
DESCRIPTION:
LOCATION:
SUMMARY:LMS Orchestra Spring Concert
END:VEVENT
BEGIN:VEVENT
DTSTAMP:20260421T035619Z
UID:88c6f0a9-1416-4ff9-9457-f1292a988a60
DTSTART:20260513T190000
DTEND:20260513T203000
DESCRIPTION:
LOCATION:Nancy O'Brian - Clinton Theater
SUMMARY:NHS Senior Recognition
END:VEVENT
BEGIN:VEVENT
DTSTAMP:20260421T035619Z
UID:5389ec09-f4d3-4aeb-9fae-7a592b504047
DTSTART:20260514T190000
DTEND:20260514T200000
DESCRIPTION:
LOCATION:
SUMMARY:LMS Band Spring Concert
END:VEVENT
BEGIN:VEVENT
DTSTAMP:20260421T035619Z
UID:dd661dff-292b-4cc2-8cd0-8915cf2d789b
DTSTART:20260518T190000
DTEND:20260518T200000
DESCRIPTION:
LOCATION:Center for Arts and Learning
SUMMARY:OAA Senior Recognition
END:VEVENT
BEGIN:VEVENT
DTSTAMP:20260421T035619Z
UID:65289845-3f9a-4f4f-9f34-9259dcb46a3c
DTSTART:20260519T190000
DTEND:20260519T210000
DESCRIPTION:
LOCATION:Center for Arts and Learning
SUMMARY:Dimensions Senior Celebration
END:VEVENT
BEGIN:VEVENT
DTSTAMP:20260421T035619Z
UID:9483d442-a096-46af-995a-d900bc2e8890
DTSTART;VALUE=DATE:20260521
DTEND;VALUE=DATE:20260522
DESCRIPTION:
LOCATION:
SUMMARY:Last Day of School
END:VEVENT
BEGIN:VEVENT
DTSTAMP:20260421T035619Z
UID:c30bcf2f-600a-4a64-b309-050047b298ce
DTSTART:20260521T190000
DTEND:20260521T210000
DESCRIPTION:
LOCATION:Lloyd Noble Center\, 2900 S Jenkins Ave\, Norman\, OK 73019\, USA
SUMMARY:Norman North High School Graduation
END:VEVENT
BEGIN:VEVENT
DTSTAMP:20260421T035619Z
UID:46a568ab-b991-47fc-9982-0e4945f9b4f2
DTSTART:20260522T190000
DTEND:20260522T204500
DESCRIPTION:
LOCATION:Lloyd Noble Center\, 2900 S Jenkins Ave\, Norman\, OK 73019\, USA
SUMMARY: Norman High School Graduation
END:VEVENT
BEGIN:VEVENT
DTSTAMP:20260421T035619Z
UID:52169264-3a61-45c9-9dca-35485dc04109
DTSTART;VALUE=DATE:20260525
DTEND;VALUE=DATE:20260526
DESCRIPTION:
LOCATION:
SUMMARY:Memorial Day (offices closed)
END:VEVENT
BEGIN:VEVENT
DTSTAMP:20260421T035619Z
UID:fe594cab-01a2-4104-b563-5c11ed26333f
DTSTART:20260608T180000
DTEND:20260608T210000
DESCRIPTION:
LOCATION:Administrative Services Center\, 131 S Flood Ave\, Norman\, OK 730
 69\, USA
SUMMARY:Board of Education Meeting
END:VEVENT
BEGIN:VEVENT
DTSTAMP:20260421T035619Z
UID:f024a344-9947-46bb-aea2-82bcd629bfd4
DTSTART;VALUE=DATE:20260703
DTEND;VALUE=DATE:20260704
DESCRIPTION:
LOCATION:
SUMMARY:Independence Day Holiday
END:VEVENT
BEGIN:VEVENT
DTSTAMP:20260421T035619Z
UID:55aa7e9c-577e-427e-b53f-8848da3df574
DTSTART:20260713T180000
DTEND:20260713T210000
DESCRIPTION:
LOCATION:Administrative Services Center\, 131 S Flood Ave\, Norman\, OK 730
 69\, USA
SUMMARY:Board of Education Meeting
END:VEVENT
BEGIN:VEVENT
DTSTAMP:20260421T035619Z
UID:6e697b03-5e59-4c49-a301-7a0985daa3a6
DTSTART:20260803T180000
DTEND:20260803T210000
DESCRIPTION:
LOCATION:Administrative Services Center\, 131 S Flood Ave\, Norman\, OK 730
 69\, USA
SUMMARY:Board of Education Meeting
END:VEVENT
BEGIN:VEVENT
DTSTAMP:20260421T035619Z
UID:f80a7ab4-5029-4afd-a778-3ef7082793ef
DTSTART;VALUE=DATE:20260813
DTEND;VALUE=DATE:20260814
DESCRIPTION:
LOCATION:
SUMMARY:First Day of School
END:VEVENT
BEGIN:VEVENT
DTSTAMP:20260421T035619Z
UID:5b3bed8a-8bf9-4f22-a88a-97d50666a826
DTSTART:20260825T180000
DTEND:20260825T193000
DESCRIPTION:
LOCATION:
SUMMARY:Open House-North/High
END:VEVENT
BEGIN:VEVENT
DTSTAMP:20260421T035619Z
UID:51d3a1ac-0179-452f-ba42-9fd638377e0d
DTSTART:20260914T180000
DTEND:20260914T210000
DESCRIPTION:
LOCATION:Administrative Services Center\, 131 S Flood Ave\, Norman\, OK 730
 69\, USA
SUMMARY:Board of Education Meeting
END:VEVENT
BEGIN:VEVENT
DTSTAMP:20260421T035619Z
UID:1c2caef3-d6b4-46bb-a544-76058dfb4c84
DTSTART:20261005T180000
DTEND:20261005T210000
DESCRIPTION:
LOCATION:Administrative Services Center\, 131 S Flood Ave\, Norman\, OK 730
 69\, USA
SUMMARY:Board of Education Meeting
END:VEVENT
BEGIN:VEVENT
DTSTAMP:20260421T035619Z
UID:cb2f81db-033c-412b-b0e9-90cb88e73492
DTSTART;VALUE=DATE:20261007
DTEND;VALUE=DATE:20261008
DESCRIPTION:
LOCATION:
SUMMARY:Professional Day No School
END:VEVENT
BEGIN:VEVENT
DTSTAMP:20260421T035619Z
UID:238975fd-44d1-4db6-ab40-729fe0c94f8f
DTSTART;VALUE=DATE:20261008
DTEND;VALUE=DATE:20261010
DESCRIPTION:
LOCATION:
SUMMARY:Fall Break
END:VEVENT
BEGIN:VEVENT
DTSTAMP:20260421T035619Z
UID:c39cdebf-359e-4d9f-a378-92505c3ad449
DTSTART:20261023T070000
DTEND:20261023T110000
DESCRIPTION:
LOCATION:
SUMMARY:Parent Teacher Conference - No School
END:VEVENT
BEGIN:VEVENT
DTSTAMP:20260421T035619Z
UID:822f60d9-460a-4c69-ada4-bd4209085be3
DTSTART:20261109T180000
DTEND:20261109T210000
DESCRIPTION:
LOCATION:Administrative Services Center\, 131 S Flood Ave\, Norman\, OK 730
 69\, USA
SUMMARY:Board of Education Meeting
END:VEVENT
BEGIN:VEVENT
DTSTAMP:20260421T035619Z
UID:13583cba-cf95-4b5c-b163-23790bb243c2
DTSTART;VALUE=DATE:20261123
DTEND;VALUE=DATE:20261128
DESCRIPTION:
LOCATION:
SUMMARY:Thanksgiving Break
END:VEVENT
BEGIN:VEVENT
DTSTAMP:20260421T035619Z
UID:75343dd4-2515-43ce-aa2a-f2098e8a05b9
DTSTART:20261207T180000
DTEND:20261207T210000
DESCRIPTION:
LOCATION:Administrative Services Center\, 131 S Flood Ave\, Norman\, OK 730
 69\, USA
SUMMARY:Board of Education Meeting
END:VEVENT
BEGIN:VEVENT
DTSTAMP:20260421T035619Z
UID:0a6b377a-8fed-4dd5-b685-89e25dbfc6ef
DTSTART;VALUE=DATE:20261221
DTEND;VALUE=DATE:20270102
DESCRIPTION:
LOCATION:
SUMMARY:Winter Break
END:VEVENT
BEGIN:VEVENT
DTSTAMP:20260421T035619Z
UID:85854d73-ce38-43b2-93da-a784fb7d5c6e
DTSTART;VALUE=DATE:20270104
DTEND;VALUE=DATE:20270105
DESCRIPTION:
LOCATION:
SUMMARY:Teacher Work Day No School
END:VEVENT
BEGIN:VEVENT
DTSTAMP:20260421T035619Z
UID:9a7b4920-144c-45e8-bb1c-031159549d38
DTSTART;VALUE=DATE:20270118
DTEND;VALUE=DATE:20270119
DESCRIPTION:
LOCATION:
SUMMARY:M. L. Jr. Kig Day No School
END:VEVENT
BEGIN:VEVENT
DTSTAMP:20260421T035619Z
UID:61f0f379-441e-4c06-b027-96a0dd29da4d
DTSTART;VALUE=DATE:20270212
DTEND;VALUE=DATE:20270213
DESCRIPTION:
LOCATION:
SUMMARY:Professional Day No School
END:VEVENT
BEGIN:VEVENT
DTSTAMP:20260421T035619Z
UID:794889d4-7c57-4908-bc68-cc32c90c214b
DTSTART;VALUE=DATE:20270215
DTEND;VALUE=DATE:20270216
DESCRIPTION:
LOCATION:
SUMMARY:Presidents' Day No School
END:VEVENT
BEGIN:VEVENT
DTSTAMP:20260421T035619Z
UID:f85bce51-51f7-418b-a584-97745e42562e
DTSTART:20270311T170000
DTEND:20270311T200000
DESCRIPTION:
LOCATION:
SUMMARY:Parent Teacher Conference - Evening
END:VEVENT
BEGIN:VEVENT
DTSTAMP:20260421T035619Z
UID:0677ae69-d04d-484e-8544-0c616125e465
DTSTART:20270312T070000
DTEND:20270312T110000
DESCRIPTION:
LOCATION:
SUMMARY:Parent Teacher Conference - No School
END:VEVENT
BEGIN:VEVENT
DTSTAMP:20260421T035619Z
UID:25b0ebae-1604-4af5-9d3e-af0e29374e69
DTSTART;VALUE=DATE:20270315
DTEND;VALUE=DATE:20270320
DESCRIPTION:
LOCATION:
SUMMARY:Spring Break
END:VEVENT
BEGIN:VEVENT
DTSTAMP:20260421T035619Z
UID:3d59eae3-5675-4a06-9af4-00236ac9635e
DTSTART;VALUE=DATE:20270416
DTEND;VALUE=DATE:20270417
DESCRIPTION:
LOCATION:
SUMMARY:Professional Day No School
END:VEVENT
BEGIN:VEVENT
DTSTAMP:20260421T035619Z
UID:7ee3d2c4-1e88-4d6e-9266-0faa1ee53e67
DTSTART;VALUE=DATE:20270520
DTEND;VALUE=DATE:20270521
DESCRIPTION:
LOCATION:
SUMMARY:Last Day of School
END:VEVENT
BEGIN:VEVENT
DTSTAMP:20260421T035619Z
UID:628f4fa0-8edd-425b-9948-5f4c19de515c
DTSTART;VALUE=DATE:20270531
DTEND;VALUE=DATE:20270601
DESCRIPTION:
LOCATION:
SUMMARY:Memorial Day
END:VEVENT
END:VCALENDAR
