BEGIN:VCALENDAR
VERSION:2.0
PRODID:icalendar-ruby
CALSCALE:GREGORIAN
BEGIN:VTIMEZONE
TZID:America/Denver
BEGIN:DAYLIGHT
DTSTART:20260308T030000
TZOFFSETFROM:-0700
TZOFFSETTO:-0600
RRULE:FREQ=YEARLY;BYDAY=2SU;BYMONTH=3
TZNAME:MDT
END:DAYLIGHT
BEGIN:STANDARD
DTSTART:20261101T010000
TZOFFSETFROM:-0600
TZOFFSETTO:-0700
RRULE:FREQ=YEARLY;BYDAY=1SU;BYMONTH=11
TZNAME:MST
END:STANDARD
END:VTIMEZONE
BEGIN:VEVENT
DTSTAMP:20260425T173034Z
UID:181ff1d6-b53c-49a2-b56a-16aab45026b4
DTSTART:20260426T091500
DTEND:20260426T123000
DESCRIPTION:
LOCATION:Denver Museum of Nature & Science\, 2001 Colorado Blvd\, Denver\, 
 CO 80205\, USA
SUMMARY:4th Grade Field Trip
END:VEVENT
BEGIN:VEVENT
DTSTAMP:20260425T173034Z
UID:9f4e0bbc-6f76-4593-bc20-cc921132d95a
DTSTART;VALUE=DATE:20260427
DTEND;VALUE=DATE:20260501
DESCRIPTION:
LOCATION:
SUMMARY:Autism Awareness & Acceptance Week
END:VEVENT
BEGIN:VEVENT
DTSTAMP:20260425T173034Z
UID:d51378e1-9710-4121-8ba3-b897f9235dda
DTSTART:20260428T084500
DTEND:20260428T120000
DESCRIPTION:
LOCATION:Newman Center for the Performing Arts\, 2344 E Iliff Ave\, Denver\
 , CO 80210\, USA
SUMMARY:2nd Grade Music Field Trip
END:VEVENT
BEGIN:VEVENT
DTSTAMP:20260425T173034Z
UID:d0dd0982-3bb1-4a26-a393-a9d43ed3be30
DTSTART:20260430T140000
DTEND:20260430T150000
DESCRIPTION:
LOCATION:
SUMMARY:Autism Walk
END:VEVENT
BEGIN:VEVENT
DTSTAMP:20260425T173034Z
UID:55c9bd4a-3637-4e42-acf4-523a72b1c921
DTSTART:20260430T170000
DTEND:20260430T174500
DESCRIPTION:
LOCATION:Cafeteria & Specials Classrooms
SUMMARY:1st-Grade Specials Showcase!
END:VEVENT
BEGIN:VEVENT
DTSTAMP:20260425T173034Z
UID:2358a61d-3669-4b35-b20c-3bce56bfb1ab
DTSTART:20260430T180000
DTEND:20260430T184500
DESCRIPTION:
LOCATION:Cafeteria & Specials Classrooms
SUMMARY:2nd-Grade Specials Showcase!
END:VEVENT
BEGIN:VEVENT
DTSTAMP:20260425T173034Z
UID:b5aa928b-b038-4455-820d-e9ca16e1a140
DTSTART;VALUE=DATE:20260501
DTEND;VALUE=DATE:20260502
DESCRIPTION:
LOCATION:
SUMMARY:No School: Staff Planning & Professional Development
END:VEVENT
BEGIN:VEVENT
DTSTAMP:20260425T173034Z
UID:763f6e10-5f74-491c-bbee-6b53201da302
DTSTART;VALUE=DATE:20260504
DTEND;VALUE=DATE:20260505
DESCRIPTION:<a href="https://thewcepta.com/buy/p/20252026-wce-year-book">ht
 tps://thewcepta.com/buy/p/20252026-wce-year-book</a>
LOCATION:https://thewcepta.com/buy/p/20252026-wce-year-book
SUMMARY:Last Day to Pre-Order 25-26 Yearbooks!
END:VEVENT
BEGIN:VEVENT
DTSTAMP:20260425T173034Z
UID:eaa7656a-dbc7-431e-a872-aa5cfa33e118
DTSTART;VALUE=DATE:20260504
DTEND;VALUE=DATE:20260509
DESCRIPTION:
LOCATION:
SUMMARY:Teacher Appreciation Week
END:VEVENT
BEGIN:VEVENT
DTSTAMP:20260425T173034Z
UID:60541f15-16be-4a32-b002-92c307e32f54
DTSTART:20260505T100000
DTEND:20260505T133000
DESCRIPTION:
LOCATION:
SUMMARY:1st Grade Zoo Field Trip
END:VEVENT
BEGIN:VEVENT
DTSTAMP:20260425T173034Z
UID:b899e9ea-7a98-490e-9452-03eb174e3f57
DTSTART;VALUE=DATE:20260506
DTEND;VALUE=DATE:20260507
DESCRIPTION:
LOCATION:
SUMMARY:Bike\, Roll\, & Walk to School
END:VEVENT
BEGIN:VEVENT
DTSTAMP:20260425T173034Z
UID:59301045-a0b5-4422-b6b6-e01eb17c7cb5
DTSTART;VALUE=DATE:20260508
DTEND;VALUE=DATE:20260509
DESCRIPTION:<p>Field Day:</p><p><span>K-1-2 - 8:30am - 10:30am</span></p><p
 ><span>3-4-5 - 11:45am - 1:45pm</span></p><p><span>ECE - 10:00am - 11:00am
 </span></p><p></p><p><br></p>
LOCATION:
SUMMARY:Field Day 
END:VEVENT
BEGIN:VEVENT
DTSTAMP:20260425T173034Z
UID:a96aa87f-7c38-4ac1-b77e-4680f0f5f00a
DTSTART:20260508T140000
DTEND:20260508T143500
DESCRIPTION:
LOCATION:
SUMMARY:Color Run
END:VEVENT
BEGIN:VEVENT
DTSTAMP:20260425T173034Z
UID:407f6d66-5f7a-43bb-8054-9cd7bafc658e
DTSTART;VALUE=DATE:20260513
DTEND;VALUE=DATE:20260514
DESCRIPTION:<p><span>8:30am-2nd Grade</span></p><p><span>9:40am- 1st Grade<
 /span></p><p><span>11:15am- 3rd Grade</span></p><p><span>1:20pm- Kindergar
 ten</span></p><p><span>2:15pm- 4th Grade</span></p>
LOCATION:During Specials Classes in Gym
SUMMARY:K-4th Grade Talent Show Day!
END:VEVENT
BEGIN:VEVENT
DTSTAMP:20260425T173034Z
UID:5904eccd-a67b-4570-b692-2da1b6c6b900
DTSTART:20260513T180000
DTEND:20260513T193000
DESCRIPTION:
LOCATION:Cafeteria
SUMMARY:5th Grade Talent Show!
END:VEVENT
BEGIN:VEVENT
DTSTAMP:20260425T173034Z
UID:ecdcd630-e95d-493b-8689-af17e2a25bc1
DTSTART;VALUE=DATE:20260515
DTEND;VALUE=DATE:20260516
DESCRIPTION:
LOCATION:
SUMMARY:Field Day (Rain Day Make-up)
END:VEVENT
BEGIN:VEVENT
DTSTAMP:20260425T173034Z
UID:d931f241-1008-4938-8aa4-e6002bf2956f
DTSTART;VALUE=DATE:20260516
DTEND;VALUE=DATE:20260517
DESCRIPTION:<p><span>Get ready for a night of Blackjack\, Roulette\, Poker\
 , Craps\, live drawings\, and more. </span></p><p><span>Details coming soo
 n!</span></p>
LOCATION:
SUMMARY:Casino Night
END:VEVENT
BEGIN:VEVENT
DTSTAMP:20260425T173034Z
UID:46ba12d7-b77a-4ec6-bc61-7888d2e5a604
DTSTART:20260519T151500
DTEND:20260519T161000
DESCRIPTION:Hosted by Jordan Scovel & Lauren Gamet \n\nGreen Team is open 
 to 3-5th graders (1st and 2nd graders with a parent). \n\nJoin us as we
  brainstorm ways of being more sustainable in our daily lives and around c
 ampus\; help us help the planet a little bit at a time. \n\nStart small 
 and watch it blossom!
LOCATION:Mr. Binder's Room #226
SUMMARY:Green Team Meeting
END:VEVENT
BEGIN:VEVENT
DTSTAMP:20260425T173034Z
UID:b0f14beb-8d22-4f31-a906-bb170e4b4ffb
DTSTART:20260520T171500
DTEND:20260520T183000
DESCRIPTION:
LOCATION:
SUMMARY:3rd Grade Culture Night
END:VEVENT
BEGIN:VEVENT
DTSTAMP:20260425T173034Z
UID:112d3e62-fbf1-4c28-8cb2-f64d37cd79da
DTSTART:20260521T083000
DTEND:20260521T093000
DESCRIPTION:Top 4 spellers from each homeroom\, as determined by a classroo
 m spell-off hosted by classroom teachers. Parents welcome!
LOCATION:WCE Library
SUMMARY:1st-Grade Spelling Bee
END:VEVENT
BEGIN:VEVENT
DTSTAMP:20260425T173034Z
UID:36db1b93-c28b-4e1c-9f03-0017c9d8bdcc
DTSTART:20260521T093000
DTEND:20260521T120000
DESCRIPTION:Top 4 spellers from each homeroom\, as determined by a classroo
 m spell-off hosted by classroom teachers. Parents welcome!
LOCATION:WCE Gym
SUMMARY:4th/5th-Grade Spelling Bee
END:VEVENT
BEGIN:VEVENT
DTSTAMP:20260425T173034Z
UID:5e8f9348-c9c9-49ba-9464-be10bce72498
DTSTART:20260521T123000
DTEND:20260521T131500
DESCRIPTION:Top 4 spellers from each homeroom\, as determined by a classroo
 m spell-off hosted by classroom teachers. Parents welcome!
LOCATION:WCE Library
SUMMARY:2nd-Grade Spelling Bee
END:VEVENT
BEGIN:VEVENT
DTSTAMP:20260425T173034Z
UID:50b3ba64-f2d3-459b-9024-a8b57fd977bb
DTSTART:20260521T133000
DTEND:20260521T141500
DESCRIPTION:Top 4 spellers from each homeroom\, as determined by a classroo
 m spell-off hosted by classroom teachers. Parents welcome!
LOCATION:WCE Library
SUMMARY:3rd-Grade Spelling Bee
END:VEVENT
BEGIN:VEVENT
DTSTAMP:20260425T173034Z
UID:6f928c6a-e8a0-4a92-9ce2-9f7fec759fa4
DTSTART:20260522T081500
DTEND:20260522T084000
DESCRIPTION:
LOCATION:
SUMMARY:Primary CREEK Kid Assembly: Grit & Purpose
END:VEVENT
BEGIN:VEVENT
DTSTAMP:20260425T173034Z
UID:60370f42-81e2-4e03-94df-9c4c3e7ad7e2
DTSTART:20260522T085000
DTEND:20260522T091500
DESCRIPTION:
LOCATION:
SUMMARY:Intermediate CREEK Kid Assembly: Grit & Purpose
END:VEVENT
BEGIN:VEVENT
DTSTAMP:20260425T173034Z
UID:5947d637-93b7-4e99-8e36-0b8b55c215fa
DTSTART:20260522T140000
DTEND:20260522T150000
DESCRIPTION:
LOCATION:
SUMMARY:5th Grade v. Staff Kickball Game
END:VEVENT
BEGIN:VEVENT
DTSTAMP:20260425T173034Z
UID:4e474f62-3788-4b26-808d-451995d88e95
DTSTART;VALUE=DATE:20260525
DTEND;VALUE=DATE:20260526
DESCRIPTION:
LOCATION:
SUMMARY:No School: Memorial Day
END:VEVENT
BEGIN:VEVENT
DTSTAMP:20260425T173034Z
UID:df445d92-0480-40fc-9d89-f7c019e51b46
DTSTART:20260526T144500
DTEND:20260526T150000
DESCRIPTION:
LOCATION:
SUMMARY:WCE Alumni Graduate Clapout
END:VEVENT
BEGIN:VEVENT
DTSTAMP:20260425T173034Z
UID:a4b0bf9c-9048-470c-b26a-8588873ad422
DTSTART:20260528T090000
DTEND:20260528T110000
DESCRIPTION:
LOCATION:Westerly Creek Elementary School\, 8800 E 28th Ave\, Denver\, CO 8
 0238\, USA
SUMMARY:Fifth Grade Continuation
END:VEVENT
BEGIN:VEVENT
DTSTAMP:20260425T173034Z
UID:5fd51ef4-c352-4486-b2a6-62dbcb5fdc5a
DTSTART:20260528T145000
DTEND:20260528T150000
DESCRIPTION:
LOCATION:
SUMMARY:Fifth Grade Clap Out 
END:VEVENT
BEGIN:VEVENT
DTSTAMP:20260425T173034Z
UID:b9169b8e-3093-4778-b8e4-00d8a85c1d22
DTSTART:20260529T080500
DTEND:20260529T114000
DESCRIPTION:No Lunch Provided
LOCATION:
SUMMARY:Last Day of School: Early Release
END:VEVENT
BEGIN:VEVENT
DTSTAMP:20260425T173034Z
UID:8eb22f5a-3c1b-4c7e-a6c5-b52103f198e3
DTSTART;VALUE=DATE:20260917
DTEND;VALUE=DATE:20260919
DESCRIPTION:
LOCATION:
SUMMARY:Bloom Individual Student Picture Day
END:VEVENT
BEGIN:VEVENT
DTSTAMP:20260425T173034Z
UID:35987159-29a4-4fe1-97a3-41785887154b
DTSTART;VALUE=DATE:20261023
DTEND;VALUE=DATE:20261024
DESCRIPTION:
LOCATION:
SUMMARY:Bloom Make-Up & Retake Day | Individual Student
END:VEVENT
BEGIN:VEVENT
DTSTAMP:20260425T173034Z
UID:44d548ef-6118-4cc2-b364-69594a6634d6
DTSTART;VALUE=DATE:20270323
DTEND;VALUE=DATE:20270324
DESCRIPTION:
LOCATION:
SUMMARY:Bloom Class & 5th Grade Continuation Picture Day
END:VEVENT
BEGIN:VEVENT
DTSTAMP:20260425T173034Z
UID:fbeab0f4-cb76-4abf-8bf0-ecfb960511e9
DTSTART;VALUE=DATE:20270331
DTEND;VALUE=DATE:20270401
DESCRIPTION:
LOCATION:
SUMMARY:César Chávez Day
END:VEVENT
BEGIN:VEVENT
DTSTAMP:20260425T173034Z
UID:80c9dcc0-bd7f-44e0-a087-43c3e65927e3
DTSTART;VALUE=DATE:20280331
DTEND;VALUE=DATE:20280401
DESCRIPTION:
LOCATION:
SUMMARY:César Chávez Day
END:VEVENT
BEGIN:VEVENT
DTSTAMP:20260425T173034Z
UID:e5133191-d391-4a26-b93a-a4672fc483dd
DTSTART;VALUE=DATE:20290331
DTEND;VALUE=DATE:20290401
DESCRIPTION:
LOCATION:
SUMMARY:César Chávez Day
END:VEVENT
BEGIN:VEVENT
DTSTAMP:20260425T173034Z
UID:89fe5baa-7a32-4ed5-ba54-ca289a490f81
DTSTART;VALUE=DATE:20300331
DTEND;VALUE=DATE:20300401
DESCRIPTION:
LOCATION:
SUMMARY:César Chávez Day
END:VEVENT
BEGIN:VEVENT
DTSTAMP:20260425T173034Z
UID:038660c7-0ca4-4561-856d-c9033a0a86d5
DTSTART;VALUE=DATE:20310331
DTEND;VALUE=DATE:20310401
DESCRIPTION:
LOCATION:
SUMMARY:César Chávez Day
END:VEVENT
BEGIN:VEVENT
DTSTAMP:20260425T173034Z
UID:daf3ccea-8c6a-432e-bc23-86f793f45a3a
DTSTART;VALUE=DATE:20320331
DTEND;VALUE=DATE:20320401
DESCRIPTION:
LOCATION:
SUMMARY:César Chávez Day
END:VEVENT
BEGIN:VEVENT
DTSTAMP:20260425T173034Z
UID:c799e507-6e6e-4d65-8374-fd6634d62fc4
DTSTART;VALUE=DATE:20330331
DTEND;VALUE=DATE:20330401
DESCRIPTION:
LOCATION:
SUMMARY:César Chávez Day
END:VEVENT
BEGIN:VEVENT
DTSTAMP:20260425T173034Z
UID:b30c34a7-3fb0-4e75-8588-67090d5360b7
DTSTART;VALUE=DATE:20340331
DTEND;VALUE=DATE:20340401
DESCRIPTION:
LOCATION:
SUMMARY:César Chávez Day
END:VEVENT
BEGIN:VEVENT
DTSTAMP:20260425T173034Z
UID:548529f8-fde6-4fa1-bd38-8e0e10b18bb9
DTSTART;VALUE=DATE:20350331
DTEND;VALUE=DATE:20350401
DESCRIPTION:
LOCATION:
SUMMARY:César Chávez Day
END:VEVENT
BEGIN:VEVENT
DTSTAMP:20260425T173034Z
UID:e727eaad-0346-4d02-aa7d-cef60a9207f7
DTSTART;VALUE=DATE:20360331
DTEND;VALUE=DATE:20360401
DESCRIPTION:
LOCATION:
SUMMARY:César Chávez Day
END:VEVENT
BEGIN:VEVENT
DTSTAMP:20260425T173034Z
UID:e1845c0a-b4ed-4492-bb0e-383a6115f5f2
DTSTART;VALUE=DATE:20370331
DTEND;VALUE=DATE:20370401
DESCRIPTION:
LOCATION:
SUMMARY:César Chávez Day
END:VEVENT
BEGIN:VEVENT
DTSTAMP:20260425T173034Z
UID:3c59c235-3e84-4888-bd62-59d4513e6234
DTSTART;VALUE=DATE:20380331
DTEND;VALUE=DATE:20380401
DESCRIPTION:
LOCATION:
SUMMARY:César Chávez Day
END:VEVENT
BEGIN:VEVENT
DTSTAMP:20260425T173034Z
UID:cfbc6abb-d7f6-4688-b7d2-3c629ce87b95
DTSTART;VALUE=DATE:20390331
DTEND;VALUE=DATE:20390401
DESCRIPTION:
LOCATION:
SUMMARY:César Chávez Day
END:VEVENT
BEGIN:VEVENT
DTSTAMP:20260425T173034Z
UID:3debd9b1-cf53-4e38-937b-177e2e984076
DTSTART;VALUE=DATE:20400331
DTEND;VALUE=DATE:20400401
DESCRIPTION:
LOCATION:
SUMMARY:César Chávez Day
END:VEVENT
BEGIN:VEVENT
DTSTAMP:20260425T173034Z
UID:27994dcc-69dd-4c05-9e0e-5efc2822d8dd
DTSTART;VALUE=DATE:20410331
DTEND;VALUE=DATE:20410401
DESCRIPTION:
LOCATION:
SUMMARY:César Chávez Day
END:VEVENT
BEGIN:VEVENT
DTSTAMP:20260425T173034Z
UID:a422b958-b989-4da4-9fc7-4e416688cfdb
DTSTART;VALUE=DATE:20420331
DTEND;VALUE=DATE:20420401
DESCRIPTION:
LOCATION:
SUMMARY:César Chávez Day
END:VEVENT
BEGIN:VEVENT
DTSTAMP:20260425T173034Z
UID:3251bf2a-0525-419a-bbe5-dab9477fd68a
DTSTART;VALUE=DATE:20430331
DTEND;VALUE=DATE:20430401
DESCRIPTION:
LOCATION:
SUMMARY:César Chávez Day
END:VEVENT
BEGIN:VEVENT
DTSTAMP:20260425T173034Z
UID:b60b4f20-30c9-4f0c-b5cc-bbd5d0c17c6f
DTSTART;VALUE=DATE:20440331
DTEND;VALUE=DATE:20440401
DESCRIPTION:
LOCATION:
SUMMARY:César Chávez Day
END:VEVENT
BEGIN:VEVENT
DTSTAMP:20260425T173034Z
UID:555587a2-a096-4893-bbed-aa92db6ebd17
DTSTART;VALUE=DATE:20450331
DTEND;VALUE=DATE:20450401
DESCRIPTION:
LOCATION:
SUMMARY:César Chávez Day
END:VEVENT
BEGIN:VEVENT
DTSTAMP:20260425T173034Z
UID:a18d44bb-a9ab-4532-809d-fbe29a71bd22
DTSTART;VALUE=DATE:20460331
DTEND;VALUE=DATE:20460401
DESCRIPTION:
LOCATION:
SUMMARY:César Chávez Day
END:VEVENT
BEGIN:VEVENT
DTSTAMP:20260425T173034Z
UID:1c9c842d-7833-44e0-aa2d-31735230d66e
DTSTART;VALUE=DATE:20470331
DTEND;VALUE=DATE:20470401
DESCRIPTION:
LOCATION:
SUMMARY:César Chávez Day
END:VEVENT
BEGIN:VEVENT
DTSTAMP:20260425T173034Z
UID:a6c0aaa5-3c16-4ee1-ab13-baefc850c183
DTSTART;VALUE=DATE:20480331
DTEND;VALUE=DATE:20480401
DESCRIPTION:
LOCATION:
SUMMARY:César Chávez Day
END:VEVENT
BEGIN:VEVENT
DTSTAMP:20260425T173034Z
UID:eee35da2-1a52-4167-9d77-c6e48d166afa
DTSTART;VALUE=DATE:20490331
DTEND;VALUE=DATE:20490401
DESCRIPTION:
LOCATION:
SUMMARY:César Chávez Day
END:VEVENT
BEGIN:VEVENT
DTSTAMP:20260425T173034Z
UID:5bf305c4-5099-42e9-94e0-1a08604fa5cb
DTSTART;VALUE=DATE:20500331
DTEND;VALUE=DATE:20500401
DESCRIPTION:
LOCATION:
SUMMARY:César Chávez Day
END:VEVENT
BEGIN:VEVENT
DTSTAMP:20260425T173034Z
UID:0f43eeed-25d6-4018-812f-711e39ee9c58
DTSTART;VALUE=DATE:20510331
DTEND;VALUE=DATE:20510401
DESCRIPTION:
LOCATION:
SUMMARY:César Chávez Day
END:VEVENT
BEGIN:VEVENT
DTSTAMP:20260425T173034Z
UID:363bfa52-a3a3-42f4-84a1-840e71cd5eed
DTSTART;VALUE=DATE:20520331
DTEND;VALUE=DATE:20520401
DESCRIPTION:
LOCATION:
SUMMARY:César Chávez Day
END:VEVENT
BEGIN:VEVENT
DTSTAMP:20260425T173034Z
UID:92092d90-8fa3-4b34-b43a-4a32afe44a61
DTSTART;VALUE=DATE:20530331
DTEND;VALUE=DATE:20530401
DESCRIPTION:
LOCATION:
SUMMARY:César Chávez Day
END:VEVENT
BEGIN:VEVENT
DTSTAMP:20260425T173034Z
UID:96a2ede3-4044-4274-be9b-334a61db6bd5
DTSTART;VALUE=DATE:20540331
DTEND;VALUE=DATE:20540401
DESCRIPTION:
LOCATION:
SUMMARY:César Chávez Day
END:VEVENT
BEGIN:VEVENT
DTSTAMP:20260425T173034Z
UID:26858f09-5171-4dcc-b0cb-849653f0ba6f
DTSTART;VALUE=DATE:20550331
DTEND;VALUE=DATE:20550401
DESCRIPTION:
LOCATION:
SUMMARY:César Chávez Day
END:VEVENT
BEGIN:VEVENT
DTSTAMP:20260425T173034Z
UID:4e10b2c3-5f41-47ab-ba1e-be8c13a68bac
DTSTART;VALUE=DATE:20560331
DTEND;VALUE=DATE:20560401
DESCRIPTION:
LOCATION:
SUMMARY:César Chávez Day
END:VEVENT
BEGIN:VEVENT
DTSTAMP:20260425T173034Z
UID:130c8ab7-f21f-4ae4-8df0-0c1b419e2157
DTSTART;VALUE=DATE:20570331
DTEND;VALUE=DATE:20570401
DESCRIPTION:
LOCATION:
SUMMARY:César Chávez Day
END:VEVENT
BEGIN:VEVENT
DTSTAMP:20260425T173034Z
UID:0a5dcbe1-a2d0-4ef6-8f7f-b6333f235f44
DTSTART;VALUE=DATE:20580331
DTEND;VALUE=DATE:20580401
DESCRIPTION:
LOCATION:
SUMMARY:César Chávez Day
END:VEVENT
BEGIN:VEVENT
DTSTAMP:20260425T173034Z
UID:4761242a-d520-4a84-9cf7-a191011cf5aa
DTSTART;VALUE=DATE:20590331
DTEND;VALUE=DATE:20590401
DESCRIPTION:
LOCATION:
SUMMARY:César Chávez Day
END:VEVENT
BEGIN:VEVENT
DTSTAMP:20260425T173034Z
UID:3c82e049-84f1-4ea9-a913-93190e632a07
DTSTART;VALUE=DATE:20600331
DTEND;VALUE=DATE:20600401
DESCRIPTION:
LOCATION:
SUMMARY:César Chávez Day
END:VEVENT
BEGIN:VEVENT
DTSTAMP:20260425T173034Z
UID:37cc3389-b1a3-4ffa-8971-b7fbb1824cd4
DTSTART;VALUE=DATE:20610331
DTEND;VALUE=DATE:20610401
DESCRIPTION:
LOCATION:
SUMMARY:César Chávez Day
END:VEVENT
BEGIN:VEVENT
DTSTAMP:20260425T173034Z
UID:371e44e9-d5ba-4931-b393-43e558aa1b8b
DTSTART;VALUE=DATE:20620331
DTEND;VALUE=DATE:20620401
DESCRIPTION:
LOCATION:
SUMMARY:César Chávez Day
END:VEVENT
BEGIN:VEVENT
DTSTAMP:20260425T173034Z
UID:47920890-76f5-4412-9f03-e63c68d2e985
DTSTART;VALUE=DATE:20630331
DTEND;VALUE=DATE:20630401
DESCRIPTION:
LOCATION:
SUMMARY:César Chávez Day
END:VEVENT
BEGIN:VEVENT
DTSTAMP:20260425T173034Z
UID:9e0c5a38-df18-408f-9c40-20569df91966
DTSTART;VALUE=DATE:20640331
DTEND;VALUE=DATE:20640401
DESCRIPTION:
LOCATION:
SUMMARY:César Chávez Day
END:VEVENT
BEGIN:VEVENT
DTSTAMP:20260425T173034Z
UID:a969b292-50d4-43e8-bf0d-5c05fd8f7fd3
DTSTART;VALUE=DATE:20650331
DTEND;VALUE=DATE:20650401
DESCRIPTION:
LOCATION:
SUMMARY:César Chávez Day
END:VEVENT
BEGIN:VEVENT
DTSTAMP:20260425T173034Z
UID:1e3bb8bc-db2d-4193-bfda-91277f5a0079
DTSTART;VALUE=DATE:20660331
DTEND;VALUE=DATE:20660401
DESCRIPTION:
LOCATION:
SUMMARY:César Chávez Day
END:VEVENT
BEGIN:VEVENT
DTSTAMP:20260425T173034Z
UID:e8b2edd3-6c81-493e-ac30-1be614022de5
DTSTART;VALUE=DATE:20670331
DTEND;VALUE=DATE:20670401
DESCRIPTION:
LOCATION:
SUMMARY:César Chávez Day
END:VEVENT
BEGIN:VEVENT
DTSTAMP:20260425T173034Z
UID:5c2f1437-2bf7-4c93-b8ed-4cd3eaaaa068
DTSTART;VALUE=DATE:20680331
DTEND;VALUE=DATE:20680401
DESCRIPTION:
LOCATION:
SUMMARY:César Chávez Day
END:VEVENT
BEGIN:VEVENT
DTSTAMP:20260425T173034Z
UID:f4a5f13e-5c72-4a43-abfd-8265dd2d1c45
DTSTART;VALUE=DATE:20690331
DTEND;VALUE=DATE:20690401
DESCRIPTION:
LOCATION:
SUMMARY:César Chávez Day
END:VEVENT
BEGIN:VEVENT
DTSTAMP:20260425T173034Z
UID:df4a1ecc-2257-47da-b615-3de6b86330b1
DTSTART;VALUE=DATE:20700331
DTEND;VALUE=DATE:20700401
DESCRIPTION:
LOCATION:
SUMMARY:César Chávez Day
END:VEVENT
BEGIN:VEVENT
DTSTAMP:20260425T173034Z
UID:0de7adc0-0e96-4b52-8c4d-2beaa0e40083
DTSTART;VALUE=DATE:20710331
DTEND;VALUE=DATE:20710401
DESCRIPTION:
LOCATION:
SUMMARY:César Chávez Day
END:VEVENT
BEGIN:VEVENT
DTSTAMP:20260425T173034Z
UID:0014d83d-2722-4c2d-a51c-e15b1c0e44d6
DTSTART;VALUE=DATE:20720331
DTEND;VALUE=DATE:20720401
DESCRIPTION:
LOCATION:
SUMMARY:César Chávez Day
END:VEVENT
BEGIN:VEVENT
DTSTAMP:20260425T173034Z
UID:15579b84-ddea-4195-948c-21af9c9bebdc
DTSTART;VALUE=DATE:20730331
DTEND;VALUE=DATE:20730401
DESCRIPTION:
LOCATION:
SUMMARY:César Chávez Day
END:VEVENT
BEGIN:VEVENT
DTSTAMP:20260425T173034Z
UID:12b97fce-06bc-44e4-a4d9-440af11a7758
DTSTART;VALUE=DATE:20740331
DTEND;VALUE=DATE:20740401
DESCRIPTION:
LOCATION:
SUMMARY:César Chávez Day
END:VEVENT
BEGIN:VEVENT
DTSTAMP:20260425T173034Z
UID:a81e0ba4-a099-40ba-a140-c963c06cc558
DTSTART;VALUE=DATE:20750331
DTEND;VALUE=DATE:20750401
DESCRIPTION:
LOCATION:
SUMMARY:César Chávez Day
END:VEVENT
BEGIN:VEVENT
DTSTAMP:20260425T173034Z
UID:821859a4-8902-4c2e-90b9-b8c0d0df8d41
DTSTART;VALUE=DATE:20760331
DTEND;VALUE=DATE:20760401
DESCRIPTION:
LOCATION:
SUMMARY:César Chávez Day
END:VEVENT
BEGIN:VEVENT
DTSTAMP:20260425T173034Z
UID:56516dbe-5a0c-43a7-b540-a998fe4854d7
DTSTART;VALUE=DATE:20770331
DTEND;VALUE=DATE:20770401
DESCRIPTION:
LOCATION:
SUMMARY:César Chávez Day
END:VEVENT
BEGIN:VEVENT
DTSTAMP:20260425T173034Z
UID:8cc600a2-0a7d-4f66-a8f9-0f7bb950ccec
DTSTART;VALUE=DATE:20780331
DTEND;VALUE=DATE:20780401
DESCRIPTION:
LOCATION:
SUMMARY:César Chávez Day
END:VEVENT
BEGIN:VEVENT
DTSTAMP:20260425T173034Z
UID:5ef04f4c-2c56-4fac-a142-b1e4d8ea05e8
DTSTART;VALUE=DATE:20790331
DTEND;VALUE=DATE:20790401
DESCRIPTION:
LOCATION:
SUMMARY:César Chávez Day
END:VEVENT
BEGIN:VEVENT
DTSTAMP:20260425T173034Z
UID:02df78a9-6e3c-44c9-b448-8faabecc0234
DTSTART;VALUE=DATE:20800331
DTEND;VALUE=DATE:20800401
DESCRIPTION:
LOCATION:
SUMMARY:César Chávez Day
END:VEVENT
BEGIN:VEVENT
DTSTAMP:20260425T173034Z
UID:11f1b05b-ecef-478b-98b0-71423694ccda
DTSTART;VALUE=DATE:20810331
DTEND;VALUE=DATE:20810401
DESCRIPTION:
LOCATION:
SUMMARY:César Chávez Day
END:VEVENT
BEGIN:VEVENT
DTSTAMP:20260425T173034Z
UID:7a3eaba4-d485-4fdd-a32c-87cb9aa5a399
DTSTART;VALUE=DATE:20820331
DTEND;VALUE=DATE:20820401
DESCRIPTION:
LOCATION:
SUMMARY:César Chávez Day
END:VEVENT
BEGIN:VEVENT
DTSTAMP:20260425T173034Z
UID:723b77cf-757b-4d14-9e16-6f6c405249d9
DTSTART;VALUE=DATE:20830331
DTEND;VALUE=DATE:20830401
DESCRIPTION:
LOCATION:
SUMMARY:César Chávez Day
END:VEVENT
BEGIN:VEVENT
DTSTAMP:20260425T173034Z
UID:250a3c50-20f6-4298-b9cb-5750639b46fc
DTSTART;VALUE=DATE:20840331
DTEND;VALUE=DATE:20840401
DESCRIPTION:
LOCATION:
SUMMARY:César Chávez Day
END:VEVENT
BEGIN:VEVENT
DTSTAMP:20260425T173034Z
UID:df98b4c7-9597-4f6c-9add-5c40ae47cc5b
DTSTART;VALUE=DATE:20850331
DTEND;VALUE=DATE:20850401
DESCRIPTION:
LOCATION:
SUMMARY:César Chávez Day
END:VEVENT
BEGIN:VEVENT
DTSTAMP:20260425T173034Z
UID:44747c15-9a50-4b8f-bc44-077177d9adaa
DTSTART;VALUE=DATE:20860331
DTEND;VALUE=DATE:20860401
DESCRIPTION:
LOCATION:
SUMMARY:César Chávez Day
END:VEVENT
BEGIN:VEVENT
DTSTAMP:20260425T173034Z
UID:d76d24a5-d913-49de-8963-0014358bbe20
DTSTART;VALUE=DATE:20870331
DTEND;VALUE=DATE:20870401
DESCRIPTION:
LOCATION:
SUMMARY:César Chávez Day
END:VEVENT
BEGIN:VEVENT
DTSTAMP:20260425T173034Z
UID:d3cdd91c-8f5c-4086-bc59-eafdc15c667b
DTSTART;VALUE=DATE:20880331
DTEND;VALUE=DATE:20880401
DESCRIPTION:
LOCATION:
SUMMARY:César Chávez Day
END:VEVENT
BEGIN:VEVENT
DTSTAMP:20260425T173034Z
UID:97005d49-7df3-4fc4-b0be-f2cf83a1ec11
DTSTART;VALUE=DATE:20890331
DTEND;VALUE=DATE:20890401
DESCRIPTION:
LOCATION:
SUMMARY:César Chávez Day
END:VEVENT
BEGIN:VEVENT
DTSTAMP:20260425T173034Z
UID:3ed3e53e-03d8-4705-998a-dfa15bd21feb
DTSTART;VALUE=DATE:20900331
DTEND;VALUE=DATE:20900401
DESCRIPTION:
LOCATION:
SUMMARY:César Chávez Day
END:VEVENT
BEGIN:VEVENT
DTSTAMP:20260425T173034Z
UID:09cf8322-a84d-4a67-8699-e3288a16ea2d
DTSTART;VALUE=DATE:20910331
DTEND;VALUE=DATE:20910401
DESCRIPTION:
LOCATION:
SUMMARY:César Chávez Day
END:VEVENT
BEGIN:VEVENT
DTSTAMP:20260425T173034Z
UID:0e3f355b-33ff-42fd-ad94-8470adc61044
DTSTART;VALUE=DATE:20920331
DTEND;VALUE=DATE:20920401
DESCRIPTION:
LOCATION:
SUMMARY:César Chávez Day
END:VEVENT
BEGIN:VEVENT
DTSTAMP:20260425T173034Z
UID:f6e24a2f-bc3c-4e3b-ae4b-14008c7d1562
DTSTART;VALUE=DATE:20930331
DTEND;VALUE=DATE:20930401
DESCRIPTION:
LOCATION:
SUMMARY:César Chávez Day
END:VEVENT
BEGIN:VEVENT
DTSTAMP:20260425T173034Z
UID:01ae6dfd-f128-4dfb-9888-5c46d7c77f28
DTSTART;VALUE=DATE:20940331
DTEND;VALUE=DATE:20940401
DESCRIPTION:
LOCATION:
SUMMARY:César Chávez Day
END:VEVENT
BEGIN:VEVENT
DTSTAMP:20260425T173034Z
UID:6bf1e539-b211-4be3-91a8-d96159379453
DTSTART;VALUE=DATE:20950331
DTEND;VALUE=DATE:20950401
DESCRIPTION:
LOCATION:
SUMMARY:César Chávez Day
END:VEVENT
BEGIN:VEVENT
DTSTAMP:20260425T173034Z
UID:2f6e8272-9dbb-49ad-a29c-fa5d38aaf41e
DTSTART;VALUE=DATE:20960331
DTEND;VALUE=DATE:20960401
DESCRIPTION:
LOCATION:
SUMMARY:César Chávez Day
END:VEVENT
BEGIN:VEVENT
DTSTAMP:20260425T173034Z
UID:1c17b72f-6bee-4fbe-a199-ad1bb0467bd7
DTSTART;VALUE=DATE:20970331
DTEND;VALUE=DATE:20970401
DESCRIPTION:
LOCATION:
SUMMARY:César Chávez Day
END:VEVENT
BEGIN:VEVENT
DTSTAMP:20260425T173034Z
UID:ff79f406-5418-4774-9184-5837fbafd88f
DTSTART;VALUE=DATE:20980331
DTEND;VALUE=DATE:20980401
DESCRIPTION:
LOCATION:
SUMMARY:César Chávez Day
END:VEVENT
BEGIN:VEVENT
DTSTAMP:20260425T173034Z
UID:5750491c-88bb-4b40-a990-8841f38fc897
DTSTART;VALUE=DATE:20990331
DTEND;VALUE=DATE:20990401
DESCRIPTION:
LOCATION:
SUMMARY:César Chávez Day
END:VEVENT
END:VCALENDAR
