BEGIN:VCALENDAR
VERSION:2.0
PRODID:icalendar-ruby
CALSCALE:GREGORIAN
BEGIN:VTIMEZONE
TZID:America/Denver
BEGIN:DAYLIGHT
DTSTART:20260308T030000
TZOFFSETFROM:-0700
TZOFFSETTO:-0600
RRULE:FREQ=YEARLY;BYDAY=2SU;BYMONTH=3
TZNAME:MDT
END:DAYLIGHT
BEGIN:STANDARD
DTSTART:20261101T010000
TZOFFSETFROM:-0600
TZOFFSETTO:-0700
RRULE:FREQ=YEARLY;BYDAY=1SU;BYMONTH=11
TZNAME:MST
END:STANDARD
END:VTIMEZONE
BEGIN:VEVENT
DTSTAMP:20260419T133434Z
UID:29d7ed0d-4808-4a32-83eb-b98307821cde
DTSTART:20260421T080000
DTEND:20260423T150000
DESCRIPTION:
LOCATION:
SUMMARY:CMAS Testing 3rd-5th / Examenes CMAS 3ro-5to
END:VEVENT
BEGIN:VEVENT
DTSTAMP:20260419T133434Z
UID:58ad7567-800d-4064-b4d4-834f8447e5d0
DTSTART:20260430T083000
DTEND:20260430T091500
DESCRIPTION:
LOCATION:
SUMMARY:Jaguar of the Month Awards Breakfast / Desayuno de jaguar del mes 
END:VEVENT
BEGIN:VEVENT
DTSTAMP:20260419T133434Z
UID:2d358ebc-24da-45e1-bf04-663c376fe084
DTSTART:20260501T080000
DTEND:20260501T150000
DESCRIPTION:
LOCATION:
SUMMARY:NO SCHOOL - Teacher Planning Day / NO HAY ESCUELA - Día de planifi
 cación de maestros
END:VEVENT
BEGIN:VEVENT
DTSTAMP:20260419T133434Z
UID:de6773d4-f1d7-4fcf-a8ff-dcf92e9d8fc5
DTSTART:20260504T080000
DTEND:20260504T150000
DESCRIPTION:
LOCATION:
SUMMARY:NO SCHOOL - Teacher Planning Day / NO HAY ESCUELA - Día de planifi
 cación de maestros
END:VEVENT
BEGIN:VEVENT
DTSTAMP:20260419T133434Z
UID:02dde266-5ece-424d-a318-b1f88977ed6a
DTSTART:20260504T080000
DTEND:20260508T150000
DESCRIPTION:
LOCATION:
SUMMARY:Teacher Appreciation Week/ Semana de agradecimiento a los maestros
END:VEVENT
BEGIN:VEVENT
DTSTAMP:20260419T133434Z
UID:779f63c1-08bd-475f-97f2-2d80700b9e34
DTSTART:20260506T080000
DTEND:20260506T134500
DESCRIPTION:
LOCATION:
SUMMARY:Arts Day/ Día de arte
END:VEVENT
BEGIN:VEVENT
DTSTAMP:20260419T133434Z
UID:1822648c-7314-4f95-b8dc-2a62b631f9fe
DTSTART:20260512T080000
DTEND:20260512T110000
DESCRIPTION:<p>Time TBD</p>
LOCATION:
SUMMARY:ECE Field Day/ Día de campo ECE
END:VEVENT
BEGIN:VEVENT
DTSTAMP:20260419T133434Z
UID:79ff8d88-645b-4d32-b836-0e5d2e0317ef
DTSTART:20260515T001500
DTEND:20260515T150000
DESCRIPTION:<p>Time TBD</p>
LOCATION:
SUMMARY:K-5 Field Day / Día de campo K-5
END:VEVENT
BEGIN:VEVENT
DTSTAMP:20260419T133434Z
UID:00d9c6d1-f7bc-4f82-aceb-77b75b800c71
DTSTART:20260522T150000
DTEND:20260522T170000
DESCRIPTION:
LOCATION:
SUMMARY:Schoolwide TRACKS Party/ Día del niño
END:VEVENT
BEGIN:VEVENT
DTSTAMP:20260419T133434Z
UID:56c0c8f1-dd4d-4d56-bc33-0fdc0e0c7d43
DTSTART:20260525T080000
DTEND:20260525T150000
DESCRIPTION:
LOCATION:
SUMMARY:No School/ No hay escuela - MEMORIAL DAY
END:VEVENT
BEGIN:VEVENT
DTSTAMP:20260419T133434Z
UID:1a3ff162-8204-434b-be93-93c33954a471
DTSTART:20260527T080000
DTEND:20260527T134500
DESCRIPTION:<p>Time TBD</p>
LOCATION:
SUMMARY:5th Grade Graduation/ Graduación de 5to
END:VEVENT
BEGIN:VEVENT
DTSTAMP:20260419T133434Z
UID:381b2eca-80fc-4026-a7b8-575dabe7343d
DTSTART:20260528T083000
DTEND:20260528T091500
DESCRIPTION:
LOCATION:
SUMMARY:Jaguar of the Month Awards Breakfast / Desayuno de jaguar del mes 
END:VEVENT
BEGIN:VEVENT
DTSTAMP:20260419T133434Z
UID:902904a2-8e7b-496f-b660-c34ac9d409da
DTSTART:20260529T080000
DTEND:20260529T113000
DESCRIPTION:
LOCATION:
SUMMARY:Last Day of School 1/2 Day! / Ultimo día de escuela\, mediodia
END:VEVENT
END:VCALENDAR
