BEGIN:VCALENDAR
VERSION:2.0
PRODID:icalendar-ruby
CALSCALE:GREGORIAN
BEGIN:VTIMEZONE
TZID:America/Denver
BEGIN:DAYLIGHT
DTSTART:20260308T030000
TZOFFSETFROM:-0700
TZOFFSETTO:-0600
RRULE:FREQ=YEARLY;BYDAY=2SU;BYMONTH=3
TZNAME:MDT
END:DAYLIGHT
BEGIN:STANDARD
DTSTART:20261101T010000
TZOFFSETFROM:-0600
TZOFFSETTO:-0700
RRULE:FREQ=YEARLY;BYDAY=1SU;BYMONTH=11
TZNAME:MST
END:STANDARD
END:VTIMEZONE
BEGIN:VEVENT
DTSTAMP:20260423T155639Z
UID:89c87130-f3c5-48cc-bfc5-be5fb1c5a3c8
DTSTART;VALUE=DATE:20260420
DTEND;VALUE=DATE:20260425
DESCRIPTION:
LOCATION:
SUMMARY:CMAS/CoAlt Make-Ups
END:VEVENT
BEGIN:VEVENT
DTSTAMP:20260423T155639Z
UID:f6bcf528-c3f4-4606-bbed-a969f20a78f4
DTSTART;VALUE=DATE:20260423
DTEND;VALUE=DATE:20260424
DESCRIPTION:
LOCATION:
SUMMARY:5th Grade Rockies Game STEM Day
END:VEVENT
BEGIN:VEVENT
DTSTAMP:20260423T155639Z
UID:89453a6f-d8be-46b0-8509-e571ffd19e02
DTSTART;VALUE=DATE:20260423
DTEND;VALUE=DATE:20260424
DESCRIPTION:
LOCATION:
SUMMARY:Shake Shack Dine Out
END:VEVENT
BEGIN:VEVENT
DTSTAMP:20260423T155639Z
UID:8a84d980-1105-4de0-bdc3-ddb06608dbb3
DTSTART;VALUE=DATE:20260429
DTEND;VALUE=DATE:20260430
DESCRIPTION:
LOCATION:
SUMMARY:Dish A Story/WOW Art Show - evening - TBD
END:VEVENT
BEGIN:VEVENT
DTSTAMP:20260423T155639Z
UID:8549cf49-03b4-483c-82ba-96ace0a09e81
DTSTART;VALUE=DATE:20260501
DTEND;VALUE=DATE:20260502
DESCRIPTION:
LOCATION:
SUMMARY:No School for Students - Asbury Day
END:VEVENT
BEGIN:VEVENT
DTSTAMP:20260423T155639Z
UID:bed6bd06-4db5-4e28-ad73-730bb1ea2eed
DTSTART;VALUE=DATE:20260502
DTEND;VALUE=DATE:20260503
DESCRIPTION:
LOCATION:CSU Spur\, 4777 National Western Dr\, Denver\, CO 80216\, USA
SUMMARY:DPS STEAM Day @CSU Spur
END:VEVENT
BEGIN:VEVENT
DTSTAMP:20260423T155639Z
UID:445ee06a-fc05-4e6c-9614-10cee61c4f92
DTSTART:20260505T170000
DTEND:20260505T180000
DESCRIPTION:
LOCATION:Library
SUMMARY:CSC Meeting
END:VEVENT
BEGIN:VEVENT
DTSTAMP:20260423T155639Z
UID:67a605d9-c920-4b24-bf25-c962a3bb6369
DTSTART:20260505T180000
DTEND:20260505T190000
DESCRIPTION:
LOCATION:Auditorium
SUMMARY:PTSO Meeting
END:VEVENT
BEGIN:VEVENT
DTSTAMP:20260423T155639Z
UID:1b1cb7c6-dea7-4bd9-8d34-57de9bb7db1b
DTSTART;VALUE=DATE:20260507
DTEND;VALUE=DATE:20260508
DESCRIPTION:Asbury507 is the code
LOCATION:
SUMMARY:Asbury Birdcall Dine Out
END:VEVENT
BEGIN:VEVENT
DTSTAMP:20260423T155639Z
UID:1799ab16-140a-4097-804e-a5049c7539d7
DTSTART:20260507T150000
DTEND:20260507T170000
DESCRIPTION:
LOCATION:
SUMMARY:Student Led Conferences
END:VEVENT
BEGIN:VEVENT
DTSTAMP:20260423T155639Z
UID:b14f5a8d-65ad-4494-9122-6b91c01f407e
DTSTART:20260514T180000
DTEND:20260514T200000
DESCRIPTION:
LOCATION:Skate City Littleton\, 5801 S Lowell Way\, Littleton\, CO 80123\, 
 USA
SUMMARY:Asbury Skate City Night
END:VEVENT
BEGIN:VEVENT
DTSTAMP:20260423T155639Z
UID:b17e06c5-d6c2-4907-900d-a18dbfaf7fa9
DTSTART;VALUE=DATE:20260515
DTEND;VALUE=DATE:20260516
DESCRIPTION:
LOCATION:
SUMMARY:Asbury Field Day
END:VEVENT
BEGIN:VEVENT
DTSTAMP:20260423T155639Z
UID:6d0eb5d4-3f30-465d-b29a-439e3686481c
DTSTART:20260515T144000
DTEND:20260515T160000
DESCRIPTION:
LOCATION:
SUMMARY:Stay and Play after school with Kona Ice!
END:VEVENT
BEGIN:VEVENT
DTSTAMP:20260423T155639Z
UID:91746cdc-13dd-40bc-917b-57676266e842
DTSTART;VALUE=DATE:20260520
DTEND;VALUE=DATE:20260521
DESCRIPTION:
LOCATION:
SUMMARY:Kaos and Sweet Cow Combo Dineout
END:VEVENT
BEGIN:VEVENT
DTSTAMP:20260423T155639Z
UID:b9bb90a9-020d-42e4-b933-4790ca201224
DTSTART;VALUE=DATE:20260522
DTEND;VALUE=DATE:20260523
DESCRIPTION:
LOCATION:
SUMMARY:Field Day Raindate
END:VEVENT
BEGIN:VEVENT
DTSTAMP:20260423T155639Z
UID:9a8238f4-1c8e-4471-b4fa-f64233121890
DTSTART;VALUE=DATE:20260525
DTEND;VALUE=DATE:20260526
DESCRIPTION:
LOCATION:
SUMMARY:Memorial Day - No School
END:VEVENT
BEGIN:VEVENT
DTSTAMP:20260423T155639Z
UID:8a6896a8-457e-473b-9215-60758182e4c5
DTSTART:20260529T074000
DTEND:20260529T110000
DESCRIPTION:
LOCATION:
SUMMARY:Last Day of School - Half Day
END:VEVENT
BEGIN:VEVENT
DTSTAMP:20260423T155639Z
UID:2cfdcfed-8ae1-4420-a1b1-e77577c92a5a
DTSTART;VALUE=DATE:20260619
DTEND;VALUE=DATE:20260620
DESCRIPTION:
LOCATION:
SUMMARY:Juneteenth
END:VEVENT
END:VCALENDAR
