BEGIN:VCALENDAR
VERSION:2.0
PRODID:icalendar-ruby
CALSCALE:GREGORIAN
BEGIN:VTIMEZONE
TZID:America/Denver
BEGIN:DAYLIGHT
DTSTART:20260308T030000
TZOFFSETFROM:-0700
TZOFFSETTO:-0600
RRULE:FREQ=YEARLY;BYDAY=2SU;BYMONTH=3
TZNAME:MDT
END:DAYLIGHT
BEGIN:STANDARD
DTSTART:20261101T010000
TZOFFSETFROM:-0600
TZOFFSETTO:-0700
RRULE:FREQ=YEARLY;BYDAY=1SU;BYMONTH=11
TZNAME:MST
END:STANDARD
END:VTIMEZONE
BEGIN:VEVENT
DTSTAMP:20260421T085054Z
UID:c62bb9d4-571f-4df0-983f-f1c9bad6dbe3
DTSTART:20260424T163000
DTEND:20260424T173000
DESCRIPTION:
LOCATION:2285 S Federal Blvd\, Denver\, CO 80219\, USA
SUMMARY:PAC METING/ NEW COMERS
END:VEVENT
END:VCALENDAR
