BEGIN:VCALENDAR
VERSION:2.0
PRODID:icalendar-ruby
CALSCALE:GREGORIAN
BEGIN:VTIMEZONE
TZID:America/New_York
BEGIN:DAYLIGHT
DTSTART:20260308T030000
TZOFFSETFROM:-0500
TZOFFSETTO:-0400
RRULE:FREQ=YEARLY;BYDAY=2SU;BYMONTH=3
TZNAME:EDT
END:DAYLIGHT
BEGIN:STANDARD
DTSTART:20261101T010000
TZOFFSETFROM:-0400
TZOFFSETTO:-0500
RRULE:FREQ=YEARLY;BYDAY=1SU;BYMONTH=11
TZNAME:EST
END:STANDARD
END:VTIMEZONE
BEGIN:VEVENT
DTSTAMP:20260420T062857Z
UID:32e1a898-4171-462c-a65b-d67840c70e53
DTSTART:20260421T173000
DTEND:20260421T193000
DESCRIPTION:<p><span><strong>5:30 PM Young 5's &amp\; K</strong></span></p>
 <p><span><strong>6:15 PM 1st grade</strong></span></p><p><span><strong>7:0
 0 PM 2nd Grade</strong></span></p>
LOCATION:Hart Middle School 
SUMMARY:🎵SPRING MUSIC PROGRAM - Y5's\, K\, 1st & 2nd
END:VEVENT
BEGIN:VEVENT
DTSTAMP:20260420T062857Z
UID:ae7789b9-047e-45ad-a19a-73e8ae11e7db
DTSTART:20260501T183000
DTEND:20260501T203000
DESCRIPTION:
LOCATION:HHS AUXILIARY GYM
SUMMARY:🎪DADDY-DAUGHTER DANCE 
END:VEVENT
BEGIN:VEVENT
DTSTAMP:20260420T062857Z
UID:237f6626-53b0-4375-aa22-92ec4436b0d7
DTSTART:20260514T180000
DTEND:20260514T200000
DESCRIPTION:
LOCATION:
SUMMARY:SPITLER PTO SPRING CARNIVAL 
END:VEVENT
BEGIN:VEVENT
DTSTAMP:20260420T062857Z
UID:360f791e-b3a8-463c-a3b5-b1fa67f81a1d
DTSTART:20260515T081500
DTEND:20260515T113000
DESCRIPTION:
LOCATION:
SUMMARY:1/2 DAY - PM TEACHER PD
END:VEVENT
BEGIN:VEVENT
DTSTAMP:20260420T062857Z
UID:e2ea0906-87d5-4e65-822e-d0596dcd13bf
DTSTART;VALUE=DATE:20260525
DTEND;VALUE=DATE:20260526
DESCRIPTION:
LOCATION:
SUMMARY:🚫NO SCHOOL - MEMORIAL DAY
END:VEVENT
BEGIN:VEVENT
DTSTAMP:20260420T062857Z
UID:e29f8cf3-d9b2-4fa6-a6fa-434327eb690c
DTSTART:20260601T080000
DTEND:20260601T160000
DESCRIPTION:
LOCATION:
SUMMARY:📚LITERATI BOOK FAIR
END:VEVENT
BEGIN:VEVENT
DTSTAMP:20260420T062857Z
UID:b2c6dc69-6c26-46df-bbb9-2895415e96d3
DTSTART:20260601T173000
DTEND:20260601T183000
DESCRIPTION:Spitler PTO (Parent Teacher Organization). All Lil’ Pirate pa
 rents &amp\; teachers are welcome to attend. Daycare and dinner will be pr
 ovided.&nbsp\;
LOCATION:
SUMMARY:🎯PTO MEETING 
END:VEVENT
BEGIN:VEVENT
DTSTAMP:20260420T062857Z
UID:00d3c5a1-3860-4e9c-a0d2-62ac3703d3f1
DTSTART:20260602T080000
DTEND:20260602T160000
DESCRIPTION:
LOCATION:
SUMMARY:📚LITERATI BOOK FAIR
END:VEVENT
BEGIN:VEVENT
DTSTAMP:20260420T062857Z
UID:fc025254-cb42-4989-b75a-cc8925134d52
DTSTART:20260603T080000
DTEND:20260603T160000
DESCRIPTION:
LOCATION:
SUMMARY:📚LITERATI BOOK FAIR
END:VEVENT
BEGIN:VEVENT
DTSTAMP:20260420T062857Z
UID:019c4e94-f03e-4b7e-a457-c264174aa573
DTSTART:20260603T124500
DTEND:20260603T144500
DESCRIPTION:
LOCATION:
SUMMARY:🏃‍♂️KINDERGARTEN & ESD TRACK & FIELD DAY
END:VEVENT
BEGIN:VEVENT
DTSTAMP:20260420T062857Z
UID:a16e4c42-7ce3-4bb9-8a06-48c71e4be263
DTSTART:20260604T080000
DTEND:20260604T160000
DESCRIPTION:
LOCATION:
SUMMARY:📚LITERATI BOOK FAIR
END:VEVENT
BEGIN:VEVENT
DTSTAMP:20260420T062857Z
UID:e3e49737-720d-443a-8dcc-635b32cc0939
DTSTART:20260604T124500
DTEND:20260604T144500
DESCRIPTION:
LOCATION:
SUMMARY:🏃‍♂️1ST & 2ND TRACK & FIELD DAY
END:VEVENT
BEGIN:VEVENT
DTSTAMP:20260420T062857Z
UID:eaee5f80-5f59-400b-a597-7f6537e13203
DTSTART:20260605T080000
DTEND:20260605T120000
DESCRIPTION:
LOCATION:
SUMMARY:📚LITERATI BOOK FAIR - LAST DAY
END:VEVENT
BEGIN:VEVENT
DTSTAMP:20260420T062857Z
UID:d8b9210b-a515-40b4-8387-c285e61a69e7
DTSTART:20260605T124500
DTEND:20260605T144500
DESCRIPTION:
LOCATION:
SUMMARY:🏃‍♂️3RD & 4TH TRACK & FIELD DAY
END:VEVENT
BEGIN:VEVENT
DTSTAMP:20260420T062857Z
UID:09b446d8-aedd-40d9-9a5e-dae041af1187
DTSTART:20260608T081500
DTEND:20260608T113000
DESCRIPTION:
LOCATION:
SUMMARY:1/2 DAY - PM TEACHER RECORD'S DAY
END:VEVENT
BEGIN:VEVENT
DTSTAMP:20260420T062857Z
UID:2294f673-cd2e-4140-ae73-c3e60faf3a48
DTSTART:20260609T081500
DTEND:20260609T113000
DESCRIPTION:
LOCATION:
SUMMARY:1/2 LAST DAY  OF SCHOOL - PM TEACHER RECORD'S DAY
END:VEVENT
BEGIN:VEVENT
DTSTAMP:20260420T062857Z
UID:65ea5da0-cd23-4d8a-8383-1f59ea1ee9e3
DTSTART:20260609T111000
DTEND:20260609T111500
DESCRIPTION:
LOCATION:
SUMMARY:🏃🏃‍♀️4TH RUNNING OF THE HALLS 
END:VEVENT
END:VCALENDAR
