BEGIN:VCALENDAR
VERSION:2.0
PRODID:icalendar-ruby
CALSCALE:GREGORIAN
BEGIN:VTIMEZONE
TZID:America/Phoenix
BEGIN:STANDARD
DTSTART:19671029T010000
TZOFFSETFROM:-0600
TZOFFSETTO:-0700
TZNAME:MST
END:STANDARD
END:VTIMEZONE
BEGIN:VEVENT
DTSTAMP:20260423T101330Z
UID:e041486d-d02a-4e58-b2be-cf8e3d9af55e
DTSTART;VALUE=DATE:20260428
DTEND;VALUE=DATE:20260429
DESCRIPTION:
LOCATION:
SUMMARY:School Bus Driver Appreciation Day
END:VEVENT
BEGIN:VEVENT
DTSTAMP:20260423T101330Z
UID:bb8b8d97-f5a5-4275-b8df-615d46a992e0
DTSTART;VALUE=DATE:20260501
DTEND;VALUE=DATE:20260502
DESCRIPTION:
LOCATION:
SUMMARY:Asian American and Pacific Islander Heritage Month Begins
END:VEVENT
BEGIN:VEVENT
DTSTAMP:20260423T101330Z
UID:8b9cc8d1-ae73-4f0f-a61c-3569ced887f5
DTSTART;VALUE=DATE:20260501
DTEND;VALUE=DATE:20260502
DESCRIPTION:
LOCATION:
SUMMARY:Mental Health Awareness Month Begins
END:VEVENT
BEGIN:VEVENT
DTSTAMP:20260423T101330Z
UID:25797ed3-4c0f-42a3-a5bf-7c5df7404534
DTSTART;VALUE=DATE:20260501
DTEND;VALUE=DATE:20260502
DESCRIPTION:
LOCATION:
SUMMARY:School Lunch Hero Day
END:VEVENT
BEGIN:VEVENT
DTSTAMP:20260423T101330Z
UID:b19fde23-55c0-4eea-b386-c29a9da71dc7
DTSTART:20260501T080000
DTEND:20260501T103000
DESCRIPTION:<html><head><meta http-equiv="Content-Type" content="text/html\
 ; charset=utf-8"><meta name="Generator" content="Microsoft Word 15 (filter
 ed medium)"><style><!--@font-face	{font-family:"Cambria Math"}@font-face	{
 font-family:Aptos}@font-face	{font-family:"Futura LT Book"}@font-face	{}p.
 MsoNormal\, li.MsoNormal\, div.MsoNormal	{margin:0in\;	font-size:11.0pt\;	
 font-family:"Aptos"\,sans-serif}span.EmailStyle17	{font-family:"Futura LT 
 Book"\;	color:windowtext\;	font-weight:normal\;	font-style:normal}.MsoChpD
 efault	{font-size:11.0pt}@page WordSection1	{margin:1.0in 1.0in 1.0in 1.0i
 n}div.WordSection1	{}ol	{margin-bottom:0in}ul	{margin-bottom:0in}--></styl
 e></head><body lang="EN-US" link="#467886" vlink="#96607D" style="word-wra
 p:break-word"><div class="WordSection1"><p class="MsoNormal"><span style="
 font-size:12.0pt\; font-family:'Futura LT Book'">Please join us for our fr
 ee mobile food distribution in collaboration with&nbsp\;St.&nbsp\;Mary's F
 ood Bank.</span></p><p class="MsoNormal"><span style="font-size:12.0pt\; f
 ont-family:'Futura LT Book'">&nbsp\;</span></p><p class="MsoNormal"><span 
 style="font-size:12.0pt\; font-family:'Futura LT Book'">Food items&nbsp\;w
 ill&nbsp\;be distributed in the parking lot of Bernard Black. Bring your I
 D and a piece of mail&nbsp\;to confirm your address.</span></p><p class="M
 soNormal"><span style="font-size:12.0pt\; font-family:'Futura LT Book'">&n
 bsp\;</span></p><p class="MsoNormal"><span style="font-size:12.0pt\; font-
 family:'Futura LT Book'">For everyone’s safety\, please enter the distri
 bution site via Southern and 27th Ave.</span></p></div></body></html>
LOCATION:Bernard Black Entrepreneurial Academy\, 6550 S 27th Ave\, Phoenix\
 , AZ
SUMMARY:St. Mary's Food Bank Mobile Distribution
END:VEVENT
BEGIN:VEVENT
DTSTAMP:20260423T101330Z
UID:76b7fc52-529a-4069-bc22-5b7315c51d01
DTSTART;VALUE=DATE:20260504
DTEND;VALUE=DATE:20260509
DESCRIPTION:
LOCATION:
SUMMARY:Teacher Appreciation Week
END:VEVENT
BEGIN:VEVENT
DTSTAMP:20260423T101330Z
UID:7fdf68b2-77c2-4359-aa14-c1748f8825b2
DTSTART:20260505T173000
DTEND:20260505T193000
DESCRIPTION:<html><head><meta http-equiv="Content-Type" content="text/html\
 ; charset=utf-8"><meta name="Generator" content="Microsoft Word 15 (filter
 ed medium)"><style><!--@font-face	{font-family:"Cambria Math"}@font-face	{
 font-family:Aptos}@font-face	{font-family:"Futura LT Book"}@font-face	{}p.
 MsoNormal\, li.MsoNormal\, div.MsoNormal	{margin:0in\;	font-size:11.0pt\;	
 font-family:"Aptos"\,sans-serif}a:link\, span.MsoHyperlink	{color:#467886\
 ;	text-decoration:underline}span.EmailStyle17	{font-family:"Futura LT Book
 "\;	color:windowtext\;	font-weight:normal\;	font-style:normal}.MsoChpDefau
 lt	{font-size:11.0pt}@page WordSection1	{margin:1.0in 1.0in 1.0in 1.0in}di
 v.WordSection1	{}--></style></head><body lang="EN-US" link="#467886" vlink
 ="#96607D" style="word-wrap:break-word"><div class="WordSection1"><p class
 ="MsoNormal"><span style="font-size:12.0pt\; font-family:'Futura LT Book'"
 >You are invited to attend the Roosevelt School District Board Meeting uti
 lizing Zoom technology. This technology allows you to view the board meeti
 ng on your computer as well as other mobile devices. After clicking the li
 nk below\, you will be prompted to install the Zoom plugin or app. Once in
 stalled\, this step won't be necessary for future meetings. You'll just cl
 ick the link below to connect.</span></p><p class="MsoNormal"><span style=
 "font-size:12.0pt\; font-family:'Futura LT Book'">&nbsp\;</span></p><p cla
 ss="MsoNormal"><span style="font-size:12.0pt\; font-family:'Futura LT Book
 '"><a href="https://zoom.us/j/741989868">Join the Meeting</a></span></p><p
  class="MsoNormal"><span style="font-size:12.0pt\; font-family:'Futura LT 
 Book'">&nbsp\;</span></p><p class="MsoNormal"><span style="font-size:12.0p
 t\; font-family:'Futura LT Book'">For Audio Call: +1 (646) 568 7788 or +1 
 (415) 762 9988</span></p><p class="MsoNormal"><span style="font-size:12.0p
 t\; font-family:'Futura LT Book'">Meeting ID: 741 989 868</span></p></div>
 </body></html>
LOCATION:Roosevelt School District\, 6000 S 7th St\, Phoenix\, AZ
SUMMARY:RSD Governing Board Meeting
END:VEVENT
BEGIN:VEVENT
DTSTAMP:20260423T101330Z
UID:219229ce-99a4-44cf-a09e-7bf5ccf723da
DTSTART:20260507T170000
DTEND:20260507T183000
DESCRIPTION:<html><head><meta http-equiv="Content-Type" content="text/html\
 ; charset=utf-8"><meta name="Generator" content="Microsoft Word 15 (filter
 ed medium)"><style><!--@font-face	{font-family:"Cambria Math"}@font-face	{
 font-family:Aptos}@font-face	{font-family:"Futura LT Book"}@font-face	{}p.
 MsoNormal\, li.MsoNormal\, div.MsoNormal	{margin:0in\;	font-size:11.0pt\;	
 font-family:"Aptos"\,sans-serif}span.EmailStyle17	{font-family:"Futura LT 
 Book"\;	color:windowtext\;	font-weight:normal\;	font-style:normal}.MsoChpD
 efault	{font-size:11.0pt}@page WordSection1	{margin:1.0in 1.0in 1.0in 1.0i
 n}div.WordSection1	{}--></style></head><body lang="EN-US" link="#467886" v
 link="#96607D" style="word-wrap:break-word"><div class="WordSection1"><p c
 lass="MsoNormal"><span style="font-size:12.0pt\; font-family:'Futura LT Bo
 ok'">This special celebration is an opportunity for us to recognize and ho
 nor our retirees and team members&nbsp\;who have reached 20 or more years 
 of service with the Roosevelt School District for their dedication\, commi
 tment\,&nbsp\;and years of service to our students\, families\, and commun
 ity.</span></p><p class="MsoNormal"><span style="font-size:12.0pt\; font-f
 amily:'Futura LT Book'">&nbsp\;</span></p></div></body></html>
LOCATION:Roosevelt School District Neighborhood House\, 6029 S 7th St\, Pho
 enix\, AZ
SUMMARY:Retiree and Years of Service Celebration
END:VEVENT
BEGIN:VEVENT
DTSTAMP:20260423T101330Z
UID:bc68d977-9480-4f18-9c2c-c64d8d35bf13
DTSTART;VALUE=DATE:20260518
DTEND;VALUE=DATE:20260519
DESCRIPTION:
LOCATION:
SUMMARY:National Speech Pathologist Day
END:VEVENT
BEGIN:VEVENT
DTSTAMP:20260423T101330Z
UID:e20fae66-593c-4e11-b958-e81150552449
DTSTART:20260519T173000
DTEND:20260519T193000
DESCRIPTION:
LOCATION:Roosevelt School District\, 6000 S 7th St\, Phoenix\, AZ
SUMMARY:RSD Governing Board Study Session and/or Special Meeting
END:VEVENT
BEGIN:VEVENT
DTSTAMP:20260423T101330Z
UID:efba7cc9-4034-49eb-a037-1554a538e191
DTSTART;VALUE=DATE:20260522
DTEND;VALUE=DATE:20260523
DESCRIPTION:
LOCATION:
SUMMARY:Last Day of School (Early Dismissal)
END:VEVENT
BEGIN:VEVENT
DTSTAMP:20260423T101330Z
UID:940e170c-b473-4714-b58c-edea7e4078e4
DTSTART;VALUE=DATE:20260525
DTEND;VALUE=DATE:20260526
DESCRIPTION:
LOCATION:
SUMMARY:Memorial Day
END:VEVENT
BEGIN:VEVENT
DTSTAMP:20260423T101330Z
UID:ab4f24d7-7e6c-41d2-b60c-1e7beb3636c7
DTSTART;VALUE=DATE:20260531
DTEND;VALUE=DATE:20260601
DESCRIPTION:
LOCATION:
SUMMARY:Asian American and Pacific Islander Heritage Month
END:VEVENT
BEGIN:VEVENT
DTSTAMP:20260423T101330Z
UID:908e392b-b106-4a6f-bbac-a6c17d0a8dce
DTSTART;VALUE=DATE:20260531
DTEND;VALUE=DATE:20260601
DESCRIPTION:
LOCATION:
SUMMARY:Mental Health Awareness Month Ends
END:VEVENT
BEGIN:VEVENT
DTSTAMP:20260423T101330Z
UID:2600e654-b241-4e4b-a9d6-a81b1a91eb8b
DTSTART;VALUE=DATE:20260601
DTEND;VALUE=DATE:20260602
DESCRIPTION:
LOCATION:
SUMMARY:Pride Month Begins
END:VEVENT
BEGIN:VEVENT
DTSTAMP:20260423T101330Z
UID:a65c5b6a-4648-4472-bb4c-a7a0e53c98be
DTSTART:20260602T173000
DTEND:20260602T193000
DESCRIPTION:<html><head><meta http-equiv="Content-Type" content="text/html\
 ; charset=utf-8"><meta name="Generator" content="Microsoft Word 15 (filter
 ed medium)"><style><!--@font-face	{font-family:"Cambria Math"}@font-face	{
 font-family:Aptos}@font-face	{font-family:"Futura LT Book"}@font-face	{}p.
 MsoNormal\, li.MsoNormal\, div.MsoNormal	{margin:0in\;	font-size:11.0pt\;	
 font-family:"Aptos"\,sans-serif}a:link\, span.MsoHyperlink	{color:#467886\
 ;	text-decoration:underline}span.EmailStyle17	{font-family:"Futura LT Book
 "\;	color:windowtext\;	font-weight:normal\;	font-style:normal}.MsoChpDefau
 lt	{font-size:11.0pt}@page WordSection1	{margin:1.0in 1.0in 1.0in 1.0in}di
 v.WordSection1	{}--></style></head><body lang="EN-US" link="#467886" vlink
 ="#96607D" style="word-wrap:break-word"><div class="WordSection1"><p class
 ="MsoNormal"><span style="font-size:12.0pt\; font-family:'Futura LT Book'"
 >You are invited to attend the Roosevelt School District Board Meeting uti
 lizing Zoom technology. This technology allows you to view the board meeti
 ng on your computer as well as other mobile devices. After clicking the li
 nk below\, you will be prompted to install the Zoom plugin or app. Once in
 stalled\, this step won't be necessary for future meetings. You'll just cl
 ick the link below to connect.</span></p><p class="MsoNormal"><span style=
 "font-size:12.0pt\; font-family:'Futura LT Book'">&nbsp\;</span></p><p cla
 ss="MsoNormal"><span style="font-size:12.0pt\; font-family:'Futura LT Book
 '"><a href="https://zoom.us/j/741989868">Join the Meeting</a></span></p><p
  class="MsoNormal"><span style="font-size:12.0pt\; font-family:'Futura LT 
 Book'">&nbsp\;</span></p><p class="MsoNormal"><span style="font-size:12.0p
 t\; font-family:'Futura LT Book'">For Audio Call: +1 (646) 568 7788 or +1 
 (415) 762 9988</span></p><p class="MsoNormal"><span style="font-size:12.0p
 t\; font-family:'Futura LT Book'">Meeting ID: 741 989 868</span></p></div>
 </body></html>
LOCATION:Roosevelt School District\, 6000 S 7th St\, Phoenix\, AZ
SUMMARY:RSD Governing Board Meeting
END:VEVENT
BEGIN:VEVENT
DTSTAMP:20260423T101330Z
UID:0e188bb0-3e10-4081-942d-9bdcebc7fb79
DTSTART:20260616T173000
DTEND:20260616T193000
DESCRIPTION:
LOCATION:Roosevelt School District\, 6000 S 7th St\, Phoenix\, AZ
SUMMARY:RSD Governing Board Study Session and/or Special Meeting
END:VEVENT
BEGIN:VEVENT
DTSTAMP:20260423T101330Z
UID:fbdbfc82-7def-486d-8add-18ead6923f26
DTSTART;VALUE=DATE:20260619
DTEND;VALUE=DATE:20260620
DESCRIPTION:<html><head><meta http-equiv="Content-Type" content="text/html\
 ; charset=utf-8"><meta name="Generator" content="Microsoft Exchange Server
 "><!-- converted from rtf --><style><!-- .EmailQuote { margin-left: 1pt\; 
 padding-left: 4pt\; border-left: #800000 2px solid\; } --></style></head><
 body><font face="Times New Roman" size="3"><span style="font-size:12pt\;">
 <a name="BM_BEGIN"></a></span></font></body></html>
LOCATION:
SUMMARY:Canceled: Juneteenth
END:VEVENT
BEGIN:VEVENT
DTSTAMP:20260423T101330Z
UID:2089110d-3cac-405c-a488-ea3111b821d5
DTSTART;VALUE=DATE:20260619
DTEND;VALUE=DATE:20260620
DESCRIPTION:
LOCATION:
SUMMARY:Juneteenth
END:VEVENT
BEGIN:VEVENT
DTSTAMP:20260423T101330Z
UID:bbd6b173-79da-4fd9-aa61-bab91009e52f
DTSTART;VALUE=DATE:20260630
DTEND;VALUE=DATE:20260701
DESCRIPTION:
LOCATION:
SUMMARY:Pride Month Ends
END:VEVENT
BEGIN:VEVENT
DTSTAMP:20260423T101330Z
UID:b340dffb-2bd1-449f-9c01-74db4915ef26
DTSTART;VALUE=DATE:20260703
DTEND;VALUE=DATE:20260704
DESCRIPTION:
LOCATION:
SUMMARY:Independence Day (Observed)
END:VEVENT
BEGIN:VEVENT
DTSTAMP:20260423T101330Z
UID:3a68f8dd-ff8c-46d4-8e2b-cc338aeb1eb2
DTSTART;VALUE=DATE:20260704
DTEND;VALUE=DATE:20260705
DESCRIPTION:<html><head><meta http-equiv="Content-Type" content="text/html\
 ; charset=utf-8"><meta name="Generator" content="Microsoft Exchange Server
 "><!-- converted from rtf --><style><!-- .EmailQuote { margin-left: 1pt\; 
 padding-left: 4pt\; border-left: #800000 2px solid\; } --></style></head><
 body><font face="Times New Roman" size="3"><span style="font-size:12pt\;">
 <a name="BM_BEGIN"></a></span></font></body></html>
LOCATION:
SUMMARY:Canceled: Independence Day
END:VEVENT
BEGIN:VEVENT
DTSTAMP:20260423T101330Z
UID:dc3c382a-c0f6-45fb-9dcb-6bcd9a87594a
DTSTART:20260707T173000
DTEND:20260707T193000
DESCRIPTION:<html><head><meta http-equiv="Content-Type" content="text/html\
 ; charset=utf-8"><meta name="Generator" content="Microsoft Word 15 (filter
 ed medium)"><style><!--@font-face	{font-family:"Cambria Math"}@font-face	{
 font-family:Aptos}@font-face	{font-family:"Futura LT Book"}@font-face	{}p.
 MsoNormal\, li.MsoNormal\, div.MsoNormal	{margin:0in\;	font-size:11.0pt\;	
 font-family:"Aptos"\,sans-serif}a:link\, span.MsoHyperlink	{color:#467886\
 ;	text-decoration:underline}span.EmailStyle17	{font-family:"Futura LT Book
 "\;	color:windowtext\;	font-weight:normal\;	font-style:normal}.MsoChpDefau
 lt	{font-size:11.0pt}@page WordSection1	{margin:1.0in 1.0in 1.0in 1.0in}di
 v.WordSection1	{}--></style></head><body lang="EN-US" link="#467886" vlink
 ="#96607D" style="word-wrap:break-word"><div class="WordSection1"><p class
 ="MsoNormal"><span style="font-size:12.0pt\; font-family:'Futura LT Book'"
 >You are invited to attend the Roosevelt School District Board Meeting uti
 lizing Zoom technology. This technology allows you to view the board meeti
 ng on your computer as well as other mobile devices. After clicking the li
 nk below\, you will be prompted to install the Zoom plugin or app. Once in
 stalled\, this step won't be necessary for future meetings. You'll just cl
 ick the link below to connect.</span></p><p class="MsoNormal"><span style=
 "font-size:12.0pt\; font-family:'Futura LT Book'">&nbsp\;</span></p><p cla
 ss="MsoNormal"><span style="font-size:12.0pt\; font-family:'Futura LT Book
 '"><a href="https://zoom.us/j/741989868">Join the Meeting</a></span></p><p
  class="MsoNormal"><span style="font-size:12.0pt\; font-family:'Futura LT 
 Book'">&nbsp\;</span></p><p class="MsoNormal"><span style="font-size:12.0p
 t\; font-family:'Futura LT Book'">For Audio Call: +1 (646) 568 7788 or +1 
 (415) 762 9988</span></p><p class="MsoNormal"><span style="font-size:12.0p
 t\; font-family:'Futura LT Book'">Meeting ID: 741 989 868</span></p></div>
 </body></html>
LOCATION:Roosevelt School District\, 6000 S 7th St\, Phoenix\, AZ
SUMMARY:RSD Governing Board Meeting
END:VEVENT
BEGIN:VEVENT
DTSTAMP:20260423T101330Z
UID:d836e43e-f5ef-42a1-9130-230b5bff8bd6
DTSTART:20260804T173000
DTEND:20260804T193000
DESCRIPTION:<html><head><meta http-equiv="Content-Type" content="text/html\
 ; charset=utf-8"><meta name="Generator" content="Microsoft Word 15 (filter
 ed medium)"><style><!--@font-face	{font-family:"Cambria Math"}@font-face	{
 font-family:Aptos}@font-face	{font-family:"Futura LT Book"}@font-face	{}p.
 MsoNormal\, li.MsoNormal\, div.MsoNormal	{margin:0in\;	font-size:11.0pt\;	
 font-family:"Aptos"\,sans-serif}a:link\, span.MsoHyperlink	{color:#467886\
 ;	text-decoration:underline}span.EmailStyle17	{font-family:"Futura LT Book
 "\;	color:windowtext\;	font-weight:normal\;	font-style:normal}.MsoChpDefau
 lt	{font-size:11.0pt}@page WordSection1	{margin:1.0in 1.0in 1.0in 1.0in}di
 v.WordSection1	{}--></style></head><body lang="EN-US" link="#467886" vlink
 ="#96607D" style="word-wrap:break-word"><div class="WordSection1"><p class
 ="MsoNormal"><span style="font-size:12.0pt\; font-family:'Futura LT Book'"
 >You are invited to attend the Roosevelt School District Board Meeting uti
 lizing Zoom technology. This technology allows you to view the board meeti
 ng on your computer as well as other mobile devices. After clicking the li
 nk below\, you will be prompted to install the Zoom plugin or app. Once in
 stalled\, this step won't be necessary for future meetings. You'll just cl
 ick the link below to connect.</span></p><p class="MsoNormal"><span style=
 "font-size:12.0pt\; font-family:'Futura LT Book'">&nbsp\;</span></p><p cla
 ss="MsoNormal"><span style="font-size:12.0pt\; font-family:'Futura LT Book
 '"><a href="https://zoom.us/j/741989868">Join the Meeting</a></span></p><p
  class="MsoNormal"><span style="font-size:12.0pt\; font-family:'Futura LT 
 Book'">&nbsp\;</span></p><p class="MsoNormal"><span style="font-size:12.0p
 t\; font-family:'Futura LT Book'">For Audio Call: +1 (646) 568 7788 or +1 
 (415) 762 9988</span></p><p class="MsoNormal"><span style="font-size:12.0p
 t\; font-family:'Futura LT Book'">Meeting ID: 741 989 868</span></p></div>
 </body></html>
LOCATION:Roosevelt School District\, 6000 S 7th St\, Phoenix\, AZ
SUMMARY:RSD Governing Board Meeting
END:VEVENT
BEGIN:VEVENT
DTSTAMP:20260423T101330Z
UID:fadc140d-596f-4bc7-a517-20a329bd5387
DTSTART:20260818T173000
DTEND:20260818T193000
DESCRIPTION:
LOCATION:Roosevelt School District\, 6000 S 7th St\, Phoenix\, AZ
SUMMARY:RSD Governing Board Study Session and/or Special Meeting
END:VEVENT
BEGIN:VEVENT
DTSTAMP:20260423T101330Z
UID:e594bd23-8ba4-4878-9417-30dead320215
DTSTART:20260822T090000
DTEND:20260822T170000
DESCRIPTION:
LOCATION:Roosevelt School District\, 6000 S 7th St\, Phoenix\, AZ
SUMMARY:Governing Board Retreat
END:VEVENT
BEGIN:VEVENT
DTSTAMP:20260423T101330Z
UID:bd4f48ba-d400-4921-b713-70febea9d11d
DTSTART;VALUE=DATE:20260901
DTEND;VALUE=DATE:20260902
DESCRIPTION:<html><head><meta http-equiv="Content-Type" content="text/html\
 ; charset=utf-8"><meta name="Generator" content="Microsoft Exchange Server
 "><!-- converted from rtf --><style><!-- .EmailQuote { margin-left: 1pt\; 
 padding-left: 4pt\; border-left: #800000 2px solid\; } --></style></head><
 body><font face="Times New Roman" size="3"><span style="font-size:12pt\;">
 <a name="BM_BEGIN"></a></span></font></body></html>
LOCATION:
SUMMARY:Canceled: Suicide Awareness Month Begins
END:VEVENT
BEGIN:VEVENT
DTSTAMP:20260423T101330Z
UID:0579c936-23fd-4c1d-accb-ea4786ba3ea6
DTSTART:20260901T173000
DTEND:20260901T193000
DESCRIPTION:<html><head><meta http-equiv="Content-Type" content="text/html\
 ; charset=utf-8"><meta name="Generator" content="Microsoft Word 15 (filter
 ed medium)"><style><!--@font-face	{font-family:"Cambria Math"}@font-face	{
 font-family:Aptos}@font-face	{font-family:"Futura LT Book"}@font-face	{}p.
 MsoNormal\, li.MsoNormal\, div.MsoNormal	{margin:0in\;	font-size:11.0pt\;	
 font-family:"Aptos"\,sans-serif}a:link\, span.MsoHyperlink	{color:#467886\
 ;	text-decoration:underline}span.EmailStyle17	{font-family:"Futura LT Book
 "\;	color:windowtext\;	font-weight:normal\;	font-style:normal}.MsoChpDefau
 lt	{font-size:11.0pt}@page WordSection1	{margin:1.0in 1.0in 1.0in 1.0in}di
 v.WordSection1	{}--></style></head><body lang="EN-US" link="#467886" vlink
 ="#96607D" style="word-wrap:break-word"><div class="WordSection1"><p class
 ="MsoNormal"><span style="font-size:12.0pt\; font-family:'Futura LT Book'"
 >You are invited to attend the Roosevelt School District Board Meeting uti
 lizing Zoom technology. This technology allows you to view the board meeti
 ng on your computer as well as other mobile devices. After clicking the li
 nk below\, you will be prompted to install the Zoom plugin or app. Once in
 stalled\, this step won't be necessary for future meetings. You'll just cl
 ick the link below to connect.</span></p><p class="MsoNormal"><span style=
 "font-size:12.0pt\; font-family:'Futura LT Book'">&nbsp\;</span></p><p cla
 ss="MsoNormal"><span style="font-size:12.0pt\; font-family:'Futura LT Book
 '"><a href="https://zoom.us/j/741989868">Join the Meeting</a></span></p><p
  class="MsoNormal"><span style="font-size:12.0pt\; font-family:'Futura LT 
 Book'">&nbsp\;</span></p><p class="MsoNormal"><span style="font-size:12.0p
 t\; font-family:'Futura LT Book'">For Audio Call: +1 (646) 568 7788 or +1 
 (415) 762 9988</span></p><p class="MsoNormal"><span style="font-size:12.0p
 t\; font-family:'Futura LT Book'">Meeting ID: 741 989 868</span></p></div>
 </body></html>
LOCATION:Roosevelt School District\, 6000 S 7th St\, Phoenix\, AZ
SUMMARY:RSD Governing Board Meeting
END:VEVENT
BEGIN:VEVENT
DTSTAMP:20260423T101330Z
UID:4ebc3ddd-7fb2-486e-877a-67f000d98e3e
DTSTART:20260915T173000
DTEND:20260915T193000
DESCRIPTION:
LOCATION:Roosevelt School District\, 6000 S 7th St\, Phoenix\, AZ
SUMMARY:RSD Governing Board Study Session and/or Special Meeting
END:VEVENT
BEGIN:VEVENT
DTSTAMP:20260423T101330Z
UID:83c206c5-9da2-4447-be12-988320fd2439
DTSTART;VALUE=DATE:20260930
DTEND;VALUE=DATE:20261001
DESCRIPTION:<html><head><meta http-equiv="Content-Type" content="text/html\
 ; charset=utf-8"><meta name="Generator" content="Microsoft Exchange Server
 "><!-- converted from rtf --><style><!-- .EmailQuote { margin-left: 1pt\; 
 padding-left: 4pt\; border-left: #800000 2px solid\; } --></style></head><
 body><font face="Times New Roman" size="3"><span style="font-size:12pt\;">
 <a name="BM_BEGIN"></a></span></font></body></html>
LOCATION:
SUMMARY:Canceled: Suicide Awareness Month Ends
END:VEVENT
BEGIN:VEVENT
DTSTAMP:20260423T101330Z
UID:20d9311f-f6af-4415-af6e-da0cf6c5a921
DTSTART:20261013T173000
DTEND:20261013T193000
DESCRIPTION:<html><head><meta http-equiv="Content-Type" content="text/html\
 ; charset=utf-8"><meta name="Generator" content="Microsoft Word 15 (filter
 ed medium)"><style><!--@font-face	{font-family:"Cambria Math"}@font-face	{
 font-family:Aptos}@font-face	{font-family:"Futura LT Book"}@font-face	{}p.
 MsoNormal\, li.MsoNormal\, div.MsoNormal	{margin:0in\;	font-size:11.0pt\;	
 font-family:"Aptos"\,sans-serif}a:link\, span.MsoHyperlink	{color:#467886\
 ;	text-decoration:underline}span.EmailStyle17	{font-family:"Futura LT Book
 "\;	color:windowtext\;	font-weight:normal\;	font-style:normal}.MsoChpDefau
 lt	{font-size:11.0pt}@page WordSection1	{margin:1.0in 1.0in 1.0in 1.0in}di
 v.WordSection1	{}--></style></head><body lang="EN-US" link="#467886" vlink
 ="#96607D" style="word-wrap:break-word"><div class="WordSection1"><p class
 ="MsoNormal"><span style="font-size:12.0pt\; font-family:'Futura LT Book'"
 >You are invited to attend the Roosevelt School District Board Meeting uti
 lizing Zoom technology. This technology allows you to view the board meeti
 ng on your computer as well as other mobile devices. After clicking the li
 nk below\, you will be prompted to install the Zoom plugin or app. Once in
 stalled\, this step won't be necessary for future meetings. You'll just cl
 ick the link below to connect.</span></p><p class="MsoNormal"><span style=
 "font-size:12.0pt\; font-family:'Futura LT Book'">&nbsp\;</span></p><p cla
 ss="MsoNormal"><span style="font-size:12.0pt\; font-family:'Futura LT Book
 '"><a href="https://zoom.us/j/741989868">Join the Meeting</a></span></p><p
  class="MsoNormal"><span style="font-size:12.0pt\; font-family:'Futura LT 
 Book'">&nbsp\;</span></p><p class="MsoNormal"><span style="font-size:12.0p
 t\; font-family:'Futura LT Book'">For Audio Call: +1 (646) 568 7788 or +1 
 (415) 762 9988</span></p><p class="MsoNormal"><span style="font-size:12.0p
 t\; font-family:'Futura LT Book'">Meeting ID: 741 989 868</span></p></div>
 </body></html>
LOCATION:Roosevelt School District\, 6000 S 7th St\, Phoenix\, AZ
SUMMARY:RSD Governing Board Meeting
END:VEVENT
BEGIN:VEVENT
DTSTAMP:20260423T101330Z
UID:62fbe794-d116-481b-8894-156f38d00245
DTSTART:20261027T173000
DTEND:20261027T193000
DESCRIPTION:
LOCATION:Roosevelt School District\, 6000 S 7th St\, Phoenix\, AZ
SUMMARY:RSD Governing Board Study Session and/or Special Meeting
END:VEVENT
BEGIN:VEVENT
DTSTAMP:20260423T101330Z
UID:d72b275a-d672-4b8b-b27d-9ed917d1c0be
DTSTART:20261110T173000
DTEND:20261110T193000
DESCRIPTION:<html><head><meta http-equiv="Content-Type" content="text/html\
 ; charset=utf-8"><meta name="Generator" content="Microsoft Word 15 (filter
 ed medium)"><style><!--@font-face	{font-family:"Cambria Math"}@font-face	{
 font-family:Aptos}@font-face	{font-family:"Futura LT Book"}@font-face	{}p.
 MsoNormal\, li.MsoNormal\, div.MsoNormal	{margin:0in\;	font-size:11.0pt\;	
 font-family:"Aptos"\,sans-serif}a:link\, span.MsoHyperlink	{color:#467886\
 ;	text-decoration:underline}span.EmailStyle17	{font-family:"Futura LT Book
 "\;	color:windowtext\;	font-weight:normal\;	font-style:normal}.MsoChpDefau
 lt	{font-size:11.0pt}@page WordSection1	{margin:1.0in 1.0in 1.0in 1.0in}di
 v.WordSection1	{}--></style></head><body lang="EN-US" link="#467886" vlink
 ="#96607D" style="word-wrap:break-word"><div class="WordSection1"><p class
 ="MsoNormal"><span style="font-size:12.0pt\; font-family:'Futura LT Book'"
 >You are invited to attend the Roosevelt School District Board Meeting uti
 lizing Zoom technology. This technology allows you to view the board meeti
 ng on your computer as well as other mobile devices. After clicking the li
 nk below\, you will be prompted to install the Zoom plugin or app. Once in
 stalled\, this step won't be necessary for future meetings. You'll just cl
 ick the link below to connect.</span></p><p class="MsoNormal"><span style=
 "font-size:12.0pt\; font-family:'Futura LT Book'">&nbsp\;</span></p><p cla
 ss="MsoNormal"><span style="font-size:12.0pt\; font-family:'Futura LT Book
 '"><a href="https://zoom.us/j/741989868">Join the Meeting</a></span></p><p
  class="MsoNormal"><span style="font-size:12.0pt\; font-family:'Futura LT 
 Book'">&nbsp\;</span></p><p class="MsoNormal"><span style="font-size:12.0p
 t\; font-family:'Futura LT Book'">For Audio Call: +1 (646) 568 7788 or +1 
 (415) 762 9988</span></p><p class="MsoNormal"><span style="font-size:12.0p
 t\; font-family:'Futura LT Book'">Meeting ID: 741 989 868</span></p></div>
 </body></html>
LOCATION:Roosevelt School District\, 6000 S 7th St\, Phoenix\, AZ
SUMMARY:RSD Governing Board Meeting
END:VEVENT
BEGIN:VEVENT
DTSTAMP:20260423T101330Z
UID:21f26303-6fdf-4c34-9368-f4c4d4e92bf2
DTSTART;VALUE=DATE:20261111
DTEND;VALUE=DATE:20261112
DESCRIPTION:<html><head><meta http-equiv="Content-Type" content="text/html\
 ; charset=utf-8"><meta name="Generator" content="Microsoft Exchange Server
 "><!-- converted from rtf --><style><!-- .EmailQuote { margin-left: 1pt\; 
 padding-left: 4pt\; border-left: #800000 2px solid\; } --></style></head><
 body><font face="Times New Roman" size="3"><span style="font-size:12pt\;">
 <a name="BM_BEGIN"></a></span></font></body></html>
LOCATION:
SUMMARY:Canceled: Veteran's Day
END:VEVENT
BEGIN:VEVENT
DTSTAMP:20260423T101330Z
UID:d786f3dc-f1fa-4577-a03f-1d4e2654f6c8
DTSTART:20261117T173000
DTEND:20261117T193000
DESCRIPTION:
LOCATION:Roosevelt School District\, 6000 S 7th St\, Phoenix\, AZ
SUMMARY:RSD Governing Board Study Session and/or Special Meeting
END:VEVENT
BEGIN:VEVENT
DTSTAMP:20260423T101330Z
UID:f3334847-b23b-4bf9-8260-af7b6fed35b8
DTSTART;VALUE=DATE:20261125
DTEND;VALUE=DATE:20261128
DESCRIPTION:<html><head><meta http-equiv="Content-Type" content="text/html\
 ; charset=utf-8"><meta name="Generator" content="Microsoft Exchange Server
 "><!-- converted from rtf --><style><!-- .EmailQuote { margin-left: 1pt\; 
 padding-left: 4pt\; border-left: #800000 2px solid\; } --></style></head><
 body><font face="Times New Roman" size="3"><span style="font-size:12pt\;">
 <a name="BM_BEGIN"></a></span></font></body></html>
LOCATION:
SUMMARY:Canceled: Thanksgiving Recess
END:VEVENT
END:VCALENDAR
