BEGIN:VCALENDAR
VERSION:2.0
PRODID:icalendar-ruby
CALSCALE:GREGORIAN
BEGIN:VTIMEZONE
TZID:America/Chicago
BEGIN:DAYLIGHT
DTSTART:20260308T030000
TZOFFSETFROM:-0600
TZOFFSETTO:-0500
RRULE:FREQ=YEARLY;BYDAY=2SU;BYMONTH=3
TZNAME:CDT
END:DAYLIGHT
BEGIN:STANDARD
DTSTART:20261101T010000
TZOFFSETFROM:-0500
TZOFFSETTO:-0600
RRULE:FREQ=YEARLY;BYDAY=1SU;BYMONTH=11
TZNAME:CST
END:STANDARD
END:VTIMEZONE
BEGIN:VEVENT
DTSTAMP:20260420T061204Z
UID:a20d3590-035c-4176-8756-9b0ffa31e966
DTSTART:20260421T100000
DTEND:20260421T160000
DESCRIPTION:
LOCATION:14626 SD-15\, Milbank\, SD 57252\, USA
SUMMARY:Girls Golf @ Mibank
END:VEVENT
BEGIN:VEVENT
DTSTAMP:20260420T061204Z
UID:5e4a884d-175a-4592-9645-a9ef2d815d96
DTSTART:20260421T140000
DTEND:20260421T180000
DESCRIPTION:
LOCATION:759 5th St\, Britton\, SD 57430\, USA
SUMMARY:HS Track @ Britton Hecla "Pfitzer" Relays
END:VEVENT
BEGIN:VEVENT
DTSTAMP:20260420T061204Z
UID:f56ec9dd-f581-4a2e-b358-38395a68bfc6
DTSTART;VALUE=DATE:20260424
DTEND;VALUE=DATE:20260425
DESCRIPTION:
LOCATION:
SUMMARY:K-5 ONLY - NO SCHOOL - Prof. Dev.
END:VEVENT
BEGIN:VEVENT
DTSTAMP:20260420T061204Z
UID:3de22e21-5b03-4cf5-b960-7ac255f9211e
DTSTART:20260424T140000
DTEND:20260424T170000
DESCRIPTION:
LOCATION:406 N 2nd St\, Groton\, SD 57445\, USA
SUMMARY:JH Track @ Groton 
END:VEVENT
BEGIN:VEVENT
DTSTAMP:20260420T061204Z
UID:3223c194-0bfb-4d07-bd14-5cf85159a789
DTSTART:20260425T100000
DTEND:20260425T160000
DESCRIPTION:
LOCATION:800 N Idaho St\, Clark\, SD 57225\, USA
SUMMARY:JH Golf @ NEC JH Meet - Clark
END:VEVENT
BEGIN:VEVENT
DTSTAMP:20260420T061204Z
UID:a285a6a1-6038-4b98-8c2b-36113b3d241b
DTSTART:20260427T153000
DTEND:20260427T190000
DESCRIPTION:
LOCATION:759 5th St\, Britton\, SD 57430\, USA
SUMMARY:JH Track @ Britton Hecla 
END:VEVENT
BEGIN:VEVENT
DTSTAMP:20260420T061204Z
UID:474a90e8-04a2-4130-aa80-2b9776e86f1c
DTSTART:20260428T110000
DTEND:20260428T160000
DESCRIPTION:
LOCATION:406 N 2nd St\, Groton\, SD 57445\, USA
SUMMARY:HS Track @ Groton "Lueke" Invite 
END:VEVENT
BEGIN:VEVENT
DTSTAMP:20260420T061204Z
UID:e374a296-3cd6-475d-82ce-febd20933186
DTSTART:20260501T130000
DTEND:20260501T170000
DESCRIPTION:
LOCATION:516 8th Ave W\, Sisseton\, SD 57262\, USA
SUMMARY:HS Track @ Sisseton Legion Relays 
END:VEVENT
BEGIN:VEVENT
DTSTAMP:20260420T061204Z
UID:f60326e6-9a3f-4a6a-bb3b-dacd9cc6b276
DTSTART:20260504T153000
DTEND:20260504T190000
DESCRIPTION:
LOCATION:516 8th Ave W\, Sisseton\, SD 57262\, USA
SUMMARY:JH Track @ Sisseton  
END:VEVENT
BEGIN:VEVENT
DTSTAMP:20260420T061204Z
UID:c3d8c62e-343f-4d61-89ee-296b6ea577b9
DTSTART:20260505T130000
DTEND:20260505T170000
DESCRIPTION:
LOCATION:1001 E Park Ave\, Milbank\, SD 57252\, USA
SUMMARY:HS Track @ Milbank Valley Queen 
END:VEVENT
BEGIN:VEVENT
DTSTAMP:20260420T061204Z
UID:94c0e164-1594-4fe1-8189-d74acea60708
DTSTART:20260507T100000
DTEND:20260507T160000
DESCRIPTION:
LOCATION:1028 8th Ave NW\, Aberdeen\, SD 57401\, USA
SUMMARY:Golf @ Roncalli 
END:VEVENT
BEGIN:VEVENT
DTSTAMP:20260420T061204Z
UID:cd807055-dc50-4224-b0e1-0e3148b0f99e
DTSTART:20260507T180000
DTEND:20260507T213000
DESCRIPTION:
LOCATION:1 Tiospa Zina Dr\, Agency Village\, SD 57262\, USA
SUMMARY:Senior Powwow
END:VEVENT
BEGIN:VEVENT
DTSTAMP:20260420T061204Z
UID:ff302123-e50e-43fc-b5b1-4fb1e41325f8
DTSTART:20260508T130000
DTEND:20260508T170000
DESCRIPTION:
LOCATION:Sisseton School District 54-2\, SD\, USA
SUMMARY:HS Track @ Siseton Twilight 
END:VEVENT
BEGIN:VEVENT
DTSTAMP:20260420T061204Z
UID:abeeac6e-cac7-4f55-87e1-f665f3840041
DTSTART;VALUE=DATE:20260511
DTEND;VALUE=DATE:20260512
DESCRIPTION:
LOCATION:
SUMMARY:K-5 ONLY - NO SCHOOL - Prof. Dev.
END:VEVENT
BEGIN:VEVENT
DTSTAMP:20260420T061204Z
UID:82ce8158-12a1-45ef-a208-fb9b5bbbe2d1
DTSTART:20260511T150000
DTEND:20260511T180000
DESCRIPTION:
LOCATION:406 N 2nd St\, Groton\, SD 57445\, USA
SUMMARY:JH Track @ NEC (Groton)
END:VEVENT
BEGIN:VEVENT
DTSTAMP:20260420T061204Z
UID:7e97e44f-0902-4c42-bebb-ab872765a7ff
DTSTART:20260512T083000
DTEND:20260512T150000
DESCRIPTION:
LOCATION:1 Tiospa Zina Dr\, Agency Village\, SD 57262\, USA
SUMMARY:K-5 Field Day
END:VEVENT
BEGIN:VEVENT
DTSTAMP:20260420T061204Z
UID:98748fcf-ddaa-4cb3-80e1-4539a3775a6d
DTSTART:20260514T140000
DTEND:20260514T180000
DESCRIPTION:
LOCATION:1001 E Park Ave\, Milbank\, SD 57252\, USA
SUMMARY:HS Track @ NEC (Milbank)
END:VEVENT
BEGIN:VEVENT
DTSTAMP:20260420T061204Z
UID:2a60c820-01de-42a2-8908-2e739d5fc678
DTSTART;VALUE=DATE:20260517
DTEND;VALUE=DATE:20260518
DESCRIPTION:
LOCATION:
SUMMARY:High School Graduation
END:VEVENT
BEGIN:VEVENT
DTSTAMP:20260420T061204Z
UID:f0e06df1-8d3f-4621-92f3-d40b97da7bd6
DTSTART:20260518T100000
DTEND:20260518T160000
DESCRIPTION:
LOCATION:700 E 5th Ave\, Groton\, SD 57445\, USA
SUMMARY:Girls Golf @ NEC  (Groton)
END:VEVENT
BEGIN:VEVENT
DTSTAMP:20260420T061204Z
UID:2f701c9d-7ad6-4635-9376-1c1e88fc301f
DTSTART:20260521T110000
DTEND:20260521T160000
DESCRIPTION:
LOCATION:Webster School District 18-5\, SD\, USA
SUMMARY:HS Track @ Webster "Last Chance" 
END:VEVENT
END:VCALENDAR
