BEGIN:VCALENDAR
VERSION:2.0
PRODID:icalendar-ruby
CALSCALE:GREGORIAN
BEGIN:VTIMEZONE
TZID:America/Denver
BEGIN:DAYLIGHT
DTSTART:20260308T030000
TZOFFSETFROM:-0700
TZOFFSETTO:-0600
RRULE:FREQ=YEARLY;BYDAY=2SU;BYMONTH=3
TZNAME:MDT
END:DAYLIGHT
BEGIN:STANDARD
DTSTART:20261101T010000
TZOFFSETFROM:-0600
TZOFFSETTO:-0700
RRULE:FREQ=YEARLY;BYDAY=1SU;BYMONTH=11
TZNAME:MST
END:STANDARD
END:VTIMEZONE
BEGIN:VEVENT
DTSTAMP:20260423T090408Z
UID:39e2f518-90f0-4c1e-9f2c-86bd2e676fdc
DTSTART:20260423T080000
DTEND:20260423T153000
DESCRIPTION:
LOCATION:
SUMMARY:STAAR testing
END:VEVENT
BEGIN:VEVENT
DTSTAMP:20260423T090408Z
UID:9c0149e7-7b66-4cab-9c90-ef2e9cf5ea36
DTSTART:20260424T080000
DTEND:20260424T090000
DESCRIPTION:
LOCATION:
SUMMARY:Fun Friday during PE
END:VEVENT
BEGIN:VEVENT
DTSTAMP:20260423T090408Z
UID:c23866ea-b121-40e7-ab5c-78d6aefa766a
DTSTART:20260501T080000
DTEND:20260501T090000
DESCRIPTION:
LOCATION:
SUMMARY:Fun Friday during PE
END:VEVENT
BEGIN:VEVENT
DTSTAMP:20260423T090408Z
UID:41674fc5-1d3c-4213-9939-ae736680831d
DTSTART:20260502T100000
DTEND:20260502T130000
DESCRIPTION:
LOCATION: HARTLEY PREK-8
SUMMARY:It Starts with a Book Lit Fest
END:VEVENT
BEGIN:VEVENT
DTSTAMP:20260423T090408Z
UID:8762446d-d17b-434c-a3f3-e2e1776cf63c
DTSTART:20260508T080000
DTEND:20260508T090000
DESCRIPTION:
LOCATION:
SUMMARY:Fun Friday during PE
END:VEVENT
BEGIN:VEVENT
DTSTAMP:20260423T090408Z
UID:6ad244ba-b0ee-4e9a-8a6b-d30569e4a4ef
DTSTART:20260515T080000
DTEND:20260515T090000
DESCRIPTION:
LOCATION:
SUMMARY:Fun Friday during PE
END:VEVENT
BEGIN:VEVENT
DTSTAMP:20260423T090408Z
UID:0e12b872-8bd2-42db-901f-2689e4483c47
DTSTART:20260522T080000
DTEND:20260522T090000
DESCRIPTION:
LOCATION:
SUMMARY:Fun Friday during PE
END:VEVENT
BEGIN:VEVENT
DTSTAMP:20260423T090408Z
UID:b334ab44-1e21-4a36-b163-dbe124f047db
DTSTART:20260529T080000
DTEND:20260529T090000
DESCRIPTION:
LOCATION:
SUMMARY:Fun Friday during PE
END:VEVENT
END:VCALENDAR
