BEGIN:VCALENDAR
VERSION:2.0
PRODID:icalendar-ruby
CALSCALE:GREGORIAN
BEGIN:VTIMEZONE
TZID:America/New_York
BEGIN:DAYLIGHT
DTSTART:20260308T030000
TZOFFSETFROM:-0500
TZOFFSETTO:-0400
RRULE:FREQ=YEARLY;BYDAY=2SU;BYMONTH=3
TZNAME:EDT
END:DAYLIGHT
BEGIN:STANDARD
DTSTART:20261101T010000
TZOFFSETFROM:-0400
TZOFFSETTO:-0500
RRULE:FREQ=YEARLY;BYDAY=1SU;BYMONTH=11
TZNAME:EST
END:STANDARD
END:VTIMEZONE
BEGIN:VEVENT
DTSTAMP:20260422T085245Z
UID:28bd52e1-7d2c-4d2e-b088-7dc4761c71c0
DTSTART;VALUE=DATE:20260420
DTEND;VALUE=DATE:20260425
DESCRIPTION:
LOCATION:
SUMMARY:Milestones Testing (grades 3/4/5)
END:VEVENT
BEGIN:VEVENT
DTSTAMP:20260422T085245Z
UID:ecb6a64b-02f9-4afb-97ef-45e0553d6cc2
DTSTART:20260423T163000
DTEND:20260423T180000
DESCRIPTION:
LOCATION:
SUMMARY:Burks LSGT Meeting
END:VEVENT
BEGIN:VEVENT
DTSTAMP:20260422T085245Z
UID:1cd71e2c-c114-40a9-a75a-d217b695a61f
DTSTART:20260423T183000
DTEND:20260423T193000
DESCRIPTION:
LOCATION:
SUMMARY:1st/2nd Grade Spring Musical
END:VEVENT
BEGIN:VEVENT
DTSTAMP:20260422T085245Z
UID:84ebf90a-8725-4c48-b1c0-d040a7dceeb4
DTSTART;VALUE=DATE:20260427
DTEND;VALUE=DATE:20260428
DESCRIPTION:
LOCATION:
SUMMARY:Milestones Testing (grade 5 science)
END:VEVENT
BEGIN:VEVENT
DTSTAMP:20260422T085245Z
UID:503f13cb-1943-4572-804c-d3f46e26d879
DTSTART:20260427T163000
DTEND:20260427T173000
DESCRIPTION:
LOCATION:Media Center
SUMMARY:PTO Exec Meeting
END:VEVENT
BEGIN:VEVENT
DTSTAMP:20260422T085245Z
UID:e1f343af-5b9a-4c33-8b7d-ab86bf3cd4a3
DTSTART;VALUE=DATE:20260430
DTEND;VALUE=DATE:20260501
DESCRIPTION:
LOCATION:
SUMMARY:March Star Student Lilypad Luncheon
END:VEVENT
BEGIN:VEVENT
DTSTAMP:20260422T085245Z
UID:90d00acd-8ed5-4645-80f5-a991d52d5948
DTSTART:20260430T150000
DTEND:20260430T153000
DESCRIPTION:
LOCATION:
SUMMARY:Welcome to Kindergarten Parent Meeting
END:VEVENT
BEGIN:VEVENT
DTSTAMP:20260422T085245Z
UID:7dada9f2-4d0c-477a-8b47-6eb9214f78a6
DTSTART;VALUE=DATE:20260501
DTEND;VALUE=DATE:20260502
DESCRIPTION:
LOCATION:
SUMMARY:Genre challenge bookmarks due!
END:VEVENT
BEGIN:VEVENT
DTSTAMP:20260422T085245Z
UID:53d7ee58-0e44-4d6d-b937-a8ce28d9667b
DTSTART:20260501T074500
DTEND:20260501T084500
DESCRIPTION:
LOCATION:Media Center
SUMMARY:PTO General / Voting Meeting
END:VEVENT
BEGIN:VEVENT
DTSTAMP:20260422T085245Z
UID:8abce9d6-e208-417f-b957-d7f62a1291f1
DTSTART:20260501T135000
DTEND:20260501T142000
DESCRIPTION:
LOCATION:
SUMMARY:April Hop Bop 
END:VEVENT
BEGIN:VEVENT
DTSTAMP:20260422T085245Z
UID:17cfcbec-34c9-4b2f-ae2f-1a7c1e64f009
DTSTART;VALUE=DATE:20260507
DTEND;VALUE=DATE:20260509
DESCRIPTION:
LOCATION:
SUMMARY:3rd Grade Overnight Field Trip to Blue Ridge
END:VEVENT
BEGIN:VEVENT
DTSTAMP:20260422T085245Z
UID:93a3a83d-f2ce-4018-b146-055888116956
DTSTART;VALUE=DATE:20260508
DTEND;VALUE=DATE:20260509
DESCRIPTION:
LOCATION:
SUMMARY:Last day of library visits - all student books due!
END:VEVENT
BEGIN:VEVENT
DTSTAMP:20260422T085245Z
UID:3af71408-51cb-4c3e-b22f-1bda9308ed58
DTSTART;VALUE=DATE:20260511
DTEND;VALUE=DATE:20260513
DESCRIPTION:
LOCATION:
SUMMARY:4th Grade Overnight Field Trip to Rock Eagle
END:VEVENT
BEGIN:VEVENT
DTSTAMP:20260422T085245Z
UID:06f42939-d44a-4ac5-b034-1c3f15f3c705
DTSTART;VALUE=DATE:20260514
DTEND;VALUE=DATE:20260515
DESCRIPTION:
LOCATION:
SUMMARY:April Star Student Lilypad Luncheon
END:VEVENT
BEGIN:VEVENT
DTSTAMP:20260422T085245Z
UID:edba57c4-917f-4244-8118-da409b736fd5
DTSTART:20260514T163000
DTEND:20260514T180000
DESCRIPTION:
LOCATION:
SUMMARY:Burks LSGT Meeting
END:VEVENT
BEGIN:VEVENT
DTSTAMP:20260422T085245Z
UID:9d2890b2-35b5-4e9e-a847-245795a4681c
DTSTART:20260514T173000
DTEND:20260514T190000
DESCRIPTION:
LOCATION:
SUMMARY:Burks Bash End-of-Year Picnic
END:VEVENT
BEGIN:VEVENT
DTSTAMP:20260422T085245Z
UID:fe240ced-a0aa-455f-a682-07fab33587ce
DTSTART;VALUE=DATE:20260515
DTEND;VALUE=DATE:20260516
DESCRIPTION:
LOCATION:
SUMMARY:Field Day
END:VEVENT
BEGIN:VEVENT
DTSTAMP:20260422T085245Z
UID:597d3cfb-5e58-4d82-984a-638af70aeb55
DTSTART:20260515T081500
DTEND:20260515T111500
DESCRIPTION:
LOCATION:
SUMMARY:Field Day - PK/K/1st
END:VEVENT
BEGIN:VEVENT
DTSTAMP:20260422T085245Z
UID:7c6fc849-0cb5-466b-b15a-8fc57a887ad0
DTSTART:20260515T111500
DTEND:20260515T143000
DESCRIPTION:
LOCATION:
SUMMARY:Field Day - 2nd-5th
END:VEVENT
BEGIN:VEVENT
DTSTAMP:20260422T085245Z
UID:5a152811-3d3c-4a3a-ac23-a3f184f0fb18
DTSTART;VALUE=DATE:20260518
DTEND;VALUE=DATE:20260520
DESCRIPTION:
LOCATION:
SUMMARY:Books for Keeps! (K-2 Monday\, 3-5 Tuesday)
END:VEVENT
BEGIN:VEVENT
DTSTAMP:20260422T085245Z
UID:25fa6a03-5f17-41b2-b20a-b42da1e82530
DTSTART:20260520T083000
DTEND:20260520T094500
DESCRIPTION:
LOCATION:
SUMMARY:Talent Show
END:VEVENT
BEGIN:VEVENT
DTSTAMP:20260422T085245Z
UID:5615074d-6c96-475a-bd29-c30137e6f56b
DTSTART:20260521T084500
DTEND:20260521T091500
DESCRIPTION:
LOCATION:
SUMMARY:Pre-K Celebration of Learning
END:VEVENT
BEGIN:VEVENT
DTSTAMP:20260422T085245Z
UID:bd19679a-d724-4227-b64f-4f587ee1ab89
DTSTART;VALUE=DATE:20260522
DTEND;VALUE=DATE:20260523
DESCRIPTION:
LOCATION:
SUMMARY:Last day of school
END:VEVENT
BEGIN:VEVENT
DTSTAMP:20260422T085245Z
UID:d0881db5-1d00-41cc-893c-efe56d35cce7
DTSTART:20260522T090000
DTEND:20260522T110000
DESCRIPTION:
LOCATION:
SUMMARY:5th Grade Celebration of Learning
END:VEVENT
END:VCALENDAR
