BEGIN:VCALENDAR
VERSION:2.0
PRODID:icalendar-ruby
CALSCALE:GREGORIAN
BEGIN:VTIMEZONE
TZID:America/New_York
BEGIN:DAYLIGHT
DTSTART:20260308T030000
TZOFFSETFROM:-0500
TZOFFSETTO:-0400
RRULE:FREQ=YEARLY;BYDAY=2SU;BYMONTH=3
TZNAME:EDT
END:DAYLIGHT
BEGIN:STANDARD
DTSTART:20261101T010000
TZOFFSETFROM:-0400
TZOFFSETTO:-0500
RRULE:FREQ=YEARLY;BYDAY=1SU;BYMONTH=11
TZNAME:EST
END:STANDARD
END:VTIMEZONE
BEGIN:VEVENT
DTSTAMP:20260423T095641Z
UID:241be5ee-0610-4cc2-ae98-aaca114d096b
DTSTART:20260423T113000
DTEND:20260423T120000
DESCRIPTION:
LOCATION:
SUMMARY:TIME SHEETS APPROVED
END:VEVENT
BEGIN:VEVENT
DTSTAMP:20260423T095641Z
UID:df8aa254-ee10-41e9-80c1-0425196b4748
DTSTART:20260430T190000
DTEND:20260430T220000
DESCRIPTION:
LOCATION:
SUMMARY:Deaf High School Prom
END:VEVENT
BEGIN:VEVENT
DTSTAMP:20260423T095641Z
UID:4d04a3ef-5811-490d-934b-3ba273e75e85
DTSTART:20260501T090000
DTEND:20260501T133000
DESCRIPTION:
LOCATION:
SUMMARY:Parent Engagement Workshop
END:VEVENT
BEGIN:VEVENT
DTSTAMP:20260423T095641Z
UID:5ca481ec-e6ed-49f1-ba55-0e87e00f0c43
DTSTART:20260506T120000
DTEND:20260506T123000
DESCRIPTION:
LOCATION:
SUMMARY:Time Sheet Due
END:VEVENT
BEGIN:VEVENT
DTSTAMP:20260423T095641Z
UID:3d37e75a-bab6-481b-87ce-f7085a4a3831
DTSTART:20260507T113000
DTEND:20260507T120000
DESCRIPTION:
LOCATION:
SUMMARY:TIME SHEETS APPROVED
END:VEVENT
BEGIN:VEVENT
DTSTAMP:20260423T095641Z
UID:cf9bddbe-86c8-4174-a244-0d760886eb32
DTSTART;VALUE=DATE:20260508
DTEND;VALUE=DATE:20260509
DESCRIPTION:
LOCATION:
SUMMARY:Students Leave for Long Weekend
END:VEVENT
BEGIN:VEVENT
DTSTAMP:20260423T095641Z
UID:01bb1cc8-b2ba-46f9-b288-d97c06534b44
DTSTART;VALUE=DATE:20260511
DTEND;VALUE=DATE:20260512
DESCRIPTION:
LOCATION:
SUMMARY:Boarding Students Return
END:VEVENT
BEGIN:VEVENT
DTSTAMP:20260423T095641Z
UID:2f163fe1-fb33-4acd-a4d5-b97879120d5a
DTSTART;VALUE=DATE:20260512
DTEND;VALUE=DATE:20260513
DESCRIPTION:
LOCATION:
SUMMARY:Classes Resume
END:VEVENT
BEGIN:VEVENT
DTSTAMP:20260423T095641Z
UID:0ef65158-76b5-47fe-b68b-b1a55afcdd0e
DTSTART:20260520T120000
DTEND:20260520T123000
DESCRIPTION:
LOCATION:
SUMMARY:Time Sheet Due
END:VEVENT
BEGIN:VEVENT
DTSTAMP:20260423T095641Z
UID:48758bc3-ab84-4cef-b5ea-662b965e8af9
DTSTART:20260521T083000
DTEND:20260521T103000
DESCRIPTION:
LOCATION:
SUMMARY:Board of Trustees Meeting
END:VEVENT
BEGIN:VEVENT
DTSTAMP:20260423T095641Z
UID:92853528-d1aa-4e35-b6fa-e48d1609f2e7
DTSTART:20260521T113000
DTEND:20260521T120000
DESCRIPTION:
LOCATION:
SUMMARY:TIME SHEETS APPROVED
END:VEVENT
BEGIN:VEVENT
DTSTAMP:20260423T095641Z
UID:0d66b950-6d89-4dc4-915c-e8b9f13ea31b
DTSTART:20260521T120000
DTEND:20260521T140000
DESCRIPTION:
LOCATION:
SUMMARY:Blind High School Graduation
END:VEVENT
BEGIN:VEVENT
DTSTAMP:20260423T095641Z
UID:76467263-f380-4f17-ad4f-153c95fc7298
DTSTART;VALUE=DATE:20260522
DTEND;VALUE=DATE:20260523
DESCRIPTION:
LOCATION:
SUMMARY:Students Leave for Long Weekend
END:VEVENT
BEGIN:VEVENT
DTSTAMP:20260423T095641Z
UID:0a8d596b-6929-491a-985b-385897557406
DTSTART:20260522T110000
DTEND:20260522T130000
DESCRIPTION:
LOCATION:
SUMMARY:Deaf High School Graduation
END:VEVENT
BEGIN:VEVENT
DTSTAMP:20260423T095641Z
UID:8e41cad3-3dc4-44ce-8a1b-05a778f678a5
DTSTART;VALUE=DATE:20260525
DTEND;VALUE=DATE:20260526
DESCRIPTION:
LOCATION:
SUMMARY:Boarding Students Return
END:VEVENT
BEGIN:VEVENT
DTSTAMP:20260423T095641Z
UID:66ead570-357b-4a28-adf4-a454c7a905ea
DTSTART;VALUE=DATE:20260525
DTEND;VALUE=DATE:20260526
DESCRIPTION:
LOCATION:
SUMMARY:Memorial Day (No Classes)
END:VEVENT
BEGIN:VEVENT
DTSTAMP:20260423T095641Z
UID:48589593-3e29-40c7-9659-59004afab276
DTSTART;VALUE=DATE:20260526
DTEND;VALUE=DATE:20260527
DESCRIPTION:
LOCATION:
SUMMARY:Classes Resume
END:VEVENT
BEGIN:VEVENT
DTSTAMP:20260423T095641Z
UID:be16f333-ae1e-4031-ad47-25157cb233b2
DTSTART;VALUE=DATE:20260529
DTEND;VALUE=DATE:20260530
DESCRIPTION:
LOCATION:
SUMMARY:End of 4th Quarter / End of 2nd Semester
END:VEVENT
BEGIN:VEVENT
DTSTAMP:20260423T095641Z
UID:16801fcd-64dd-4586-aa5e-02c5709269f9
DTSTART;VALUE=DATE:20260529
DTEND;VALUE=DATE:20260530
DESCRIPTION:
LOCATION:
SUMMARY:Last Day of School
END:VEVENT
BEGIN:VEVENT
DTSTAMP:20260423T095641Z
UID:e679418a-0eb9-45c2-ae5f-2531a9968096
DTSTART:20260603T120000
DTEND:20260603T123000
DESCRIPTION:
LOCATION:
SUMMARY:Time Sheet Due
END:VEVENT
BEGIN:VEVENT
DTSTAMP:20260423T095641Z
UID:569f20db-1244-44f0-90e8-40f28c07cb6a
DTSTART:20260604T113000
DTEND:20260604T120000
DESCRIPTION:
LOCATION:
SUMMARY:TIME SHEETS APPROVED
END:VEVENT
BEGIN:VEVENT
DTSTAMP:20260423T095641Z
UID:a127c7fb-5865-4fc7-912e-091a88718ff3
DTSTART;VALUE=DATE:20260608
DTEND;VALUE=DATE:20260609
DESCRIPTION:
LOCATION:
SUMMARY:Start of Summer Term
END:VEVENT
BEGIN:VEVENT
DTSTAMP:20260423T095641Z
UID:1689454d-6dc9-4d40-a28e-4c68fee45cf0
DTSTART:20260617T120000
DTEND:20260617T123000
DESCRIPTION:
LOCATION:
SUMMARY:Time Sheet Due
END:VEVENT
BEGIN:VEVENT
DTSTAMP:20260423T095641Z
UID:e33bc385-a4a0-4eaa-9ded-630ecfa8f5c2
DTSTART:20260618T113000
DTEND:20260618T120000
DESCRIPTION:
LOCATION:
SUMMARY:TIME SHEETS APPROVED
END:VEVENT
BEGIN:VEVENT
DTSTAMP:20260423T095641Z
UID:3592c203-25fa-4608-b59d-d737688a501e
DTSTART;VALUE=DATE:20260626
DTEND;VALUE=DATE:20260627
DESCRIPTION:
LOCATION:
SUMMARY:End of Summer Term
END:VEVENT
BEGIN:VEVENT
DTSTAMP:20260423T095641Z
UID:a6905d1b-0096-4e80-bedd-b3a16298992b
DTSTART:20260701T120000
DTEND:20260701T123000
DESCRIPTION:
LOCATION:
SUMMARY:Time Sheet Due
END:VEVENT
BEGIN:VEVENT
DTSTAMP:20260423T095641Z
UID:23eb345a-1ec2-4c7d-bf10-3304b505b3ca
DTSTART:20260702T113000
DTEND:20260702T120000
DESCRIPTION:
LOCATION:
SUMMARY:TIME SHEETS APPROVED
END:VEVENT
BEGIN:VEVENT
DTSTAMP:20260423T095641Z
UID:2c3d4fb4-1ff4-47fc-b124-44dda177c9d6
DTSTART:20260715T120000
DTEND:20260715T123000
DESCRIPTION:
LOCATION:
SUMMARY:Time Sheet Due
END:VEVENT
BEGIN:VEVENT
DTSTAMP:20260423T095641Z
UID:44abfc74-54f1-41fd-b19e-accab807776b
DTSTART:20260716T113000
DTEND:20260716T120000
DESCRIPTION:
LOCATION:
SUMMARY:TIME SHEETS APPROVED
END:VEVENT
BEGIN:VEVENT
DTSTAMP:20260423T095641Z
UID:aa7929a0-7e68-43ec-8fd5-d77358d531d6
DTSTART:20260729T120000
DTEND:20260729T123000
DESCRIPTION:
LOCATION:
SUMMARY:Time Sheet Due
END:VEVENT
BEGIN:VEVENT
DTSTAMP:20260423T095641Z
UID:7cfd7d30-3978-4c5d-aa66-d7a400a5f22f
DTSTART:20260730T113000
DTEND:20260730T120000
DESCRIPTION:
LOCATION:
SUMMARY:TIME SHEETS APPROVED
END:VEVENT
BEGIN:VEVENT
DTSTAMP:20260423T095641Z
UID:fe2ee17a-10d4-46a4-91a6-8b4127433c5a
DTSTART:20260812T120000
DTEND:20260812T123000
DESCRIPTION:
LOCATION:
SUMMARY:Time Sheet Due
END:VEVENT
BEGIN:VEVENT
DTSTAMP:20260423T095641Z
UID:5d2df0e0-ac00-43fb-a202-4333cd8df319
DTSTART:20260813T113000
DTEND:20260813T120000
DESCRIPTION:
LOCATION:
SUMMARY:TIME SHEETS APPROVED
END:VEVENT
BEGIN:VEVENT
DTSTAMP:20260423T095641Z
UID:18bcc9f0-1398-4931-af97-2c4bba79b345
DTSTART:20260826T120000
DTEND:20260826T123000
DESCRIPTION:
LOCATION:
SUMMARY:Time Sheet Due
END:VEVENT
BEGIN:VEVENT
DTSTAMP:20260423T095641Z
UID:f9ea54cc-6ad5-4478-a8c9-dc1303cf4713
DTSTART:20260827T113000
DTEND:20260827T120000
DESCRIPTION:
LOCATION:
SUMMARY:TIME SHEETS APPROVED
END:VEVENT
BEGIN:VEVENT
DTSTAMP:20260423T095641Z
UID:ec141171-6217-4f17-9180-631e9ac44b73
DTSTART:20260909T120000
DTEND:20260909T123000
DESCRIPTION:
LOCATION:
SUMMARY:Time Sheet Due
END:VEVENT
BEGIN:VEVENT
DTSTAMP:20260423T095641Z
UID:a810d133-5c98-4172-a574-a6c54d6c42ca
DTSTART:20260910T113000
DTEND:20260910T120000
DESCRIPTION:
LOCATION:
SUMMARY:TIME SHEETS APPROVED
END:VEVENT
BEGIN:VEVENT
DTSTAMP:20260423T095641Z
UID:bf95bfbe-3ce5-49ec-8c2b-22141b83bd01
DTSTART:20260923T120000
DTEND:20260923T123000
DESCRIPTION:
LOCATION:
SUMMARY:Time Sheet Due
END:VEVENT
BEGIN:VEVENT
DTSTAMP:20260423T095641Z
UID:3137e5a6-cd09-4f0e-801c-03f945cd9a2a
DTSTART:20260924T113000
DTEND:20260924T120000
DESCRIPTION:
LOCATION:
SUMMARY:TIME SHEETS APPROVED
END:VEVENT
BEGIN:VEVENT
DTSTAMP:20260423T095641Z
UID:62cdc888-f03f-41e4-9273-25a5ab9cbe59
DTSTART:20261007T120000
DTEND:20261007T123000
DESCRIPTION:
LOCATION:
SUMMARY:Time Sheet Due
END:VEVENT
BEGIN:VEVENT
DTSTAMP:20260423T095641Z
UID:c460f6a2-67de-49ee-a5d9-e44d44278789
DTSTART:20261008T113000
DTEND:20261008T120000
DESCRIPTION:
LOCATION:
SUMMARY:TIME SHEETS APPROVED
END:VEVENT
END:VCALENDAR
