BEGIN:VCALENDAR
VERSION:2.0
PRODID:icalendar-ruby
CALSCALE:GREGORIAN
BEGIN:VTIMEZONE
TZID:America/New_York
BEGIN:DAYLIGHT
DTSTART:20260308T030000
TZOFFSETFROM:-0500
TZOFFSETTO:-0400
RRULE:FREQ=YEARLY;BYDAY=2SU;BYMONTH=3
TZNAME:EDT
END:DAYLIGHT
BEGIN:STANDARD
DTSTART:20261101T010000
TZOFFSETFROM:-0400
TZOFFSETTO:-0500
RRULE:FREQ=YEARLY;BYDAY=1SU;BYMONTH=11
TZNAME:EST
END:STANDARD
END:VTIMEZONE
BEGIN:VEVENT
DTSTAMP:20260423T095635Z
UID:15a9d197-c912-4422-a39f-4ef0a9391109
DTSTART;VALUE=DATE:20260423
DTEND;VALUE=DATE:20260424
DESCRIPTION:
LOCATION:
SUMMARY:Reading is Fun (RIF)
END:VEVENT
BEGIN:VEVENT
DTSTAMP:20260423T095635Z
UID:b9929146-2a0d-4b9e-a46d-738468d958be
DTSTART:20260425T080000
DTEND:20260425T110000
DESCRIPTION:FSDB Track & Field at FHSAA District Meet - @ St. Johns Country
  Day School\n
LOCATION:3100 Doctors Lake Dr\, Orange Park\, FL 32073
SUMMARY:FSDB Track & Field at FHSAA District Meet - @ St. Johns Country Day
  School
END:VEVENT
BEGIN:VEVENT
DTSTAMP:20260423T095635Z
UID:bb1b3f2c-b6db-4836-8ba2-13a5b893e925
DTSTART;VALUE=DATE:20260428
DTEND;VALUE=DATE:20260429
DESCRIPTION:
LOCATION:
SUMMARY:MAP Reading
END:VEVENT
BEGIN:VEVENT
DTSTAMP:20260423T095635Z
UID:2999753e-8ad6-4a4b-a99d-75490733dab8
DTSTART;VALUE=DATE:20260429
DTEND;VALUE=DATE:20260430
DESCRIPTION:
LOCATION:
SUMMARY:MAP Math
END:VEVENT
BEGIN:VEVENT
DTSTAMP:20260423T095635Z
UID:5ac17b03-c28d-48bc-9630-4bce07f50b3d
DTSTART:20260430T190000
DTEND:20260430T220000
DESCRIPTION:
LOCATION:
SUMMARY:Blind High School Prom
END:VEVENT
BEGIN:VEVENT
DTSTAMP:20260423T095635Z
UID:9b4b1ba0-9188-4890-9505-273af899f6c1
DTSTART;VALUE=DATE:20260501
DTEND;VALUE=DATE:20260502
DESCRIPTION:FSDB Track & Field at FHSAA Regional Meet - @ Wildwood High Sch
 ool\n
LOCATION:700 Huey St\, Wildwood\, FL 34785
SUMMARY:FSDB Track & Field at FHSAA Regional Meet - @ Wildwood High School
END:VEVENT
BEGIN:VEVENT
DTSTAMP:20260423T095635Z
UID:e01d8d3f-e8da-4908-a353-7d11befacf99
DTSTART:20260501T090000
DTEND:20260501T133000
DESCRIPTION:
LOCATION:
SUMMARY:Parent Engagement Workshop
END:VEVENT
BEGIN:VEVENT
DTSTAMP:20260423T095635Z
UID:a8b50a01-12a8-46e1-bdab-f316dce0a1d8
DTSTART;VALUE=DATE:20260505
DTEND;VALUE=DATE:20260506
DESCRIPTION:
LOCATION:
SUMMARY:FAST ELA PM3
END:VEVENT
BEGIN:VEVENT
DTSTAMP:20260423T095635Z
UID:6181b56b-d0ba-451b-b366-40b83e6f68ee
DTSTART;VALUE=DATE:20260506
DTEND;VALUE=DATE:20260507
DESCRIPTION:FSDB Track & Field at FHSAA State Championships - @ University 
 of North Florida (Hodges Stadium)\n
LOCATION:1 UNF Drive\, Jacksonville\, FL 32224
SUMMARY:FSDB Track & Field at FHSAA State Championships - @ University of N
 orth Florida (Hodges Stadium)
END:VEVENT
BEGIN:VEVENT
DTSTAMP:20260423T095635Z
UID:a9fef9f0-cf0d-46b2-8dc8-211e0773a1ba
DTSTART:20260506T080000
DTEND:20260506T090000
DESCRIPTION:
LOCATION:
SUMMARY:BEST Algebra EOC
END:VEVENT
BEGIN:VEVENT
DTSTAMP:20260423T095635Z
UID:f0a12e2d-9c6f-4431-9f5b-48b796f102a6
DTSTART;VALUE=DATE:20260507
DTEND;VALUE=DATE:20260508
DESCRIPTION:
LOCATION:
SUMMARY:BEST Geometry EOC
END:VEVENT
BEGIN:VEVENT
DTSTAMP:20260423T095635Z
UID:f4553845-4656-4edc-96f7-acb0436f38dc
DTSTART;VALUE=DATE:20260508
DTEND;VALUE=DATE:20260509
DESCRIPTION:
LOCATION:
SUMMARY:Students Leave for Long Weekend
END:VEVENT
BEGIN:VEVENT
DTSTAMP:20260423T095635Z
UID:b608ee0e-87c0-41e9-bc31-c8cbd14b383b
DTSTART;VALUE=DATE:20260511
DTEND;VALUE=DATE:20260512
DESCRIPTION:
LOCATION:
SUMMARY:Boarding Students Return
END:VEVENT
BEGIN:VEVENT
DTSTAMP:20260423T095635Z
UID:fbf9cc2c-f555-4ee0-8d9a-1596aa525d04
DTSTART;VALUE=DATE:20260512
DTEND;VALUE=DATE:20260513
DESCRIPTION:
LOCATION:
SUMMARY:Biology EOC
END:VEVENT
BEGIN:VEVENT
DTSTAMP:20260423T095635Z
UID:aac063d1-5817-4a37-b49e-61d6fdd091f6
DTSTART;VALUE=DATE:20260512
DTEND;VALUE=DATE:20260513
DESCRIPTION:
LOCATION:
SUMMARY:Classes Resume
END:VEVENT
BEGIN:VEVENT
DTSTAMP:20260423T095635Z
UID:9e6896de-72e5-44c1-ba00-6a9fdc367cb5
DTSTART;VALUE=DATE:20260513
DTEND;VALUE=DATE:20260514
DESCRIPTION:
LOCATION:
SUMMARY:US History EOC
END:VEVENT
BEGIN:VEVENT
DTSTAMP:20260423T095635Z
UID:ce6f2d9f-93bd-4577-8798-3cf2c8aafb5c
DTSTART:20260514T180000
DTEND:20260514T210000
DESCRIPTION:
LOCATION:Kirk Auditorium
SUMMARY:Athletic Awards
END:VEVENT
BEGIN:VEVENT
DTSTAMP:20260423T095635Z
UID:80ab2f19-81e3-463b-97f1-01f376c34589
DTSTART:20260521T083000
DTEND:20260521T103000
DESCRIPTION:
LOCATION:
SUMMARY:Board of Trustees Meeting
END:VEVENT
BEGIN:VEVENT
DTSTAMP:20260423T095635Z
UID:c76c97dc-13f4-4254-a536-0d95ea2e4e53
DTSTART:20260521T120000
DTEND:20260521T140000
DESCRIPTION:
LOCATION:
SUMMARY:Blind High School Graduation
END:VEVENT
BEGIN:VEVENT
DTSTAMP:20260423T095635Z
UID:0ecad5b3-fce6-4a5e-99ac-c6707eaa2d85
DTSTART;VALUE=DATE:20260522
DTEND;VALUE=DATE:20260523
DESCRIPTION:
LOCATION:
SUMMARY:Students Leave for Long Weekend
END:VEVENT
BEGIN:VEVENT
DTSTAMP:20260423T095635Z
UID:d0768670-8106-4cf3-b12e-05a0f9cb7c9b
DTSTART:20260522T110000
DTEND:20260522T130000
DESCRIPTION:
LOCATION:
SUMMARY:Deaf High School Graduation
END:VEVENT
BEGIN:VEVENT
DTSTAMP:20260423T095635Z
UID:3fecc201-87f2-4b3c-8b4a-b3b2d703c0c4
DTSTART;VALUE=DATE:20260525
DTEND;VALUE=DATE:20260526
DESCRIPTION:
LOCATION:
SUMMARY:Boarding Students Return
END:VEVENT
BEGIN:VEVENT
DTSTAMP:20260423T095635Z
UID:92c77b2e-981b-4dfa-a432-9807b2e6baed
DTSTART;VALUE=DATE:20260525
DTEND;VALUE=DATE:20260526
DESCRIPTION:
LOCATION:
SUMMARY:Memorial Day (No Classes)
END:VEVENT
BEGIN:VEVENT
DTSTAMP:20260423T095635Z
UID:ff817e90-b11e-4cf6-955b-c0cbe10770fb
DTSTART;VALUE=DATE:20260526
DTEND;VALUE=DATE:20260527
DESCRIPTION:
LOCATION:
SUMMARY:Classes Resume
END:VEVENT
BEGIN:VEVENT
DTSTAMP:20260423T095635Z
UID:40aab1ed-3248-4ded-8c3a-ec64c84a1941
DTSTART;VALUE=DATE:20260527
DTEND;VALUE=DATE:20260528
DESCRIPTION:
LOCATION:
SUMMARY:Spelling Bee
END:VEVENT
BEGIN:VEVENT
DTSTAMP:20260423T095635Z
UID:54056254-a7c3-40ca-8f2f-7eea9bb087e9
DTSTART;VALUE=DATE:20260529
DTEND;VALUE=DATE:20260530
DESCRIPTION:
LOCATION:
SUMMARY:End of 4th Quarter / End of 2nd Semester
END:VEVENT
BEGIN:VEVENT
DTSTAMP:20260423T095635Z
UID:9df04049-3287-45fd-aadb-2c9b1b3021b0
DTSTART;VALUE=DATE:20260529
DTEND;VALUE=DATE:20260530
DESCRIPTION:
LOCATION:
SUMMARY:Last Day of School
END:VEVENT
BEGIN:VEVENT
DTSTAMP:20260423T095635Z
UID:f8ef9b6b-7a1a-4453-abda-d6cfcefc6784
DTSTART;VALUE=DATE:20260608
DTEND;VALUE=DATE:20260609
DESCRIPTION:
LOCATION:
SUMMARY:Start of Summer Term
END:VEVENT
BEGIN:VEVENT
DTSTAMP:20260423T095635Z
UID:495c53b0-a6ed-4880-b074-9ef00b120d3e
DTSTART;VALUE=DATE:20260626
DTEND;VALUE=DATE:20260627
DESCRIPTION:
LOCATION:
SUMMARY:End of Summer Term
END:VEVENT
BEGIN:VEVENT
DTSTAMP:20260423T095635Z
UID:61069b87-78b7-4d45-9a7a-80983de03bca
DTSTART;VALUE=DATE:20270317
DTEND;VALUE=DATE:20270321
DESCRIPTION:
LOCATION:
SUMMARY:Florida Thespians Senior State Festival
END:VEVENT
BEGIN:VEVENT
DTSTAMP:20260423T095635Z
UID:15ee8371-8a51-4733-aafa-8c7cc7e43b6c
DTSTART;VALUE=DATE:20280322
DTEND;VALUE=DATE:20280326
DESCRIPTION:
LOCATION:
SUMMARY:Florida Thespians Senior State Festival
END:VEVENT
END:VCALENDAR
