BEGIN:VCALENDAR
VERSION:2.0
PRODID:icalendar-ruby
CALSCALE:GREGORIAN
BEGIN:VTIMEZONE
TZID:America/New_York
BEGIN:DAYLIGHT
DTSTART:20260308T030000
TZOFFSETFROM:-0500
TZOFFSETTO:-0400
RRULE:FREQ=YEARLY;BYDAY=2SU;BYMONTH=3
TZNAME:EDT
END:DAYLIGHT
BEGIN:STANDARD
DTSTART:20261101T010000
TZOFFSETFROM:-0400
TZOFFSETTO:-0500
RRULE:FREQ=YEARLY;BYDAY=1SU;BYMONTH=11
TZNAME:EST
END:STANDARD
END:VTIMEZONE
BEGIN:VEVENT
DTSTAMP:20260423T095440Z
UID:aac92c92-b77c-4570-91c8-cfd3f82dd058
DTSTART:20260501T090000
DTEND:20260501T133000
DESCRIPTION:
LOCATION:
SUMMARY:Parent Engagement Workshop
END:VEVENT
BEGIN:VEVENT
DTSTAMP:20260423T095440Z
UID:94fba31b-f5de-4eb6-80d9-2e9d9733fbff
DTSTART;VALUE=DATE:20260508
DTEND;VALUE=DATE:20260509
DESCRIPTION:
LOCATION:
SUMMARY:Students Leave for Long Weekend
END:VEVENT
BEGIN:VEVENT
DTSTAMP:20260423T095440Z
UID:71e085ff-6225-4b12-a196-3bef037a5619
DTSTART;VALUE=DATE:20260511
DTEND;VALUE=DATE:20260512
DESCRIPTION:
LOCATION:
SUMMARY:Boarding Students Return
END:VEVENT
BEGIN:VEVENT
DTSTAMP:20260423T095440Z
UID:d8d65299-9e53-4292-a908-e3a0a43d2e36
DTSTART;VALUE=DATE:20260512
DTEND;VALUE=DATE:20260513
DESCRIPTION:
LOCATION:
SUMMARY:Classes Resume
END:VEVENT
BEGIN:VEVENT
DTSTAMP:20260423T095440Z
UID:588532c8-10c0-4d36-bd8d-c3fb3737eaf2
DTSTART:20260521T083000
DTEND:20260521T103000
DESCRIPTION:
LOCATION:
SUMMARY:Board of Trustees Meeting
END:VEVENT
BEGIN:VEVENT
DTSTAMP:20260423T095440Z
UID:8a1d970b-b441-479d-abce-4613e838f9f1
DTSTART:20260521T120000
DTEND:20260521T140000
DESCRIPTION:
LOCATION:
SUMMARY:Blind High School Graduation
END:VEVENT
BEGIN:VEVENT
DTSTAMP:20260423T095440Z
UID:3d0657c0-edc3-4fe0-8a6f-c0cc8004a633
DTSTART;VALUE=DATE:20260522
DTEND;VALUE=DATE:20260523
DESCRIPTION:
LOCATION:
SUMMARY:Students Leave for Long Weekend
END:VEVENT
BEGIN:VEVENT
DTSTAMP:20260423T095440Z
UID:2290df27-1e15-4989-b42d-66f87cab92b8
DTSTART:20260522T110000
DTEND:20260522T130000
DESCRIPTION:
LOCATION:
SUMMARY:Deaf High School Graduation
END:VEVENT
BEGIN:VEVENT
DTSTAMP:20260423T095440Z
UID:e105ffa5-f5a8-439a-83b1-559c57994961
DTSTART;VALUE=DATE:20260525
DTEND;VALUE=DATE:20260526
DESCRIPTION:
LOCATION:
SUMMARY:Boarding Students Return
END:VEVENT
BEGIN:VEVENT
DTSTAMP:20260423T095440Z
UID:b126a9a0-b374-40db-a996-bdbf7bd3fdd6
DTSTART;VALUE=DATE:20260525
DTEND;VALUE=DATE:20260526
DESCRIPTION:
LOCATION:
SUMMARY:Memorial Day (No Classes)
END:VEVENT
BEGIN:VEVENT
DTSTAMP:20260423T095440Z
UID:6029fe10-5885-456b-bbab-27b0b7f2b139
DTSTART;VALUE=DATE:20260526
DTEND;VALUE=DATE:20260527
DESCRIPTION:
LOCATION:
SUMMARY:Classes Resume
END:VEVENT
BEGIN:VEVENT
DTSTAMP:20260423T095440Z
UID:1f2c1bcd-e537-412d-8762-a6b1ce69711d
DTSTART;VALUE=DATE:20260529
DTEND;VALUE=DATE:20260530
DESCRIPTION:
LOCATION:
SUMMARY:End of 4th Quarter / End of 2nd Semester
END:VEVENT
BEGIN:VEVENT
DTSTAMP:20260423T095440Z
UID:a2c310cd-c794-4d97-afed-973b849066c3
DTSTART;VALUE=DATE:20260529
DTEND;VALUE=DATE:20260530
DESCRIPTION:
LOCATION:
SUMMARY:Last Day of School
END:VEVENT
BEGIN:VEVENT
DTSTAMP:20260423T095440Z
UID:85dd7d07-ec80-4e04-9a07-d3ff5f9694bb
DTSTART;VALUE=DATE:20260608
DTEND;VALUE=DATE:20260609
DESCRIPTION:
LOCATION:
SUMMARY:Start of Summer Term
END:VEVENT
BEGIN:VEVENT
DTSTAMP:20260423T095440Z
UID:02eec67f-733f-4bee-a708-d914f8babd29
DTSTART;VALUE=DATE:20260626
DTEND;VALUE=DATE:20260627
DESCRIPTION:
LOCATION:
SUMMARY:End of Summer Term
END:VEVENT
END:VCALENDAR
