BEGIN:VCALENDAR
VERSION:2.0
PRODID:icalendar-ruby
CALSCALE:GREGORIAN
BEGIN:VTIMEZONE
TZID:America/New_York
BEGIN:DAYLIGHT
DTSTART:20260308T030000
TZOFFSETFROM:-0500
TZOFFSETTO:-0400
RRULE:FREQ=YEARLY;BYDAY=2SU;BYMONTH=3
TZNAME:EDT
END:DAYLIGHT
BEGIN:STANDARD
DTSTART:20261101T010000
TZOFFSETFROM:-0400
TZOFFSETTO:-0500
RRULE:FREQ=YEARLY;BYDAY=1SU;BYMONTH=11
TZNAME:EST
END:STANDARD
END:VTIMEZONE
BEGIN:VEVENT
DTSTAMP:20260421T163240Z
UID:0a62d83e-467c-4156-b051-bd4541edd054
DTSTART:20260430T180000
DTEND:20260430T193000
DESCRIPTION:
LOCATION:
SUMMARY:Fine Arts Night
END:VEVENT
BEGIN:VEVENT
DTSTAMP:20260421T163240Z
UID:0dfa8fb7-6a67-4e5f-8fb3-eba26d37e23e
DTSTART:20260505T180000
DTEND:20260505T190000
DESCRIPTION:
LOCATION:
SUMMARY:PTO Meeting
END:VEVENT
BEGIN:VEVENT
DTSTAMP:20260421T163240Z
UID:3af6ef2a-096e-4310-895b-d04d1f62c1ba
DTSTART:20260512T163000
DTEND:20260512T173000
DESCRIPTION:
LOCATION:Fowler Drive Elementary School\, 400 Fowler Dr\, Athens\, GA 30601
 \, USA
SUMMARY:Fowler LSGT Meeting - May - In person
END:VEVENT
END:VCALENDAR
