BEGIN:VCALENDAR
VERSION:2.0
PRODID:icalendar-ruby
CALSCALE:GREGORIAN
BEGIN:VTIMEZONE
TZID:America/Chicago
BEGIN:DAYLIGHT
DTSTART:20260308T030000
TZOFFSETFROM:-0600
TZOFFSETTO:-0500
RRULE:FREQ=YEARLY;BYDAY=2SU;BYMONTH=3
TZNAME:CDT
END:DAYLIGHT
BEGIN:STANDARD
DTSTART:20261101T010000
TZOFFSETFROM:-0500
TZOFFSETTO:-0600
RRULE:FREQ=YEARLY;BYDAY=1SU;BYMONTH=11
TZNAME:CST
END:STANDARD
END:VTIMEZONE
BEGIN:VEVENT
DTSTAMP:20260423T144925Z
UID:f6ec4742-8381-4d36-a575-04d0d13ba0fc
DTSTART:20260425T080000
DTEND:20260425T110000
DESCRIPTION:<p><span>The City of Rockford will donate and plant 10 trees at
  Rolling Green Elementary School to help create a new Outdoor Learning Gro
 ve. Staff and family volunteers will work together to plant the trees and 
 enhance the school’s outdoor learning space. Following the planting\, co
 mmunity members are invited to receive a free tree (potted white oak or st
 aghorn sumac) while supplies last. Limit one tree per person. This Arbor D
 ay initiative supports environmental stewardship\, enhances outdoor learni
 ng opportunities for students\, and encourages community members to plant 
 and care for trees throughout Rockford.</span></p>
LOCATION:3615 W Gate Pkwy\, Rockford
SUMMARY:Volunteer Tree Planting Day
END:VEVENT
BEGIN:VEVENT
DTSTAMP:20260423T144925Z
UID:08ea8915-19c0-4b37-ac4a-609655bbce2b
DTSTART;VALUE=DATE:20260508
DTEND;VALUE=DATE:20260509
DESCRIPTION:
LOCATION:
SUMMARY:Grade 12: Last Day of School
END:VEVENT
BEGIN:VEVENT
DTSTAMP:20260423T144925Z
UID:bfc30435-6dd8-4459-bda9-f8218e9b7c3b
DTSTART;VALUE=DATE:20260521
DTEND;VALUE=DATE:20260522
DESCRIPTION:
LOCATION:
SUMMARY:Early Childhood: Last Day of School
END:VEVENT
BEGIN:VEVENT
DTSTAMP:20260423T144925Z
UID:a3226f3b-bbaa-486f-a912-863b6705111a
DTSTART;VALUE=DATE:20260522
DTEND;VALUE=DATE:20260523
DESCRIPTION:
LOCATION:
SUMMARY:Early Childhood: Non-Program Day
END:VEVENT
BEGIN:VEVENT
DTSTAMP:20260423T144925Z
UID:65d36dff-0534-4ceb-b662-b1a723bc666b
DTSTART;VALUE=DATE:20260522
DTEND;VALUE=DATE:20260523
DESCRIPTION:
LOCATION:
SUMMARY:K-11: Last Day of School
END:VEVENT
BEGIN:VEVENT
DTSTAMP:20260423T144925Z
UID:bffc1d84-6a31-42ac-9307-cafd65f65939
DTSTART;VALUE=DATE:20260525
DTEND;VALUE=DATE:20260526
DESCRIPTION:
LOCATION:
SUMMARY:Memorial Day
END:VEVENT
BEGIN:VEVENT
DTSTAMP:20260423T144925Z
UID:c4904634-7d07-42cd-bd70-bf4dda8a5a5e
DTSTART;VALUE=DATE:20260526
DTEND;VALUE=DATE:20260529
DESCRIPTION:
LOCATION:
SUMMARY:Emergency Make Up Days If Needed
END:VEVENT
BEGIN:VEVENT
DTSTAMP:20260423T144925Z
UID:7ffc0454-5b17-4f7a-9e76-a2939699054d
DTSTART;VALUE=DATE:20260619
DTEND;VALUE=DATE:20260620
DESCRIPTION:
LOCATION:
SUMMARY:Juneteenth
END:VEVENT
END:VCALENDAR
