BEGIN:VCALENDAR
VERSION:2.0
PRODID:icalendar-ruby
CALSCALE:GREGORIAN
BEGIN:VTIMEZONE
TZID:America/Los_Angeles
BEGIN:DAYLIGHT
DTSTART:20260308T030000
TZOFFSETFROM:-0800
TZOFFSETTO:-0700
RRULE:FREQ=YEARLY;BYDAY=2SU;BYMONTH=3
TZNAME:PDT
END:DAYLIGHT
BEGIN:STANDARD
DTSTART:20261101T010000
TZOFFSETFROM:-0700
TZOFFSETTO:-0800
RRULE:FREQ=YEARLY;BYDAY=1SU;BYMONTH=11
TZNAME:PST
END:STANDARD
END:VTIMEZONE
BEGIN:VEVENT
DTSTAMP:20260422T121605Z
UID:ee794923-2011-44fb-9bed-557d6761cf46
DTSTART;VALUE=DATE:20260413
DTEND;VALUE=DATE:20260502
DESCRIPTION:
LOCATION:
SUMMARY:CJUSD Student State Assessment: Physical Fitness Test (PFT) grades 
 5\, 7\, 9
END:VEVENT
BEGIN:VEVENT
DTSTAMP:20260422T121605Z
UID:0ee11f28-358e-4400-bad2-29085e1f7825
DTSTART;VALUE=DATE:20260420
DTEND;VALUE=DATE:20260425
DESCRIPTION:
LOCATION:
SUMMARY:CJSHS Student State Assessment: CAASPP Grades 7-8\, 11
END:VEVENT
BEGIN:VEVENT
DTSTAMP:20260422T121605Z
UID:0d1feca4-f482-4d1f-b0fa-29b8c22965d0
DTSTART:20260504T084500
DTEND:20260504T104500
DESCRIPTION:
LOCATION:
SUMMARY:CES Student State Assessment: 5th grade Science\, 6th grade Math
END:VEVENT
BEGIN:VEVENT
DTSTAMP:20260422T121605Z
UID:32795c33-d3d8-43d5-bd29-979b6b6b9551
DTSTART:20260505T084500
DTEND:20260505T104500
DESCRIPTION:
LOCATION:
SUMMARY:CES Student State Assessment: 5th grade Science\, 6th grade Math
END:VEVENT
BEGIN:VEVENT
DTSTAMP:20260422T121605Z
UID:d440fc9f-4de2-4404-bc55-614736ad66f9
DTSTART:20260506T084500
DTEND:20260506T104500
DESCRIPTION:
LOCATION:
SUMMARY:CES Student State Assessment: 5th grade Science\, 6th grade Math
END:VEVENT
BEGIN:VEVENT
DTSTAMP:20260422T121605Z
UID:14a5c110-43f1-43e4-9ffb-3a941167d304
DTSTART:20260507T084500
DTEND:20260507T104500
DESCRIPTION:
LOCATION:
SUMMARY:CES Student State Assessment: 5th grade Science\, 6th grade Math
END:VEVENT
BEGIN:VEVENT
DTSTAMP:20260422T121605Z
UID:1b752bfa-5933-45f9-8c2b-b8cbc9e6d15e
DTSTART:20260508T084500
DTEND:20260508T104500
DESCRIPTION:
LOCATION:
SUMMARY:CES Student State Assessment: 5th grade Science\, 6th grade Math
END:VEVENT
BEGIN:VEVENT
DTSTAMP:20260422T121605Z
UID:7d4a5f3f-eec2-400b-bbc1-0868bf7a5c8e
DTSTART:20260511T084500
DTEND:20260511T104500
DESCRIPTION:
LOCATION:
SUMMARY: CES Student State Assessment: 4-5 grade ELA
END:VEVENT
BEGIN:VEVENT
DTSTAMP:20260422T121605Z
UID:b284f7f6-13e2-41be-aae5-66c483aa3cb6
DTSTART:20260511T180000
DTEND:20260511T200000
DESCRIPTION:
LOCATION:Calistoga Junior-Senior High School\, Multi Purpose Room - 1608 la
 ke st\, Calistoga\, California 94515\, Calistoga Junior Senior High School
 -1-CJSHS Multipurpose Room (200) [Amplified Sound\, Projector\, Viewsonic 
 TV]
SUMMARY:CJUSD Board Meeting
END:VEVENT
BEGIN:VEVENT
DTSTAMP:20260422T121605Z
UID:6befd43b-8228-43b8-be32-34920428c492
DTSTART:20260512T084500
DTEND:20260512T104500
DESCRIPTION:
LOCATION:
SUMMARY: CES Student State Assessment: 4-5 grade ELA
END:VEVENT
BEGIN:VEVENT
DTSTAMP:20260422T121605Z
UID:018a76f2-c823-4f9d-88ed-2a4b80033a3a
DTSTART:20260513T084500
DTEND:20260513T104500
DESCRIPTION:
LOCATION:
SUMMARY: CES Student State Assessment: 4-5 grade ELA
END:VEVENT
BEGIN:VEVENT
DTSTAMP:20260422T121605Z
UID:8c3bc697-7d69-4bf8-a485-f0f529a4e776
DTSTART:20260514T084500
DTEND:20260514T104500
DESCRIPTION:
LOCATION:
SUMMARY: CES Student State Assessment: 4-5 grade ELA
END:VEVENT
BEGIN:VEVENT
DTSTAMP:20260422T121605Z
UID:698c504b-3484-46f0-a959-3d48967d6b03
DTSTART:20260515T084500
DTEND:20260515T104500
DESCRIPTION:
LOCATION:
SUMMARY: CES Student State Assessment: 4-5 grade ELA
END:VEVENT
BEGIN:VEVENT
DTSTAMP:20260422T121605Z
UID:edd2f232-a484-4e07-b30c-4bf7639077d9
DTSTART;VALUE=DATE:20260518
DTEND;VALUE=DATE:20260521
DESCRIPTION:
LOCATION:
SUMMARY:Student Assessment: Spring MAP Week K-2
END:VEVENT
BEGIN:VEVENT
DTSTAMP:20260422T121605Z
UID:039d30dd-518c-4492-b74e-5b7a72da120d
DTSTART:20260518T084500
DTEND:20260518T104500
DESCRIPTION:
LOCATION:
SUMMARY: CES Student State Assessment: 4th/5th grade Math\, 3rd/6th grades 
 ELA
END:VEVENT
BEGIN:VEVENT
DTSTAMP:20260422T121605Z
UID:4ac4e61c-dfd0-4d6c-b1b1-ed81f536bd51
DTSTART:20260519T084500
DTEND:20260519T104500
DESCRIPTION:
LOCATION:
SUMMARY: CES Student State Assessment: 4th/5th grade Math\, 3rd/6th grades 
 ELA
END:VEVENT
BEGIN:VEVENT
DTSTAMP:20260422T121605Z
UID:f5070a4d-e9a8-48e0-b5aa-df6ada9bf796
DTSTART:20260520T084500
DTEND:20260520T104500
DESCRIPTION:
LOCATION:
SUMMARY: CES Student State Assessment: 4th/5th grade Math\, 3rd/6th grades 
 ELA
END:VEVENT
BEGIN:VEVENT
DTSTAMP:20260422T121605Z
UID:2d73afbc-941d-46a6-ad0c-a465300d20fd
DTSTART:20260521T084500
DTEND:20260521T104500
DESCRIPTION:
LOCATION:
SUMMARY: CES Student State Assessment: 4th/5th grade Math\, 3rd/6th grades 
 ELA
END:VEVENT
BEGIN:VEVENT
DTSTAMP:20260422T121605Z
UID:5f2661b2-72bf-442b-9248-e336cff6ba93
DTSTART:20260522T084500
DTEND:20260522T104500
DESCRIPTION:
LOCATION:
SUMMARY: CES Student State Assessment: 4th/5th grade Math\, 3rd/6th grades 
 ELA
END:VEVENT
BEGIN:VEVENT
DTSTAMP:20260422T121605Z
UID:0da634d7-ae0a-4013-9bc9-ee27a76b3a4d
DTSTART:20260526T084500
DTEND:20260526T104500
DESCRIPTION:
LOCATION:
SUMMARY:CES Student State Assessment: 3rd grade Math
END:VEVENT
BEGIN:VEVENT
DTSTAMP:20260422T121605Z
UID:a987ff0c-8dfa-4bb6-b19c-b28154df03a8
DTSTART:20260527T084500
DTEND:20260527T104500
DESCRIPTION:
LOCATION:
SUMMARY:CES Student State Assessment: 3rd grade Math
END:VEVENT
BEGIN:VEVENT
DTSTAMP:20260422T121605Z
UID:41e154d2-1e64-412f-a644-8dfdd72b20e2
DTSTART:20260527T180000
DTEND:20260527T191500
DESCRIPTION:<a href="https://www.google.com/url?q=https://docs.google.com/d
 ocument/d/18Q7g53EUAiKbkTIx76JemUKTJ8wZxvusWuF0NZ9vkU0/edit?usp%3Dsharing&
 amp\;sa=D&amp\;source=calendar&amp\;ust=1758578770435312&amp\;usg=AOvVaw1E
 _sn3iDZT0mplvErlrWzU" target="_blank">DELAC Meetings &amp\; Topics 2025-26
 </a>
LOCATION:
SUMMARY:DELAC Meeting- Zoom
END:VEVENT
BEGIN:VEVENT
DTSTAMP:20260422T121605Z
UID:d85a435f-0aa0-43b2-90b2-ba136b9a252e
DTSTART:20260527T180000
DTEND:20260527T191500
DESCRIPTION:<a href="https://www.google.com/url?q=https://docs.google.com/d
 ocument/d/18Q7g53EUAiKbkTIx76JemUKTJ8wZxvusWuF0NZ9vkU0/edit?usp%3Dsharing&
 amp\;sa=D&amp\;source=calendar&amp\;ust=1757982965706164&amp\;usg=AOvVaw1E
 M4eulSNXBmpzbR-kypZ_" target="_blank">DELAC Meetings &amp\; Topics 2025-26
 </a>
LOCATION:
SUMMARY:DELAC Meeting- Zoom
END:VEVENT
BEGIN:VEVENT
DTSTAMP:20260422T121605Z
UID:3c441418-2367-414e-8259-8a4d32bb05b8
DTSTART:20260528T084500
DTEND:20260528T104500
DESCRIPTION:
LOCATION:
SUMMARY:CES Student State Assessment: 3rd grade Math
END:VEVENT
BEGIN:VEVENT
DTSTAMP:20260422T121605Z
UID:4c47bdbe-0efa-4375-9f7a-99c46e5553d2
DTSTART:20260529T084500
DTEND:20260529T104500
DESCRIPTION:
LOCATION:
SUMMARY:CES Student State Assessment: 3rd grade Math
END:VEVENT
BEGIN:VEVENT
DTSTAMP:20260422T121605Z
UID:a9b5ee77-1c1d-4fe0-aa86-44ea5ea26300
DTSTART:20260608T180000
DTEND:20260608T200000
DESCRIPTION:
LOCATION:Calistoga Junior-Senior High School\, Multi Purpose Room - 1608 la
 ke st\, Calistoga\, California 94515
SUMMARY:CJUSD Board Meeting
END:VEVENT
BEGIN:VEVENT
DTSTAMP:20260422T121605Z
UID:4ffa680c-3f98-4511-8c23-bd389b22bc14
DTSTART:20260622T180000
DTEND:20260622T200000
DESCRIPTION:
LOCATION:Calistoga Junior-Senior High School\, Multi Purpose Room - 1608 la
 ke st\, Calistoga\, California 94515
SUMMARY:CJUSD Board Meeting
END:VEVENT
BEGIN:VEVENT
DTSTAMP:20260422T121605Z
UID:3f99c389-1d4d-471f-96b6-5744f896de47
DTSTART:20260914T180000
DTEND:20260914T200000
DESCRIPTION:
LOCATION:Calistoga Junior-Senior High School\, Multi Purpose Room - 1608 la
 ke st\, Calistoga\, California 94515
SUMMARY:CJUSD Board Meeting
END:VEVENT
BEGIN:VEVENT
DTSTAMP:20260422T121605Z
UID:81bc2c69-678b-437a-820b-fe8570a71248
DTSTART:20261012T180000
DTEND:20261012T200000
DESCRIPTION:
LOCATION:Calistoga Junior-Senior High School\, Multi Purpose Room - 1608 la
 ke st\, Calistoga\, California 94515
SUMMARY:CJUSD Board Meeting
END:VEVENT
BEGIN:VEVENT
DTSTAMP:20260422T121605Z
UID:1136abd2-a28d-4a20-8836-bbaea201275f
DTSTART:20261109T180000
DTEND:20261109T200000
DESCRIPTION:
LOCATION:Calistoga Junior-Senior High School\, Multi Purpose Room - 1608 la
 ke st\, Calistoga\, California 94515
SUMMARY:CJUSD Board Meeting
END:VEVENT
BEGIN:VEVENT
DTSTAMP:20260422T121605Z
UID:a2a3dd53-58a4-434b-9b9e-27c65e64145a
DTSTART:20261214T180000
DTEND:20261214T200000
DESCRIPTION:
LOCATION:Calistoga Junior-Senior High School\, Multi Purpose Room - 1608 la
 ke st\, Calistoga\, California 94515
SUMMARY:CJUSD Board Meeting
END:VEVENT
END:VCALENDAR
