BEGIN:VCALENDAR
VERSION:2.0
PRODID:icalendar-ruby
CALSCALE:GREGORIAN
BEGIN:VTIMEZONE
TZID:America/Chicago
BEGIN:DAYLIGHT
DTSTART:20260308T030000
TZOFFSETFROM:-0600
TZOFFSETTO:-0500
RRULE:FREQ=YEARLY;BYDAY=2SU;BYMONTH=3
TZNAME:CDT
END:DAYLIGHT
BEGIN:STANDARD
DTSTART:20261101T010000
TZOFFSETFROM:-0500
TZOFFSETTO:-0600
RRULE:FREQ=YEARLY;BYDAY=1SU;BYMONTH=11
TZNAME:CST
END:STANDARD
END:VTIMEZONE
BEGIN:VEVENT
DTSTAMP:20260422T202841Z
UID:13162ced-7eae-4935-a4da-0fd226f9a825
DTSTART:20260423T190000
DTEND:20260423T210000
DESCRIPTION:
LOCATION:
SUMMARY:Choir Pop Show Performance
END:VEVENT
BEGIN:VEVENT
DTSTAMP:20260422T202841Z
UID:9e1ce5a7-e7c4-417e-af5c-4fdcd943d5ba
DTSTART:20260424T190000
DTEND:20260424T210000
DESCRIPTION:
LOCATION:
SUMMARY:Choir Pop Show  Performance
END:VEVENT
BEGIN:VEVENT
DTSTAMP:20260422T202841Z
UID:8dbf8444-ab01-4443-a8bc-6d18e09ffcf6
DTSTART:20260425T090000
DTEND:20260425T130000
DESCRIPTION:
LOCATION:
SUMMARY:LHS Solo and Ensemble
END:VEVENT
BEGIN:VEVENT
DTSTAMP:20260422T202841Z
UID:a6a71eee-28ea-4e74-9841-1aef199a7933
DTSTART:20260428T183000
DTEND:20260428T203000
DESCRIPTION:
LOCATION:Lovejoy High School-1-LHS-Campus Staff Calendar (83)
SUMMARY: LHS Orchestra Spring Concert
END:VEVENT
BEGIN:VEVENT
DTSTAMP:20260422T202841Z
UID:2edd182f-e1e9-4f9e-a2bb-09a52d5bf2c4
DTSTART:20260430T180000
DTEND:20260430T203000
DESCRIPTION:
LOCATION:
SUMMARY:SCIS/WSMS/LHS Band Concert
END:VEVENT
BEGIN:VEVENT
DTSTAMP:20260422T202841Z
UID:9fcf2fe5-4aeb-4fec-b4ae-80d8bb89a35b
DTSTART:20260507T190000
DTEND:20260507T200000
DESCRIPTION:
LOCATION:
SUMMARY:HS Choir Pop Show Performance
END:VEVENT
BEGIN:VEVENT
DTSTAMP:20260422T202841Z
UID:b21b91b8-636c-4d9a-90e3-a5b93fca6631
DTSTART:20260515T190000
DTEND:20260515T200000
DESCRIPTION:
LOCATION:
SUMMARY:HS Choir Pop Show Performance
END:VEVENT
END:VCALENDAR
