BEGIN:VCALENDAR
VERSION:2.0
PRODID:icalendar-ruby
CALSCALE:GREGORIAN
BEGIN:VTIMEZONE
TZID:America/New_York
BEGIN:DAYLIGHT
DTSTART:20260308T030000
TZOFFSETFROM:-0500
TZOFFSETTO:-0400
RRULE:FREQ=YEARLY;BYDAY=2SU;BYMONTH=3
TZNAME:EDT
END:DAYLIGHT
BEGIN:STANDARD
DTSTART:20261101T010000
TZOFFSETFROM:-0400
TZOFFSETTO:-0500
RRULE:FREQ=YEARLY;BYDAY=1SU;BYMONTH=11
TZNAME:EST
END:STANDARD
END:VTIMEZONE
BEGIN:VEVENT
DTSTAMP:20260423T151559Z
UID:4149af86-25f8-4535-a217-0c405a102fde
DTSTART:20260424T100000
DTEND:20260424T110000
DESCRIPTION:
LOCATION:
SUMMARY:Guest speaker
END:VEVENT
BEGIN:VEVENT
DTSTAMP:20260423T151559Z
UID:9f0fe68e-4af5-4f09-8abf-9930bb185196
DTSTART:20260430T153000
DTEND:20260430T170000
DESCRIPTION:Students will ride the bus from the middle school to the high s
 chool at the end of the school day. We will practice in the high school au
 ditorium. Please pick up your child on the side of the building where you 
 enter for concerts.\n
LOCATION:
SUMMARY:6th Grade Afterschool Rehearsal for Spring Concert
END:VEVENT
BEGIN:VEVENT
DTSTAMP:20260423T151559Z
UID:3d89bd01-5941-42be-bf24-8a6db497e3bb
DTSTART:20260501T153000
DTEND:20260501T170000
DESCRIPTION:Students will ride the bus from the middle school to the high s
 chool at the end of the school day. We will practice in the high school au
 ditorium. Please pick up your child on the side of the building where you 
 enter for concerts.\n
LOCATION:
SUMMARY:7th/8th Grade Afterschool Rehearsal for Spring Concert
END:VEVENT
BEGIN:VEVENT
DTSTAMP:20260423T151559Z
UID:1d09b689-6f62-4f04-9f47-857157f30e23
DTSTART:20260503T150000
DTEND:20260503T180000
DESCRIPTION:
LOCATION:
SUMMARY:VMS & VHS Band Concert
END:VEVENT
BEGIN:VEVENT
DTSTAMP:20260423T151559Z
UID:f5af313b-c7b9-4eea-9474-520fb30beb5d
DTSTART:20260510T150000
DTEND:20260510T160000
DESCRIPTION:
LOCATION:
SUMMARY:VHS Choir Concert
END:VEVENT
BEGIN:VEVENT
DTSTAMP:20260423T151559Z
UID:d890051e-04d6-4f8f-9047-217634ab3f54
DTSTART;VALUE=DATE:20260522
DTEND;VALUE=DATE:20260523
DESCRIPTION:
LOCATION:
SUMMARY:VHS Graduation
END:VEVENT
BEGIN:VEVENT
DTSTAMP:20260423T151559Z
UID:fe1559fc-3b80-4e54-ae66-dc127f37ee04
DTSTART:20261005T183000
DTEND:20261005T200000
DESCRIPTION:Executive Board Meeting at 6:00pm\n\nFull Membership Meeting at
  6:30pm\n
LOCATION:
SUMMARY:Band Booster Meeting
END:VEVENT
BEGIN:VEVENT
DTSTAMP:20260423T151559Z
UID:b8901f61-74d9-444d-9778-e43f683c294a
DTSTART:20261203T180000
DTEND:20261203T210000
DESCRIPTION:Call Time:\n\nLine-up: \n\nParade Begins: \n
LOCATION:
SUMMARY:Bristol Christmas Parade
END:VEVENT
BEGIN:VEVENT
DTSTAMP:20260423T151559Z
UID:b2affdef-8ef9-401b-b502-bd1021890b7e
DTSTART:20261205T080000
DTEND:20261205T170000
DESCRIPTION:
LOCATION:
SUMMARY:All District Honor Band Auditions
END:VEVENT
BEGIN:VEVENT
DTSTAMP:20260423T151559Z
UID:77e278cf-cf04-486f-82db-ab8635dee5c8
DTSTART:20261210T153000
DTEND:20261210T170000
DESCRIPTION:
LOCATION:
SUMMARY:6th Grade Concert Rehearsal @ VHS
END:VEVENT
BEGIN:VEVENT
DTSTAMP:20260423T151559Z
UID:879447c3-0c49-42dc-a99e-db94d45f6c08
DTSTART:20261211T153000
DTEND:20261211T170000
DESCRIPTION:
LOCATION:
SUMMARY:7th & 8th Grade Concert Rehearsal @ VHS
END:VEVENT
BEGIN:VEVENT
DTSTAMP:20260423T151559Z
UID:b41b1cb2-467d-4afa-9abc-f462d2a0ee59
DTSTART:20261213T150000
DTEND:20261213T170000
DESCRIPTION:
LOCATION:
SUMMARY:Holiday Concert
END:VEVENT
BEGIN:VEVENT
DTSTAMP:20260423T151559Z
UID:a3e94de9-626c-45a1-8124-cd58c55ca002
DTSTART:20261214T183000
DTEND:20261214T200000
DESCRIPTION:Executive Board Meeting at 6:00pm\n\nFull Membership Meeting at
  6:30pm\n
LOCATION:
SUMMARY:Band Booster Meeting
END:VEVENT
BEGIN:VEVENT
DTSTAMP:20260423T151559Z
UID:64f459d9-5ffb-4c32-84dc-f2a599a77a2c
DTSTART:20270110T080000
DTEND:20270110T170000
DESCRIPTION:
LOCATION:
SUMMARY:Snow Date - All District Honor Band Auditions
END:VEVENT
BEGIN:VEVENT
DTSTAMP:20260423T151559Z
UID:795ced6f-8ba8-4197-9c34-3ba44148fb34
DTSTART:20270111T183000
DTEND:20270111T200000
DESCRIPTION:Executive Board Meeting at 6:00pm\n\nFull Membership Meeting at
  6:30pm\n
LOCATION:
SUMMARY:Band Booster Meeting
END:VEVENT
BEGIN:VEVENT
DTSTAMP:20260423T151559Z
UID:fd1b9a14-838c-4dfc-b913-531e57135226
DTSTART:20270205T090000
DTEND:20270205T180000
DESCRIPTION:
LOCATION:
SUMMARY:All District Honor Band Event
END:VEVENT
BEGIN:VEVENT
DTSTAMP:20260423T151559Z
UID:a8a4a9ee-1a28-4615-95a9-d2dedfb3b722
DTSTART:20270206T090000
DTEND:20270206T180000
DESCRIPTION:
LOCATION:
SUMMARY:All District Honor Band Event
END:VEVENT
END:VCALENDAR
