BEGIN:VCALENDAR
VERSION:2.0
PRODID:icalendar-ruby
CALSCALE:GREGORIAN
BEGIN:VTIMEZONE
TZID:America/New_York
BEGIN:DAYLIGHT
DTSTART:20260308T030000
TZOFFSETFROM:-0500
TZOFFSETTO:-0400
RRULE:FREQ=YEARLY;BYDAY=2SU;BYMONTH=3
TZNAME:EDT
END:DAYLIGHT
BEGIN:STANDARD
DTSTART:20261101T010000
TZOFFSETFROM:-0400
TZOFFSETTO:-0500
RRULE:FREQ=YEARLY;BYDAY=1SU;BYMONTH=11
TZNAME:EST
END:STANDARD
END:VTIMEZONE
BEGIN:VEVENT
DTSTAMP:20260424T020939Z
UID:db449eb0-03c8-4365-b69c-301bc0cc72e2
DTSTART:20260504T180000
DTEND:20260504T200000
DESCRIPTION:
LOCATION:Bristol Virginia Public Schools\, 280 Lee St\, Bristol\, VA 24201\
 , USA
SUMMARY:School Board Meeting 
END:VEVENT
BEGIN:VEVENT
DTSTAMP:20260424T020939Z
UID:0a0d6bf9-cea9-4124-aca6-f7e9b7e0f773
DTSTART;VALUE=DATE:20260525
DTEND;VALUE=DATE:20260526
DESCRIPTION:
LOCATION:
SUMMARY:Memorial Day: School Closed for Students and Staff
END:VEVENT
BEGIN:VEVENT
DTSTAMP:20260424T020939Z
UID:3076190e-47a6-4b62-814e-3368a4967db7
DTSTART;VALUE=DATE:20260526
DTEND;VALUE=DATE:20260528
DESCRIPTION:Virginia High School Students ONLY are dismissed after taking E
 xams.
LOCATION:
SUMMARY:Exams:  Early Dismissal High School Students ONLY
END:VEVENT
BEGIN:VEVENT
DTSTAMP:20260424T020939Z
UID:c5f4664b-af2f-4096-a4cf-02ef07c2188c
DTSTART;VALUE=DATE:20260529
DTEND;VALUE=DATE:20260530
DESCRIPTION:<br><b>Hours for personnel on workdays without students and on 
 staff development days:</b><br>Teachers -- 9:00 am - 3:00 pm<br>School Adm
 inistrators -- 8:00 am - 3:30 pm<br><br><i>Counts as 1 RWD</i>
LOCATION:
SUMMARY:Required Teacher Work Day
END:VEVENT
BEGIN:VEVENT
DTSTAMP:20260424T020939Z
UID:fe272470-8584-4289-abb4-181edbfa0c98
DTSTART;VALUE=DATE:20260601
DTEND;VALUE=DATE:20260603
DESCRIPTION:<b>Teachers must work 3 of the following Flexible Work Days (WD
 ):</b><br>July 30<br>August 4<br>August 5<br>January 5<br>June 1<br>June 2
 <br><b><br>Hours for personnel on workdays without students and on staff d
 evelopment days:</b><br>Teachers -- 9:00 am - 3:00 pm<br>School Administra
 tors -- 8:00 am - 3:30 pm
LOCATION:
SUMMARY:Flexible Teacher Work Day
END:VEVENT
BEGIN:VEVENT
DTSTAMP:20260424T020939Z
UID:af68f56f-653e-44ef-8557-8ef1cea1eb12
DTSTART:20260601T180000
DTEND:20260601T190000
DESCRIPTION:
LOCATION:Bristol Virginia Public Schools\, 280 Lee St\, Bristol\, VA 24201\
 , USA
SUMMARY:School Board Meeting 
END:VEVENT
BEGIN:VEVENT
DTSTAMP:20260424T020939Z
UID:2e453656-3138-455f-b159-6a5b73e6c9df
DTSTART;VALUE=DATE:20260619
DTEND;VALUE=DATE:20260620
DESCRIPTION:
LOCATION:
SUMMARY:Juneteenth:  Schools Closed for Staff
END:VEVENT
BEGIN:VEVENT
DTSTAMP:20260424T020939Z
UID:3b7d1df5-919a-4c72-a351-41bdeb378660
DTSTART;VALUE=DATE:20260706
DTEND;VALUE=DATE:20260707
DESCRIPTION:
LOCATION:
SUMMARY:4th of July Holiday:  Schools Closed for Staff
END:VEVENT
BEGIN:VEVENT
DTSTAMP:20260424T020939Z
UID:bd32df6a-5e6c-4eea-b8cc-6e754a9720ae
DTSTART:20260713T180000
DTEND:20260713T190000
DESCRIPTION:
LOCATION:Bristol Virginia Public Schools\, 280 Lee St\, Bristol\, VA 24201\
 , USA
SUMMARY:School Board Meeting 
END:VEVENT
END:VCALENDAR
