BEGIN:VCALENDAR
VERSION:2.0
PRODID:icalendar-ruby
CALSCALE:GREGORIAN
BEGIN:VTIMEZONE
TZID:America/New_York
BEGIN:DAYLIGHT
DTSTART:20260308T030000
TZOFFSETFROM:-0500
TZOFFSETTO:-0400
RRULE:FREQ=YEARLY;BYDAY=2SU;BYMONTH=3
TZNAME:EDT
END:DAYLIGHT
BEGIN:STANDARD
DTSTART:20261101T010000
TZOFFSETFROM:-0400
TZOFFSETTO:-0500
RRULE:FREQ=YEARLY;BYDAY=1SU;BYMONTH=11
TZNAME:EST
END:STANDARD
END:VTIMEZONE
BEGIN:VEVENT
DTSTAMP:20260425T104426Z
UID:865deabe-ddcd-44c8-b60f-d02ba773cee2
DTSTART:20260427T153000
DTEND:20260427T180000
DESCRIPTION:
LOCATION:
SUMMARY:STLP- VILS  Lab
END:VEVENT
BEGIN:VEVENT
DTSTAMP:20260425T104426Z
UID:285ffbfa-9080-480b-8d8c-59e2ff037793
DTSTART:20260428T163000
DTEND:20260428T180000
DESCRIPTION:
LOCATION:
SUMMARY:Girls on the Run 5K Practice
END:VEVENT
BEGIN:VEVENT
DTSTAMP:20260425T104426Z
UID:d661daf2-66cd-4a9a-92fe-e1976df2d940
DTSTART:20260430T180000
DTEND:20260430T200000
DESCRIPTION:
LOCATION:
SUMMARY:7th/8th grade music concert
END:VEVENT
BEGIN:VEVENT
DTSTAMP:20260425T104426Z
UID:6604c108-c4bd-42ae-b9be-d86f8edba687
DTSTART:20260504T153000
DTEND:20260504T180000
DESCRIPTION:
LOCATION:
SUMMARY:STLP- VILS  Lab
END:VEVENT
BEGIN:VEVENT
DTSTAMP:20260425T104426Z
UID:04122700-9bcd-406e-9cf8-ba80ed81fe1b
DTSTART:20260511T153000
DTEND:20260511T180000
DESCRIPTION:
LOCATION:
SUMMARY:STLP- VILS  Lab
END:VEVENT
BEGIN:VEVENT
DTSTAMP:20260425T104426Z
UID:e33061b8-c44f-41a3-ae37-2abc1399d60f
DTSTART:20260512T180000
DTEND:20260512T200000
DESCRIPTION:
LOCATION:
SUMMARY:Men of Quality Banquet
END:VEVENT
END:VCALENDAR
