BEGIN:VCALENDAR
VERSION:2.0
PRODID:icalendar-ruby
CALSCALE:GREGORIAN
BEGIN:VTIMEZONE
TZID:America/Chicago
BEGIN:DAYLIGHT
DTSTART:20260308T030000
TZOFFSETFROM:-0600
TZOFFSETTO:-0500
RRULE:FREQ=YEARLY;BYDAY=2SU;BYMONTH=3
TZNAME:CDT
END:DAYLIGHT
BEGIN:STANDARD
DTSTART:20261101T010000
TZOFFSETFROM:-0500
TZOFFSETTO:-0600
RRULE:FREQ=YEARLY;BYDAY=1SU;BYMONTH=11
TZNAME:CST
END:STANDARD
END:VTIMEZONE
BEGIN:VEVENT
DTSTAMP:20260423T164442Z
UID:02a0ec10-d01a-4fd1-9526-49d9ef54eaa2
DTSTART:20260423T153000
DTEND:20260423T170000
DESCRIPTION:<p>Cost: $15</p><p><a target="_blank" rel="noopener noreferrer 
 nofollow" href="https://aliefisd-my.sharepoint.com/personal/jessie_james_a
 liefisd_net/Documents/Apps/Microsoft%20Forms/Special%20Showcases%20and%20P
 erformance%20Announcement%20(2)/Upload%20event%20flyer%20here%20if%20there
 %20is%20one/Taylor%20Show%20Flier%202026_Nadia%20Dosal.png" relative-link=
 "">Event Flyer</a></p><p>Contact: <a target="_blank" rel="noopener norefer
 rer nofollow" href="mailto:Nadia.Dosal@aliefisd.net" relative-link="">Nadi
 a Dosal</a></p>
LOCATION:7555 Howell Sugarland Rd\, Houston\, TX 77083\, USA
SUMMARY:Taylor HS Spring Dance Show
END:VEVENT
BEGIN:VEVENT
DTSTAMP:20260423T164442Z
UID:4d53f366-2ec4-4e39-9758-145b77722663
DTSTART;VALUE=DATE:20260424
DTEND;VALUE=DATE:20260426
DESCRIPTION:
LOCATION:San Marcos\, TX\, USA
SUMMARY:High School Art - State Visual Arts Scholastic Event
END:VEVENT
BEGIN:VEVENT
DTSTAMP:20260423T164442Z
UID:85e23def-8ad9-4609-9177-35c7076cfc42
DTSTART:20260424T160000
DTEND:20260424T200000
DESCRIPTION:Host: Morgan Milner
LOCATION:O'Donnell MS
SUMMARY:MS Orchestra Solo-Ensemble
END:VEVENT
BEGIN:VEVENT
DTSTAMP:20260423T164442Z
UID:9046af37-cf9f-4428-ace4-2dade760c0c4
DTSTART:20260424T190000
DTEND:20260424T204500
DESCRIPTION:<p>Cost: $15</p><p>Contact: <a target="_blank" rel="noopener no
 referrer nofollow" href="mailto:Nadia.Dosal@aliefisd.net" relative-link=""
 >Nadia Dosal</a></p><p>Event Flyer: <a target="_blank" rel="noopener noref
 errer nofollow" href="https://aliefisd-my.sharepoint.com/personal/jessie_j
 ames_aliefisd_net/Documents/Apps/Microsoft%20Forms/Special%20Showcases%20a
 nd%20Performance%20Announcement%20(2)/Upload%20event%20flyer%20here%20if%2
 0there%20is%20one/Taylor%20Show%20Flier%202026_Nadia%20Dosal.png" relative
 -link="">Event Flyer</a></p>
LOCATION:7555 Howell Sugarland Rd\, Houston\, TX 77083\, USA
SUMMARY:Taylor HS Spring Dance Show
END:VEVENT
BEGIN:VEVENT
DTSTAMP:20260423T164442Z
UID:875cb44c-2bb6-407e-a7bf-3b4db8fbe026
DTSTART:20260425T090000
DTEND:20260425T120000
DESCRIPTION:Host: Morgan Milner
LOCATION:O'Donnell MS
SUMMARY:MS Orchestra Solo-Ensemble
END:VEVENT
BEGIN:VEVENT
DTSTAMP:20260423T164442Z
UID:e8de67b1-2375-4227-9b66-c0e936d12f95
DTSTART:20260430T090000
DTEND:20260430T130000
DESCRIPTION:<p>Point of Contact: <a target="_blank" rel="noopener noreferre
 r nofollow" href="mailto:Yolanda.Sanders@aliefisd.net">Yolanda Sanders</a>
 </p><p></p>
LOCATION:Kerr HS
SUMMARY:6th Grade Choir Festival
END:VEVENT
BEGIN:VEVENT
DTSTAMP:20260423T164442Z
UID:b55a3714-e4c6-4408-a88d-953707a3adc8
DTSTART:20260501T090000
DTEND:20260501T150000
DESCRIPTION:
LOCATION:8150 Howell Sugarland Rd\, Houston\, TX 77083\, USA
SUMMARY:District Beginner Band Festival
END:VEVENT
BEGIN:VEVENT
DTSTAMP:20260423T164442Z
UID:7aa6bf9a-d5a1-4c42-9826-7c77c548bae7
DTSTART:20260507T090000
DTEND:20260507T110000
DESCRIPTION:Point of Contact: Anasheh Oloko | Host: District dance teams
LOCATION:Taylor HS
SUMMARY:Spring District Dance Masterclass Day
END:VEVENT
BEGIN:VEVENT
DTSTAMP:20260423T164442Z
UID:5c626664-bcbc-473d-bae0-dd9d0b20c2e4
DTSTART:20260507T173000
DTEND:20260507T174500
DESCRIPTION:<p>cost: Free</p><p>Contact: <a target="_blank" rel="noopener n
 oreferrer nofollow" href="mailto:Erica.Behmer@aliefisd.net">Erica Behmer</
 a></p><p>Student Call: 5:00 pm</p>
LOCATION:12131 High Star Dr\, Houston\, TX 77072\, USA
SUMMARY:Youens Spring Concert
END:VEVENT
BEGIN:VEVENT
DTSTAMP:20260423T164442Z
UID:7633a715-852e-4e81-9367-35a03b28e821
DTSTART:20260509T090000
DTEND:20260509T160000
DESCRIPTION:Point of Contact: Kimberly Masters | Host: Taylor HS Band
LOCATION:Taylor HS
SUMMARY:MS Band Solo-Ensemble
END:VEVENT
BEGIN:VEVENT
DTSTAMP:20260423T164442Z
UID:7a97a5d1-2276-40ac-90fc-608debc5cd16
DTSTART:20260513T090000
DTEND:20260513T160000
DESCRIPTION:
LOCATION:8150 Howell Sugarland Rd\, Houston\, TX 77083\, USA
SUMMARY:Beginner Band Festival
END:VEVENT
BEGIN:VEVENT
DTSTAMP:20260423T164442Z
UID:9df7dd0d-e694-42e0-8741-f08fb1cbd7e6
DTSTART:20260513T183000
DTEND:20260513T193000
DESCRIPTION:<p>Student Call 5:30 pm</p><p>Cost: FREE</p><p>Contact: <a targ
 et="_blank" rel="noopener noreferrer nofollow" href="mailto:Cairee.Mayfiel
 d@aliefisd.net">Cairee Mayfield</a></p>
LOCATION:7555 Howell Sugarland Rd\, Houston\, TX 77083\, USA
SUMMARY:Taylor Choir Pop Show
END:VEVENT
BEGIN:VEVENT
DTSTAMP:20260423T164442Z
UID:a98c29dd-1cc5-430e-8d40-a90059972a89
DTSTART:20260514T150000
DTEND:20260514T200000
DESCRIPTION:<p>Contact: <a target="_blank" rel="noopener noreferrer nofollo
 w" href="mailto:sarah.nagy@aliefisd.net" relative-link="">Sarah Nagy</a></
 p>
LOCATION:7555 Howell Sugarland Rd\, Houston\, TX 77083\, USA
SUMMARY:Beginner Orchestra Festival
END:VEVENT
BEGIN:VEVENT
DTSTAMP:20260423T164442Z
UID:73c05dfa-745e-4afa-8167-686171f05da7
DTSTART:20260518T170000
DTEND:20260518T190000
DESCRIPTION:
LOCATION:TBD
SUMMARY:Winner' s Circle
END:VEVENT
BEGIN:VEVENT
DTSTAMP:20260423T164442Z
UID:c17b2ac7-beed-4754-98e6-3ce79a34d11b
DTSTART;VALUE=DATE:20260520
DTEND;VALUE=DATE:20260521
DESCRIPTION:<p>Contact: <a target="_blank" rel="noopener noreferrer nofollo
 w" href="mailto:Amanda.Tabor@aliefisd.net">Amanda Tabor</a></p>
LOCATION:Vurtual
SUMMARY:Elementary Music Music Olympics (AMMO)
END:VEVENT
BEGIN:VEVENT
DTSTAMP:20260423T164442Z
UID:fd08decd-01b4-47d9-80bc-b1f4dee04140
DTSTART:20260520T183000
DTEND:20260520T193000
DESCRIPTION:Jonathan McTier
LOCATION:Hastings
SUMMARY:Hastings Choir Spring Concert
END:VEVENT
BEGIN:VEVENT
DTSTAMP:20260423T164442Z
UID:4f815b45-8598-4241-84d3-34f68a7a24ab
DTSTART;VALUE=DATE:20260529
DTEND;VALUE=DATE:20260901
DESCRIPTION:
LOCATION:4250 Cook Rd\, Houston\, TX 77072\, USA
SUMMARY:HS Art Summer Show
END:VEVENT
BEGIN:VEVENT
DTSTAMP:20260423T164442Z
UID:64bf7c87-cf7d-49e0-8630-319232d63f79
DTSTART:20260602T090000
DTEND:20260605T090000
DESCRIPTION:<p>Contact: <a target="_blank" rel="noopener noreferrer nofollo
 w" href="mailto:Steve.Vazquez@aliefisd.net">Steve.Vazquez@aliefisd.net</a>
 </p>
LOCATION:12601 High Star Dr\, Houston\, TX 77072\, USA
SUMMARY:Middle School Orchestra Summer Camp
END:VEVENT
END:VCALENDAR
