BEGIN:VCALENDAR
VERSION:2.0
PRODID:icalendar-ruby
CALSCALE:GREGORIAN
BEGIN:VTIMEZONE
TZID:America/New_York
BEGIN:DAYLIGHT
DTSTART:20260308T030000
TZOFFSETFROM:-0500
TZOFFSETTO:-0400
RRULE:FREQ=YEARLY;BYDAY=2SU;BYMONTH=3
TZNAME:EDT
END:DAYLIGHT
BEGIN:STANDARD
DTSTART:20261101T010000
TZOFFSETFROM:-0400
TZOFFSETTO:-0500
RRULE:FREQ=YEARLY;BYDAY=1SU;BYMONTH=11
TZNAME:EST
END:STANDARD
END:VTIMEZONE
BEGIN:VEVENT
DTSTAMP:20260422T195017Z
UID:795cc4b8-bac9-4cd2-a89f-b17d782ec8a5
DTSTART:20260422T183000
DTEND:20260422T203000
DESCRIPTION:
LOCATION:
SUMMARY:Dance Troupe presents "The Addams Family Musical"
END:VEVENT
BEGIN:VEVENT
DTSTAMP:20260422T195017Z
UID:4437e645-b100-4ea4-bdde-efa0a0a54fbb
DTSTART:20260423T183000
DTEND:20260423T203000
DESCRIPTION:
LOCATION:
SUMMARY:Dance Troupe presents "The Addams Family Musical"
END:VEVENT
BEGIN:VEVENT
DTSTAMP:20260422T195017Z
UID:9da57bfe-c910-4750-8b09-191baeed3e07
DTSTART:20260430T100000
DTEND:20260430T133000
DESCRIPTION:
LOCATION:
SUMMARY:Parent University Presents: The Birds & The Bees
END:VEVENT
BEGIN:VEVENT
DTSTAMP:20260422T195017Z
UID:56771aa8-b269-4a1c-8f2e-0c51d1bcb77c
DTSTART:20260430T140000
DTEND:20260430T153000
DESCRIPTION:<a href="https://www.fsdbk12.org/article/2742710">Click here to
  read the announcement.</a>
LOCATION:
SUMMARY:Blind Elementary Theatre presents "Madagascar KIDS"
END:VEVENT
BEGIN:VEVENT
DTSTAMP:20260422T195017Z
UID:bb0ab323-b880-44c7-8995-674edbcc16e5
DTSTART:20260430T190000
DTEND:20260430T220000
DESCRIPTION:
LOCATION:
SUMMARY:Blind High School Prom
END:VEVENT
BEGIN:VEVENT
DTSTAMP:20260422T195017Z
UID:9ad9265c-6e83-4d5d-bb3f-cefe58951dd3
DTSTART:20260430T190000
DTEND:20260430T220000
DESCRIPTION:
LOCATION:
SUMMARY:Deaf High School Prom
END:VEVENT
BEGIN:VEVENT
DTSTAMP:20260422T195017Z
UID:3f091e72-785b-4a98-8aa4-3f98f8192ae9
DTSTART:20260501T090000
DTEND:20260501T133000
DESCRIPTION:
LOCATION:
SUMMARY:Parent Engagement Workshop
END:VEVENT
BEGIN:VEVENT
DTSTAMP:20260422T195017Z
UID:5bf2c44f-d355-48b6-9fc4-ec1bb64f2694
DTSTART;VALUE=DATE:20260508
DTEND;VALUE=DATE:20260509
DESCRIPTION:
LOCATION:
SUMMARY:Students Leave for Long Weekend
END:VEVENT
BEGIN:VEVENT
DTSTAMP:20260422T195017Z
UID:5b609a99-f3b1-47aa-94f0-058cd9378994
DTSTART;VALUE=DATE:20260511
DTEND;VALUE=DATE:20260512
DESCRIPTION:
LOCATION:
SUMMARY:Boarding Students Return
END:VEVENT
BEGIN:VEVENT
DTSTAMP:20260422T195017Z
UID:6830f409-da65-4bee-9530-1a9b37e791ae
DTSTART;VALUE=DATE:20260512
DTEND;VALUE=DATE:20260513
DESCRIPTION:
LOCATION:
SUMMARY:Classes Resume
END:VEVENT
BEGIN:VEVENT
DTSTAMP:20260422T195017Z
UID:e1669815-0f38-4f8c-a2ce-63e40e1a5583
DTSTART:20260514T183000
DTEND:20260514T203000
DESCRIPTION:
LOCATION:
SUMMARY:FSDB Athletic Awards
END:VEVENT
BEGIN:VEVENT
DTSTAMP:20260422T195017Z
UID:e36f89ed-6af9-45fb-8e80-96df599319df
DTSTART:20260521T083000
DTEND:20260521T103000
DESCRIPTION:
LOCATION:
SUMMARY:Board of Trustees Meeting
END:VEVENT
BEGIN:VEVENT
DTSTAMP:20260422T195017Z
UID:c3620bf5-5da1-4d7c-af52-cc22dc6fdbae
DTSTART:20260521T120000
DTEND:20260521T140000
DESCRIPTION:
LOCATION:
SUMMARY:Blind High School Graduation
END:VEVENT
BEGIN:VEVENT
DTSTAMP:20260422T195017Z
UID:807303a2-2529-4457-b3ba-c8ded7f5eee2
DTSTART:20260521T183000
DTEND:20260521T213000
DESCRIPTION:
LOCATION:
SUMMARY:Dance Troupe Final Performance
END:VEVENT
BEGIN:VEVENT
DTSTAMP:20260422T195017Z
UID:68eebcc5-8310-48a1-b271-a74d754bbf09
DTSTART;VALUE=DATE:20260522
DTEND;VALUE=DATE:20260523
DESCRIPTION:
LOCATION:
SUMMARY:Students Leave for Long Weekend
END:VEVENT
BEGIN:VEVENT
DTSTAMP:20260422T195017Z
UID:60383f75-4bf6-407d-b702-00cfa2680e93
DTSTART:20260522T113000
DTEND:20260522T133000
DESCRIPTION:
LOCATION:
SUMMARY:Deaf High School Graduation
END:VEVENT
BEGIN:VEVENT
DTSTAMP:20260422T195017Z
UID:274a761f-c059-48b1-8e3f-ddbcbc651701
DTSTART;VALUE=DATE:20260525
DTEND;VALUE=DATE:20260526
DESCRIPTION:
LOCATION:
SUMMARY:Boarding Students Return
END:VEVENT
BEGIN:VEVENT
DTSTAMP:20260422T195017Z
UID:241dc6f0-555b-4a40-a9a5-59fd40115a34
DTSTART;VALUE=DATE:20260525
DTEND;VALUE=DATE:20260526
DESCRIPTION:
LOCATION:
SUMMARY:Memorial Day (No Classes)
END:VEVENT
BEGIN:VEVENT
DTSTAMP:20260422T195017Z
UID:dcfcd183-7342-4caa-aef2-fa7850f5390a
DTSTART;VALUE=DATE:20260526
DTEND;VALUE=DATE:20260527
DESCRIPTION:
LOCATION:
SUMMARY:Classes Resume
END:VEVENT
BEGIN:VEVENT
DTSTAMP:20260422T195017Z
UID:1e1028ff-147a-40f4-8ae7-80faf1c459b6
DTSTART;VALUE=DATE:20260529
DTEND;VALUE=DATE:20260530
DESCRIPTION:
LOCATION:
SUMMARY:End of 4th Quarter / End of 2nd Semester
END:VEVENT
BEGIN:VEVENT
DTSTAMP:20260422T195017Z
UID:c47ab46f-0d81-4b7f-953a-b9afcc140208
DTSTART;VALUE=DATE:20260529
DTEND;VALUE=DATE:20260530
DESCRIPTION:
LOCATION:
SUMMARY:Last Day of School
END:VEVENT
BEGIN:VEVENT
DTSTAMP:20260422T195017Z
UID:1243f5fe-7d15-4946-bf72-5b0ce843cae1
DTSTART;VALUE=DATE:20260608
DTEND;VALUE=DATE:20260609
DESCRIPTION:
LOCATION:
SUMMARY:Start of Summer Term
END:VEVENT
BEGIN:VEVENT
DTSTAMP:20260422T195017Z
UID:3a2a94cb-2472-46b1-a43d-748ae9868759
DTSTART;VALUE=DATE:20260626
DTEND;VALUE=DATE:20260627
DESCRIPTION:
LOCATION:
SUMMARY:End of Summer Term
END:VEVENT
BEGIN:VEVENT
DTSTAMP:20260422T195017Z
UID:93365ae4-edf7-437b-b3e6-3308f49509ca
DTSTART;VALUE=DATE:20260803
DTEND;VALUE=DATE:20260804
DESCRIPTION:
LOCATION:
SUMMARY:Teachers Return
END:VEVENT
BEGIN:VEVENT
DTSTAMP:20260422T195017Z
UID:fbc831ed-0206-4d4e-8cfb-46b87c8ec867
DTSTART;VALUE=DATE:20260809
DTEND;VALUE=DATE:20260810
DESCRIPTION:
LOCATION:
SUMMARY:Boarding Students Return
END:VEVENT
BEGIN:VEVENT
DTSTAMP:20260422T195017Z
UID:ee81d59f-14f2-4972-82fd-377752b3e332
DTSTART;VALUE=DATE:20260809
DTEND;VALUE=DATE:20260810
DESCRIPTION:
LOCATION:
SUMMARY:Family Open House
END:VEVENT
BEGIN:VEVENT
DTSTAMP:20260422T195017Z
UID:870d19e2-175b-487d-a2d8-eee125d8d304
DTSTART;VALUE=DATE:20260810
DTEND;VALUE=DATE:20260811
DESCRIPTION:
LOCATION:
SUMMARY:Students Report to Class
END:VEVENT
BEGIN:VEVENT
DTSTAMP:20260422T195017Z
UID:31450974-95d4-4edd-af1d-93222e4bd548
DTSTART;VALUE=DATE:20260904
DTEND;VALUE=DATE:20260905
DESCRIPTION:
LOCATION:
SUMMARY:Students Leave for Long Weekend
END:VEVENT
BEGIN:VEVENT
DTSTAMP:20260422T195017Z
UID:c6aa75a9-cc33-43d8-9f0e-4c68a4b60023
DTSTART;VALUE=DATE:20260907
DTEND;VALUE=DATE:20260908
DESCRIPTION:
LOCATION:
SUMMARY:Labor Day (No Classes) / Boarding Students Return
END:VEVENT
BEGIN:VEVENT
DTSTAMP:20260422T195017Z
UID:fee8dc0e-f5f6-463d-befa-06047138e96b
DTSTART;VALUE=DATE:20260908
DTEND;VALUE=DATE:20260909
DESCRIPTION:
LOCATION:
SUMMARY:Classes Resume
END:VEVENT
BEGIN:VEVENT
DTSTAMP:20260422T195017Z
UID:cbe09971-0064-49ef-9309-f1734f50803b
DTSTART;VALUE=DATE:20261009
DTEND;VALUE=DATE:20261010
DESCRIPTION:
LOCATION:
SUMMARY:Students Leave for Long Weekend / End of 1st Quarter
END:VEVENT
BEGIN:VEVENT
DTSTAMP:20260422T195017Z
UID:19f9e3ac-7d23-40b8-821b-b4eb3277f38f
DTSTART;VALUE=DATE:20261012
DTEND;VALUE=DATE:20261013
DESCRIPTION:
LOCATION:
SUMMARY:Boarding Students Return (No Classes)
END:VEVENT
BEGIN:VEVENT
DTSTAMP:20260422T195017Z
UID:bc9cd39e-d433-4cce-9b76-8ecd35beb96d
DTSTART;VALUE=DATE:20261013
DTEND;VALUE=DATE:20261014
DESCRIPTION:
LOCATION:
SUMMARY:Classes Resume
END:VEVENT
BEGIN:VEVENT
DTSTAMP:20260422T195017Z
UID:6cfb1fb3-4b4c-46f6-8b2a-86b518ed17d9
DTSTART;VALUE=DATE:20261111
DTEND;VALUE=DATE:20261112
DESCRIPTION:
LOCATION:
SUMMARY:Veteran's Day (Classes in Session)
END:VEVENT
BEGIN:VEVENT
DTSTAMP:20260422T195017Z
UID:7d20b0bf-1e36-4607-a1e8-fe292f19cd2f
DTSTART;VALUE=DATE:20261120
DTEND;VALUE=DATE:20261121
DESCRIPTION:
LOCATION:
SUMMARY:Students Leave for Thanksgiving Break
END:VEVENT
BEGIN:VEVENT
DTSTAMP:20260422T195017Z
UID:a190f948-09e0-454a-b5dc-23227c8bba0c
DTSTART;VALUE=DATE:20261123
DTEND;VALUE=DATE:20261128
DESCRIPTION:
LOCATION:
SUMMARY: Thanksgiving Break
END:VEVENT
BEGIN:VEVENT
DTSTAMP:20260422T195017Z
UID:d9483b3f-bc12-46b3-9dcc-82ec7934849d
DTSTART;VALUE=DATE:20261129
DTEND;VALUE=DATE:20261130
DESCRIPTION:
LOCATION:
SUMMARY:Boarding Students Return
END:VEVENT
BEGIN:VEVENT
DTSTAMP:20260422T195017Z
UID:e7bc1538-9759-498d-be46-9f7fd8f7ec3a
DTSTART;VALUE=DATE:20261130
DTEND;VALUE=DATE:20261201
DESCRIPTION:
LOCATION:
SUMMARY:Classes Resume
END:VEVENT
BEGIN:VEVENT
DTSTAMP:20260422T195017Z
UID:584d1d50-8ff6-48bf-91ff-01ef73a2e83e
DTSTART;VALUE=DATE:20261218
DTEND;VALUE=DATE:20261219
DESCRIPTION:
LOCATION:
SUMMARY:Students Leave for Winter Break / End of 2nd Quarter / End of 1st S
 emester
END:VEVENT
BEGIN:VEVENT
DTSTAMP:20260422T195017Z
UID:68af3d5f-d05e-42f4-b89f-bf2b4e3147e7
DTSTART;VALUE=DATE:20261221
DTEND;VALUE=DATE:20270102
DESCRIPTION:
LOCATION:
SUMMARY:Winter Break
END:VEVENT
BEGIN:VEVENT
DTSTAMP:20260422T195017Z
UID:fc45983b-be0e-43e4-a423-30d4bfa0749c
DTSTART;VALUE=DATE:20270104
DTEND;VALUE=DATE:20270105
DESCRIPTION:
LOCATION:
SUMMARY:Boarding Students Return (No Classes)
END:VEVENT
BEGIN:VEVENT
DTSTAMP:20260422T195017Z
UID:1493ba9a-36b5-436c-96f0-225f30e35db6
DTSTART;VALUE=DATE:20270105
DTEND;VALUE=DATE:20270106
DESCRIPTION:
LOCATION:
SUMMARY:Classes Resume
END:VEVENT
BEGIN:VEVENT
DTSTAMP:20260422T195017Z
UID:c7d2e040-e0ab-41f4-aad1-9dbf48c9351c
DTSTART;VALUE=DATE:20270115
DTEND;VALUE=DATE:20270116
DESCRIPTION:
LOCATION:
SUMMARY:Students Leave for Long Weekend
END:VEVENT
BEGIN:VEVENT
DTSTAMP:20260422T195017Z
UID:cd94149d-ea88-4edc-9276-3841e3fa6fed
DTSTART;VALUE=DATE:20270118
DTEND;VALUE=DATE:20270119
DESCRIPTION:
LOCATION:
SUMMARY:Martin Luther King Jr. Day / Boarding Students Return (No Classes)
END:VEVENT
BEGIN:VEVENT
DTSTAMP:20260422T195017Z
UID:83f75a78-cf5f-4465-8e9b-cc2be503788f
DTSTART;VALUE=DATE:20270119
DTEND;VALUE=DATE:20270120
DESCRIPTION:
LOCATION:
SUMMARY:Classes Resume
END:VEVENT
BEGIN:VEVENT
DTSTAMP:20260422T195017Z
UID:6c090fba-2103-4370-97df-52affa01432e
DTSTART;VALUE=DATE:20270211
DTEND;VALUE=DATE:20270212
DESCRIPTION:
LOCATION:
SUMMARY:Students Leave for Long Weekend
END:VEVENT
BEGIN:VEVENT
DTSTAMP:20260422T195017Z
UID:3c01fb0c-2a85-4cb9-9012-0c17a4767ce3
DTSTART;VALUE=DATE:20270215
DTEND;VALUE=DATE:20270216
DESCRIPTION:
LOCATION:
SUMMARY:Boarding Students Return (No Classes)
END:VEVENT
BEGIN:VEVENT
DTSTAMP:20260422T195017Z
UID:b020fd81-b570-4f55-930f-092966484c60
DTSTART;VALUE=DATE:20270216
DTEND;VALUE=DATE:20270217
DESCRIPTION:
LOCATION:
SUMMARY:Classes Resume
END:VEVENT
BEGIN:VEVENT
DTSTAMP:20260422T195017Z
UID:15513f04-96a1-4d95-bd31-1fcf10177ea3
DTSTART;VALUE=DATE:20270311
DTEND;VALUE=DATE:20270312
DESCRIPTION:
LOCATION:
SUMMARY:Students Leave for Spring Break / End of 3rd Quarter
END:VEVENT
BEGIN:VEVENT
DTSTAMP:20260422T195017Z
UID:78c632d0-b32e-4774-9508-686a3b04d5d8
DTSTART;VALUE=DATE:20270312
DTEND;VALUE=DATE:20270320
DESCRIPTION:
LOCATION:
SUMMARY:Spring Break
END:VEVENT
BEGIN:VEVENT
DTSTAMP:20260422T195017Z
UID:ae6b5d89-2a61-4fca-a281-0756632d2a58
DTSTART;VALUE=DATE:20270321
DTEND;VALUE=DATE:20270322
DESCRIPTION:
LOCATION:
SUMMARY:Boarding Students Return
END:VEVENT
BEGIN:VEVENT
DTSTAMP:20260422T195017Z
UID:41a68aab-4508-4cf5-ab1c-ae453ee7fe78
DTSTART;VALUE=DATE:20270322
DTEND;VALUE=DATE:20270323
DESCRIPTION:
LOCATION:
SUMMARY:Classes Resume
END:VEVENT
BEGIN:VEVENT
DTSTAMP:20260422T195017Z
UID:15b15646-eb90-4bdc-aabc-31bdb7ba43e0
DTSTART;VALUE=DATE:20270326
DTEND;VALUE=DATE:20270327
DESCRIPTION:
LOCATION:
SUMMARY:Students Leave for Long Weekend
END:VEVENT
BEGIN:VEVENT
DTSTAMP:20260422T195017Z
UID:8f7c8200-b45b-4dc3-893c-83ddf9133cbc
DTSTART;VALUE=DATE:20270329
DTEND;VALUE=DATE:20270330
DESCRIPTION:
LOCATION:
SUMMARY:Boarding Students Return (No Classes)
END:VEVENT
BEGIN:VEVENT
DTSTAMP:20260422T195017Z
UID:c71c4147-e05a-455e-b96f-7f33307993db
DTSTART;VALUE=DATE:20270330
DTEND;VALUE=DATE:20270331
DESCRIPTION:
LOCATION:
SUMMARY:Classes Resume
END:VEVENT
BEGIN:VEVENT
DTSTAMP:20260422T195017Z
UID:679f479f-4ad1-4657-9b9b-46c2d578676d
DTSTART;VALUE=DATE:20270416
DTEND;VALUE=DATE:20270417
DESCRIPTION:
LOCATION:
SUMMARY:Students Leave for Long Weekend
END:VEVENT
BEGIN:VEVENT
DTSTAMP:20260422T195017Z
UID:f1bb624e-ee05-448e-9712-21d2ab307302
DTSTART;VALUE=DATE:20270419
DTEND;VALUE=DATE:20270420
DESCRIPTION:
LOCATION:
SUMMARY:Boarding Students Return (No Classes)
END:VEVENT
BEGIN:VEVENT
DTSTAMP:20260422T195017Z
UID:d520dd14-f099-4dfe-bb2e-7b5bdf558ad9
DTSTART;VALUE=DATE:20270420
DTEND;VALUE=DATE:20270421
DESCRIPTION:
LOCATION:
SUMMARY:Classes Resume
END:VEVENT
BEGIN:VEVENT
DTSTAMP:20260422T195017Z
UID:066f17f4-c4b7-494f-be24-9bf7e73fa9d5
DTSTART;VALUE=DATE:20270507
DTEND;VALUE=DATE:20270508
DESCRIPTION:
LOCATION:
SUMMARY:Students Leave for Long Weekend
END:VEVENT
BEGIN:VEVENT
DTSTAMP:20260422T195017Z
UID:4e19f957-293d-460b-bb07-54cce898b15c
DTSTART;VALUE=DATE:20270510
DTEND;VALUE=DATE:20270511
DESCRIPTION:
LOCATION:
SUMMARY:Boarding Students Return (No Classes)
END:VEVENT
BEGIN:VEVENT
DTSTAMP:20260422T195017Z
UID:7397d00f-54bc-4d03-b64a-dbafae025652
DTSTART;VALUE=DATE:20270511
DTEND;VALUE=DATE:20270512
DESCRIPTION:
LOCATION:
SUMMARY:Classes Resume
END:VEVENT
BEGIN:VEVENT
DTSTAMP:20260422T195017Z
UID:5748b247-6641-4d5e-b55b-b6d66145f595
DTSTART:20270520T120000
DTEND:20270520T140000
DESCRIPTION:
LOCATION:
SUMMARY:Blind High School Graduation
END:VEVENT
BEGIN:VEVENT
DTSTAMP:20260422T195017Z
UID:fbcc3e39-8a0d-416c-a3e3-e1391595ed10
DTSTART:20270521T110000
DTEND:20270521T130000
DESCRIPTION:
LOCATION:
SUMMARY:Deaf High School Graduation
END:VEVENT
BEGIN:VEVENT
DTSTAMP:20260422T195017Z
UID:c90331de-b974-44d2-88cc-b54c4c2014c8
DTSTART;VALUE=DATE:20270528
DTEND;VALUE=DATE:20270529
DESCRIPTION:
LOCATION:
SUMMARY:Last Day of School / End of 4th Quarter / End of 2nd Semester
END:VEVENT
BEGIN:VEVENT
DTSTAMP:20260422T195017Z
UID:63fbf1df-dfd1-4305-a3cb-9fbacc0f695c
DTSTART;VALUE=DATE:20270531
DTEND;VALUE=DATE:20270601
DESCRIPTION:
LOCATION:
SUMMARY:Memorial Day
END:VEVENT
BEGIN:VEVENT
DTSTAMP:20260422T195017Z
UID:5cf56161-5d58-4943-af20-3ef185bd0245
DTSTART;VALUE=DATE:20270607
DTEND;VALUE=DATE:20270608
DESCRIPTION:
LOCATION:
SUMMARY:Start of Summer Term
END:VEVENT
BEGIN:VEVENT
DTSTAMP:20260422T195017Z
UID:8678e589-f18c-4dff-a42b-97415c7095f7
DTSTART;VALUE=DATE:20270625
DTEND;VALUE=DATE:20270626
DESCRIPTION:
LOCATION:
SUMMARY:End of Summer Term
END:VEVENT
END:VCALENDAR
