BEGIN:VCALENDAR
VERSION:2.0
PRODID:icalendar-ruby
CALSCALE:GREGORIAN
BEGIN:VTIMEZONE
TZID:America/Chicago
BEGIN:DAYLIGHT
DTSTART:20260308T030000
TZOFFSETFROM:-0600
TZOFFSETTO:-0500
RRULE:FREQ=YEARLY;BYDAY=2SU;BYMONTH=3
TZNAME:CDT
END:DAYLIGHT
BEGIN:STANDARD
DTSTART:20261101T010000
TZOFFSETFROM:-0500
TZOFFSETTO:-0600
RRULE:FREQ=YEARLY;BYDAY=1SU;BYMONTH=11
TZNAME:CST
END:STANDARD
END:VTIMEZONE
BEGIN:VEVENT
DTSTAMP:20260423T153851Z
UID:5a906ff8-9cff-4727-8fa2-5664a19267d3
DTSTART;VALUE=DATE:20260429
DTEND;VALUE=DATE:20260430
DESCRIPTION:
LOCATION:
SUMMARY:1:30 Dismissal - SIP
END:VEVENT
BEGIN:VEVENT
DTSTAMP:20260423T153851Z
UID:2cc91a3c-c4e6-4496-ab02-ca67464528df
DTSTART;VALUE=DATE:20260429
DTEND;VALUE=DATE:20260430
DESCRIPTION:
LOCATION:
SUMMARY:Scholastic Bowl Regional Tournament
END:VEVENT
BEGIN:VEVENT
DTSTAMP:20260423T153851Z
UID:a6316de7-8778-4101-841f-654f05a8da2f
DTSTART;VALUE=DATE:20260504
DTEND;VALUE=DATE:20260505
DESCRIPTION:
LOCATION:
SUMMARY:Scholastic Bowl Sectional Tournament
END:VEVENT
BEGIN:VEVENT
DTSTAMP:20260423T153851Z
UID:ccf96f80-72b7-4311-ba60-9a3ff9436f75
DTSTART;VALUE=DATE:20260505
DTEND;VALUE=DATE:20260506
DESCRIPTION:
LOCATION:
SUMMARY:Spring Concert 6:30 pm
END:VEVENT
BEGIN:VEVENT
DTSTAMP:20260423T153851Z
UID:933cf8b7-4f6c-448d-accf-53490632e5ea
DTSTART;VALUE=DATE:20260508
DTEND;VALUE=DATE:20260509
DESCRIPTION:
LOCATION:
SUMMARY:8th grade Trip
END:VEVENT
BEGIN:VEVENT
DTSTAMP:20260423T153851Z
UID:b767c004-4dfb-4d3a-9853-66e2fdd8791d
DTSTART;VALUE=DATE:20260508
DTEND;VALUE=DATE:20260509
DESCRIPTION:
LOCATION:
SUMMARY:Scholastic Bowl State Tournament
END:VEVENT
BEGIN:VEVENT
DTSTAMP:20260423T153851Z
UID:0364ef20-dd5d-4091-9321-287545b41433
DTSTART;VALUE=DATE:20260513
DTEND;VALUE=DATE:20260514
DESCRIPTION:
LOCATION:
SUMMARY:1:30 Dismissal - SIP
END:VEVENT
BEGIN:VEVENT
DTSTAMP:20260423T153851Z
UID:72d785c7-134f-4aea-a65c-c7de835b8fd7
DTSTART;VALUE=DATE:20260514
DTEND;VALUE=DATE:20260515
DESCRIPTION:
LOCATION:
SUMMARY:Graduation 6 pm
END:VEVENT
BEGIN:VEVENT
DTSTAMP:20260423T153851Z
UID:4a962c05-b028-459f-8357-60483def1087
DTSTART;VALUE=DATE:20260520
DTEND;VALUE=DATE:20260521
DESCRIPTION:
LOCATION:
SUMMARY:Tentative Last Day of School - 1:30 Dismissal
END:VEVENT
BEGIN:VEVENT
DTSTAMP:20260423T153851Z
UID:02998de5-e841-4d39-830f-b27894fa4923
DTSTART:20260520T190000
DTEND:20260520T200000
DESCRIPTION:
LOCATION:
SUMMARY:Board of Education Meeting
END:VEVENT
BEGIN:VEVENT
DTSTAMP:20260423T153851Z
UID:5efc4760-c38a-44e6-be02-2cf04a3ab9be
DTSTART;VALUE=DATE:20260521
DTEND;VALUE=DATE:20260523
DESCRIPTION:
LOCATION:
SUMMARY:Emergency Days (if needed)
END:VEVENT
BEGIN:VEVENT
DTSTAMP:20260423T153851Z
UID:f5327846-d26c-43bc-a200-3bc9b18ff5e9
DTSTART;VALUE=DATE:20260525
DTEND;VALUE=DATE:20260526
DESCRIPTION:
LOCATION:
SUMMARY:Memorial Day - No School
END:VEVENT
BEGIN:VEVENT
DTSTAMP:20260423T153851Z
UID:f009117c-63b3-4fa3-869a-ae1ee74a653e
DTSTART;VALUE=DATE:20260526
DTEND;VALUE=DATE:20260529
DESCRIPTION:
LOCATION:
SUMMARY:Emergency Days (if needed)
END:VEVENT
BEGIN:VEVENT
DTSTAMP:20260423T153851Z
UID:5ff437e8-7ca9-4657-86c8-c0ca4bf2349f
DTSTART;VALUE=DATE:20260721
DTEND;VALUE=DATE:20260722
DESCRIPTION:
LOCATION:
SUMMARY:Registration 2-6 pm
END:VEVENT
BEGIN:VEVENT
DTSTAMP:20260423T153851Z
UID:f0063acc-4b8f-4f3e-b7bc-1b8819bb3e75
DTSTART;VALUE=DATE:20260722
DTEND;VALUE=DATE:20260723
DESCRIPTION:
LOCATION:
SUMMARY:Registration 2-6 pm
END:VEVENT
END:VCALENDAR
