BEGIN:VCALENDAR
VERSION:2.0
PRODID:icalendar-ruby
CALSCALE:GREGORIAN
BEGIN:VTIMEZONE
TZID:America/New_York
BEGIN:DAYLIGHT
DTSTART:20260308T030000
TZOFFSETFROM:-0500
TZOFFSETTO:-0400
RRULE:FREQ=YEARLY;BYDAY=2SU;BYMONTH=3
TZNAME:EDT
END:DAYLIGHT
BEGIN:STANDARD
DTSTART:20261101T010000
TZOFFSETFROM:-0400
TZOFFSETTO:-0500
RRULE:FREQ=YEARLY;BYDAY=1SU;BYMONTH=11
TZNAME:EST
END:STANDARD
END:VTIMEZONE
BEGIN:VEVENT
DTSTAMP:20260422T154755Z
UID:a3722c61-896a-4ea3-aeda-5e383da6abf0
DTSTART;VALUE=DATE:20260420
DTEND;VALUE=DATE:20260425
DESCRIPTION:<html><head><meta http-equiv="Content-Type" content="text/html\
 ; charset=utf-8"><meta name="ProgId" content="Word.Document"><meta name="G
 enerator" content="Microsoft Word 15"><meta name="Originator" content="Mic
 rosoft Word 15"><style><!--@font-face	{font-family:"Cambria Math"}@font-fa
 ce	{font-family:Aptos}p.MsoNormal\, li.MsoNormal\, div.MsoNormal	{margin:0
 in\;	font-size:12.0pt\;	font-family:"Aptos"\,sans-serif}a:link\, span.MsoH
 yperlink	{color:#467886\;	text-decoration:underline}a:visited\, span.MsoHy
 perlinkFollowed	{color:#96607D\;	text-decoration:underline}span.EmailStyle
 17	{font-family:"Aptos"\,sans-serif\;	color:windowtext}.MsoChpDefault	{}@p
 age WordSection1	{margin:1.0in 1.0in 1.0in 1.0in}div.WordSection1	{}--></s
 tyle></head><body lang="EN-US" link="#467886" vlink="#96607D" style="word-
 wrap:break-word"><div class="WordSection1"><p class="MsoNormal"><span styl
 e="font-size:11.0pt">&nbsp\;</span></p></div></body></html>
LOCATION:
SUMMARY:Patriots' Day/Spring Recess - NO SCHOOL
END:VEVENT
BEGIN:VEVENT
DTSTAMP:20260422T154755Z
UID:fe8ea310-85ba-4a47-b890-1d12cde9bd1c
DTSTART:20260424T100000
DTEND:20260424T110000
DESCRIPTION:<html><head><meta http-equiv="Content-Type" content="text/html\
 ; charset=utf-8"></head><body><p></p><p>ASC Meeting (virtual) <a href="htt
 ps://aptg.co/s-xcyp">4-24-26 agenda</a></p></body></html>
LOCATION:
SUMMARY:ASC Virtual Meeting
END:VEVENT
BEGIN:VEVENT
DTSTAMP:20260422T154755Z
UID:90eba7a7-a77f-4333-9646-59afdfa1a85b
DTSTART;VALUE=DATE:20260506
DTEND;VALUE=DATE:20260507
DESCRIPTION:<html><head><meta http-equiv="Content-Type" content="text/html\
 ; charset=utf-8"><meta name="ProgId" content="Word.Document"><meta name="G
 enerator" content="Microsoft Word 15"><meta name="Originator" content="Mic
 rosoft Word 15"><style><!--@font-face	{font-family:Wingdings}@font-face	{f
 ont-family:"Cambria Math"}@font-face	{font-family:Aptos}p.MsoNormal\, li.M
 soNormal\, div.MsoNormal	{margin:0in\;	font-size:12.0pt\;	font-family:"Apt
 os"\,sans-serif}a:link\, span.MsoHyperlink	{color:#467886\;	text-decoratio
 n:underline}a:visited\, span.MsoHyperlinkFollowed	{color:#96607D\;	text-de
 coration:underline}span.EmailStyle17	{font-family:"Aptos"\,sans-serif\;	co
 lor:windowtext}.MsoChpDefault	{}@page WordSection1	{margin:1.0in 1.0in 1.0
 in 1.0in}div.WordSection1	{}ol	{margin-bottom:0in}ul	{margin-bottom:0in}--
 ></style></head><body lang="EN-US" link="#467886" vlink="#96607D" style="w
 ord-wrap:break-word"><div class="WordSection1"><p class="MsoNormal"><b><sp
 an style="font-size:11.0pt">Early Release Days:</span></b><span style="fon
 t-size:11.0pt"></span></p><ul type="disc" style="margin-top:0in"><li class
 ="MsoNormal" style=""><b><span style="font-size:11.0pt">Andover High Schoo
 l:</span></b><span style="font-size:11.0pt"> 8:15 AM to 11:30 AM</span></l
 i><li class="MsoNormal" style=""><b><span style="font-size:11.0pt">All mid
 dle schools:</span></b><span style="font-size:11.0pt"> 8:15 AM to 11:30&nb
 sp\;AM</span></li><li class="MsoNormal" style=""><b><span style="font-size
 :11.0pt">All elementary schools:</span></b><span style="font-size:11.0pt">
  9:00 AM to 12:15 PM</span></li><li class="MsoNormal" style=""><b><span st
 yle="font-size:11.0pt">Shawsheen Preschool:</span></b><span style="font-si
 ze:11.0pt"> 9:00 AM to 11:30 AM</span></li></ul><p class="MsoNormal"><span
  style="font-size:11.0pt">&nbsp\;</span></p></div></body></html>
LOCATION:
SUMMARY:Early Release Day
END:VEVENT
BEGIN:VEVENT
DTSTAMP:20260422T154755Z
UID:dcdd14a5-5244-41e1-b70c-e729e047fa67
DTSTART:20260507T180000
DTEND:20260507T203000
DESCRIPTION:<html><head><meta http-equiv="Content-Type" content="text/html\
 ; charset=utf-8"><meta name="ProgId" content="Word.Document"><meta name="G
 enerator" content="Microsoft Word 15"><meta name="Originator" content="Mic
 rosoft Word 15"><style><!--@font-face	{font-family:"Cambria Math"}@font-fa
 ce	{font-family:Aptos}p.MsoNormal\, li.MsoNormal\, div.MsoNormal	{margin:0
 in\;	font-size:12.0pt\;	font-family:"Aptos"\,sans-serif}a:link\, span.MsoH
 yperlink	{color:#467886\;	text-decoration:underline}a:visited\, span.MsoHy
 perlinkFollowed	{color:#96607D\;	text-decoration:underline}span.EmailStyle
 17	{font-family:"Aptos"\,sans-serif\;	color:windowtext}@page WordSection1	
 {margin:1.0in 1.0in 1.0in 1.0in}--></style></head><body><div class="WordSe
 ction1"><p class="MsoNormal"><span style="font-size:11.0pt">&nbsp\;</span>
 </p></div></body></html>
LOCATION:30 Whittier Ct (30 Whittier Ct\, Andover\, Massachusetts  01810)
SUMMARY:ASC Regular Meeting
END:VEVENT
BEGIN:VEVENT
DTSTAMP:20260422T154755Z
UID:079f5385-273e-4976-aa0b-0437b1981fbf
DTSTART:20260519T190000
DTEND:20260519T203000
DESCRIPTION:
LOCATION:
SUMMARY:Virtual - School Committee Informal Forum
END:VEVENT
BEGIN:VEVENT
DTSTAMP:20260422T154755Z
UID:ca24c429-7405-44f6-8b92-d4982fd10734
DTSTART:20260521T180000
DTEND:20260521T203000
DESCRIPTION:<html><head><meta http-equiv="Content-Type" content="text/html\
 ; charset=utf-8"><meta name="ProgId" content="Word.Document"><meta name="G
 enerator" content="Microsoft Word 15"><meta name="Originator" content="Mic
 rosoft Word 15"><style><!--@font-face	{font-family:"Cambria Math"}@font-fa
 ce	{font-family:Aptos}p.MsoNormal\, li.MsoNormal\, div.MsoNormal	{margin:0
 in\;	font-size:12.0pt\;	font-family:"Aptos"\,sans-serif}a:link\, span.MsoH
 yperlink	{color:#467886\;	text-decoration:underline}a:visited\, span.MsoHy
 perlinkFollowed	{color:#96607D\;	text-decoration:underline}span.EmailStyle
 17	{font-family:"Aptos"\,sans-serif\;	color:windowtext}@page WordSection1	
 {margin:1.0in 1.0in 1.0in 1.0in}--></style></head><body><div class="WordSe
 ction1"><p class="MsoNormal"><span style="font-size:11.0pt">&nbsp\;</span>
 </p></div></body></html>
LOCATION:30 Whittier Ct (30 Whittier Ct\, Andover\, Massachusetts  01810)
SUMMARY:ASC Regular Meeting
END:VEVENT
BEGIN:VEVENT
DTSTAMP:20260422T154755Z
UID:2383377f-e8ed-4d0e-a937-e35eb156f562
DTSTART;VALUE=DATE:20260525
DTEND;VALUE=DATE:20260526
DESCRIPTION:<html><head><meta http-equiv="Content-Type" content="text/html\
 ; charset=utf-8"><meta name="ProgId" content="Word.Document"><meta name="G
 enerator" content="Microsoft Word 15"><meta name="Originator" content="Mic
 rosoft Word 15"><style><!--@font-face	{font-family:"Cambria Math"}@font-fa
 ce	{font-family:Aptos}p.MsoNormal\, li.MsoNormal\, div.MsoNormal	{margin:0
 in\;	font-size:12.0pt\;	font-family:"Aptos"\,sans-serif}a:link\, span.MsoH
 yperlink	{color:#467886\;	text-decoration:underline}a:visited\, span.MsoHy
 perlinkFollowed	{color:#96607D\;	text-decoration:underline}span.EmailStyle
 17	{font-family:"Aptos"\,sans-serif\;	color:windowtext}.MsoChpDefault	{}@p
 age WordSection1	{margin:1.0in 1.0in 1.0in 1.0in}div.WordSection1	{}--></s
 tyle></head><body lang="EN-US" link="#467886" vlink="#96607D" style="word-
 wrap:break-word"><div class="WordSection1"><p class="MsoNormal"><span styl
 e="font-size:11.0pt">&nbsp\;</span></p></div></body></html>
LOCATION:
SUMMARY:Memorial Day - NO SCHOOL
END:VEVENT
BEGIN:VEVENT
DTSTAMP:20260422T154755Z
UID:d9f2641e-1225-4564-a545-7e81a5644de1
DTSTART;VALUE=DATE:20260601
DTEND;VALUE=DATE:20260602
DESCRIPTION:<html><head><meta http-equiv="Content-Type" content="text/html\
 ; charset=utf-8"><meta name="ProgId" content="Word.Document"><meta name="G
 enerator" content="Microsoft Word 15"><meta name="Originator" content="Mic
 rosoft Word 15"><style><!--@font-face	{font-family:"Cambria Math"}@font-fa
 ce	{font-family:Aptos}p.MsoNormal\, li.MsoNormal\, div.MsoNormal	{margin:0
 in\;	font-size:12.0pt\;	font-family:"Aptos"\,sans-serif}a:link\, span.MsoH
 yperlink	{color:#467886\;	text-decoration:underline}a:visited\, span.MsoHy
 perlinkFollowed	{color:#96607D\;	text-decoration:underline}span.EmailStyle
 17	{font-family:"Aptos"\,sans-serif\;	color:windowtext}.MsoChpDefault	{}@p
 age WordSection1	{margin:1.0in 1.0in 1.0in 1.0in}div.WordSection1	{}--></s
 tyle></head><body lang="EN-US" link="#467886" vlink="#96607D" style="word-
 wrap:break-word"><div class="WordSection1"><p class="MsoNormal"><span styl
 e="font-size:11.0pt">&nbsp\;</span></p></div></body></html>
LOCATION:
SUMMARY:Andover High School - Graduation
END:VEVENT
BEGIN:VEVENT
DTSTAMP:20260422T154755Z
UID:28e85426-9b6c-4e32-81aa-f97eaf4a73b1
DTSTART:20260604T180000
DTEND:20260604T203000
DESCRIPTION:<html><head><meta http-equiv="Content-Type" content="text/html\
 ; charset=utf-8"><meta name="ProgId" content="Word.Document"><meta name="G
 enerator" content="Microsoft Word 15"><meta name="Originator" content="Mic
 rosoft Word 15"><style><!--@font-face	{font-family:"Cambria Math"}@font-fa
 ce	{font-family:Aptos}p.MsoNormal\, li.MsoNormal\, div.MsoNormal	{margin:0
 in\;	font-size:12.0pt\;	font-family:"Aptos"\,sans-serif}a:link\, span.MsoH
 yperlink	{color:#467886\;	text-decoration:underline}a:visited\, span.MsoHy
 perlinkFollowed	{color:#96607D\;	text-decoration:underline}span.EmailStyle
 17	{font-family:"Aptos"\,sans-serif\;	color:windowtext}@page WordSection1	
 {margin:1.0in 1.0in 1.0in 1.0in}--></style></head><body><div class="WordSe
 ction1"><p class="MsoNormal"><span style="font-size:11.0pt">&nbsp\;</span>
 </p></div></body></html>
LOCATION:30 Whittier Ct (30 Whittier Ct\, Andover\, Massachusetts  01810)
SUMMARY:ASC Regular Meeting
END:VEVENT
BEGIN:VEVENT
DTSTAMP:20260422T154755Z
UID:19167362-02f7-4561-85c9-3f031de6d784
DTSTART:20260606T093000
DTEND:20260606T110000
DESCRIPTION:<html><head><meta http-equiv="Content-Type" content="text/html\
 ; charset=utf-8"></head><body><p><span>Much like “office hours\,” thes
 e events allow for a more interactive dialogue than what is allowed at bus
 iness meetings. These meetings have no set agenda\, are attended by only t
 wo members of the Committee (as to stay below quorum and\, therefore\, avo
 id deliberation). All members of the Andover community are welcome and enc
 ourage to attend to discuss any item under the purview of the School Commi
 ttee.</span></p></body></html>
LOCATION:2 N Main St\, Andover\, MA 01810\, USA
SUMMARY:School Committee Informal Forum
END:VEVENT
BEGIN:VEVENT
DTSTAMP:20260422T154755Z
UID:e021e591-725c-402d-ab12-5e4268886400
DTSTART;VALUE=DATE:20260617
DTEND;VALUE=DATE:20260618
DESCRIPTION:<html><head><meta http-equiv="Content-Type" content="text/html\
 ; charset=utf-8"><meta name="ProgId" content="Word.Document"><meta name="G
 enerator" content="Microsoft Word 15"><meta name="Originator" content="Mic
 rosoft Word 15"><style><!--@font-face	{font-family:"Cambria Math"}@font-fa
 ce	{font-family:Aptos}p.MsoNormal\, li.MsoNormal\, div.MsoNormal	{margin:0
 in\;	font-size:12.0pt\;	font-family:"Aptos"\,sans-serif}a:link\, span.MsoH
 yperlink	{color:#467886\;	text-decoration:underline}a:visited\, span.MsoHy
 perlinkFollowed	{color:#96607D\;	text-decoration:underline}span.EmailStyle
 17	{font-family:"Aptos"\,sans-serif\;	color:windowtext}.MsoChpDefault	{}@p
 age WordSection1	{margin:1.0in 1.0in 1.0in 1.0in}div.WordSection1	{}--></s
 tyle></head><body lang="EN-US" link="#467886" vlink="#96607D" style="word-
 wrap:break-word"><div class="WordSection1"><p class="MsoNormal"><span styl
 e="font-size:11.0pt">Voted on by the School Committee on April 9\, 2026.</
 span></p></div></body></html>
LOCATION:
SUMMARY:Last Day of School for Students (Early Release Day)
END:VEVENT
BEGIN:VEVENT
DTSTAMP:20260422T154755Z
UID:ac780870-8058-48f4-b8a2-4cda34b0d983
DTSTART:20260618T180000
DTEND:20260618T203000
DESCRIPTION:<html><head><meta http-equiv="Content-Type" content="text/html\
 ; charset=utf-8"><meta name="ProgId" content="Word.Document"><meta name="G
 enerator" content="Microsoft Word 15"><meta name="Originator" content="Mic
 rosoft Word 15"><style><!--@font-face	{font-family:"Cambria Math"}@font-fa
 ce	{font-family:Aptos}p.MsoNormal\, li.MsoNormal\, div.MsoNormal	{margin:0
 in\;	font-size:12.0pt\;	font-family:"Aptos"\,sans-serif}a:link\, span.MsoH
 yperlink	{color:#467886\;	text-decoration:underline}a:visited\, span.MsoHy
 perlinkFollowed	{color:#96607D\;	text-decoration:underline}span.EmailStyle
 17	{font-family:"Aptos"\,sans-serif\;	color:windowtext}@page WordSection1	
 {margin:1.0in 1.0in 1.0in 1.0in}--></style></head><body><div class="WordSe
 ction1"><p class="MsoNormal"><span style="font-size:11.0pt">&nbsp\;</span>
 </p></div></body></html>
LOCATION:30 Whittier Ct (30 Whittier Ct\, Andover\, Massachusetts  01810)
SUMMARY:ASC Regular Meeting
END:VEVENT
BEGIN:VEVENT
DTSTAMP:20260422T154755Z
UID:975bed74-3606-4eba-bceb-dc6ec9566c37
DTSTART;VALUE=DATE:20260619
DTEND;VALUE=DATE:20260620
DESCRIPTION:<html><head><meta http-equiv="Content-Type" content="text/html\
 ; charset=utf-8"><meta name="ProgId" content="Word.Document"><meta name="G
 enerator" content="Microsoft Word 15"><meta name="Originator" content="Mic
 rosoft Word 15"><style><!--@font-face	{font-family:"Cambria Math"}@font-fa
 ce	{font-family:Aptos}p.MsoNormal\, li.MsoNormal\, div.MsoNormal	{margin:0
 in\;	font-size:12.0pt\;	font-family:"Aptos"\,sans-serif}a:link\, span.MsoH
 yperlink	{color:#467886\;	text-decoration:underline}a:visited\, span.MsoHy
 perlinkFollowed	{color:#96607D\;	text-decoration:underline}span.EmailStyle
 17	{font-family:"Aptos"\,sans-serif\;	color:windowtext}.MsoChpDefault	{}@p
 age WordSection1	{margin:1.0in 1.0in 1.0in 1.0in}div.WordSection1	{}--></s
 tyle></head><body lang="EN-US" link="#467886" vlink="#96607D" style="word-
 wrap:break-word"><div class="WordSection1"><p class="MsoNormal"><span styl
 e="font-size:11.0pt">&nbsp\;</span></p></div></body></html>
LOCATION:
SUMMARY:Juneteenth Holiday
END:VEVENT
END:VCALENDAR
