BEGIN:VCALENDAR
VERSION:2.0
PRODID:icalendar-ruby
CALSCALE:GREGORIAN
BEGIN:VTIMEZONE
TZID:America/Chicago
BEGIN:DAYLIGHT
DTSTART:20260308T030000
TZOFFSETFROM:-0600
TZOFFSETTO:-0500
RRULE:FREQ=YEARLY;BYDAY=2SU;BYMONTH=3
TZNAME:CDT
END:DAYLIGHT
BEGIN:STANDARD
DTSTART:20261101T010000
TZOFFSETFROM:-0500
TZOFFSETTO:-0600
RRULE:FREQ=YEARLY;BYDAY=1SU;BYMONTH=11
TZNAME:CST
END:STANDARD
END:VTIMEZONE
BEGIN:VEVENT
DTSTAMP:20260419T193325Z
UID:4065c93f-d13f-4083-9c4f-725508309a89
DTSTART;VALUE=DATE:20260425
DTEND;VALUE=DATE:20260426
DESCRIPTION:
LOCATION:
SUMMARY:JROTC Awards Ceremony 
END:VEVENT
BEGIN:VEVENT
DTSTAMP:20260419T193325Z
UID:1f376667-d19b-4c4a-84e2-0c7bd95360ae
DTSTART:20260509T163000
DTEND:20260509T210000
DESCRIPTION:
LOCATION:
SUMMARY:Military Ball
END:VEVENT
BEGIN:VEVENT
DTSTAMP:20260419T193325Z
UID:6c017db6-54dc-45e8-8f47-e4fb7e3a1474
DTSTART:20260516T170000
DTEND:20260516T180000
DESCRIPTION:
LOCATION:
SUMMARY:Graduation 
END:VEVENT
BEGIN:VEVENT
DTSTAMP:20260419T193325Z
UID:0a9df9f0-afa1-4704-b3e0-7b896688e283
DTSTART:20260522T070000
DTEND:20260522T090000
DESCRIPTION:
LOCATION:
SUMMARY:Last day of school-SHORT DAY
END:VEVENT
END:VCALENDAR
