BEGIN:VCALENDAR
VERSION:2.0
PRODID:icalendar-ruby
CALSCALE:GREGORIAN
BEGIN:VTIMEZONE
TZID:America/Chicago
BEGIN:DAYLIGHT
DTSTART:20260308T030000
TZOFFSETFROM:-0600
TZOFFSETTO:-0500
RRULE:FREQ=YEARLY;BYDAY=2SU;BYMONTH=3
TZNAME:CDT
END:DAYLIGHT
BEGIN:STANDARD
DTSTART:20261101T010000
TZOFFSETFROM:-0500
TZOFFSETTO:-0600
RRULE:FREQ=YEARLY;BYDAY=1SU;BYMONTH=11
TZNAME:CST
END:STANDARD
END:VTIMEZONE
BEGIN:VEVENT
DTSTAMP:20260424T215539Z
UID:749fa453-85b9-401b-9ea7-ac3fb2345ae2
DTSTART;VALUE=DATE:20260504
DTEND;VALUE=DATE:20260509
DESCRIPTION:
LOCATION:
SUMMARY:High School AP Exams
END:VEVENT
BEGIN:VEVENT
DTSTAMP:20260424T215539Z
UID:869df5d3-5084-495e-bf64-25a4e381f914
DTSTART;VALUE=DATE:20260505
DTEND;VALUE=DATE:20260506
DESCRIPTION:
LOCATION:
SUMMARY:Last Day HS Seniors
END:VEVENT
BEGIN:VEVENT
DTSTAMP:20260424T215539Z
UID:c1494764-3551-4467-9915-3b232c276f1c
DTSTART;VALUE=DATE:20260511
DTEND;VALUE=DATE:20260516
DESCRIPTION:
LOCATION:
SUMMARY:High School AP Exams
END:VEVENT
BEGIN:VEVENT
DTSTAMP:20260424T215539Z
UID:bf46a8f4-c6d6-4550-9991-7dd18ca65410
DTSTART;VALUE=DATE:20260518
DTEND;VALUE=DATE:20260519
DESCRIPTION:
LOCATION:
SUMMARY:High School Semester Exams
END:VEVENT
BEGIN:VEVENT
DTSTAMP:20260424T215539Z
UID:8de43818-d2bb-427a-81b3-661cf9963071
DTSTART;VALUE=DATE:20260519
DTEND;VALUE=DATE:20260520
DESCRIPTION:
LOCATION:
SUMMARY:End of Q4 Report of Progress K-12
END:VEVENT
BEGIN:VEVENT
DTSTAMP:20260424T215539Z
UID:03c445b7-10ac-4dc0-9064-05e12da6810b
DTSTART;VALUE=DATE:20260519
DTEND;VALUE=DATE:20260520
DESCRIPTION:
LOCATION:
SUMMARY:High School Semester Exams
END:VEVENT
BEGIN:VEVENT
DTSTAMP:20260424T215539Z
UID:25d3b5a2-eea1-4bc8-99c0-c5b884fc0d04
DTSTART;VALUE=DATE:20260519
DTEND;VALUE=DATE:20260520
DESCRIPTION:
LOCATION:
SUMMARY:Last Day Students
END:VEVENT
BEGIN:VEVENT
DTSTAMP:20260424T215539Z
UID:33a1df3a-d40a-4e6e-9e9c-0f4fc7ac3919
DTSTART;VALUE=DATE:20260520
DTEND;VALUE=DATE:20260521
DESCRIPTION:
LOCATION:
SUMMARY:In-Service - No Students
END:VEVENT
BEGIN:VEVENT
DTSTAMP:20260424T215539Z
UID:b7a305cc-bce4-4abd-9754-5cf72adcba98
DTSTART;VALUE=DATE:20260522
DTEND;VALUE=DATE:20260523
DESCRIPTION:
LOCATION:
SUMMARY:Final Report Card K-12
END:VEVENT
BEGIN:VEVENT
DTSTAMP:20260424T215539Z
UID:ed1a1413-4c94-4dcb-9331-c64b4c9eda2b
DTSTART;VALUE=DATE:20260525
DTEND;VALUE=DATE:20260526
DESCRIPTION:
LOCATION:
SUMMARY:Schools/Centers Closed
END:VEVENT
BEGIN:VEVENT
DTSTAMP:20260424T215539Z
UID:14b3527e-17f7-4c52-a182-aae6e1b62789
DTSTART;VALUE=DATE:20260619
DTEND;VALUE=DATE:20260620
DESCRIPTION:
LOCATION:
SUMMARY:Schools/Centers Closed
END:VEVENT
END:VCALENDAR
