BEGIN:VCALENDAR
VERSION:2.0
PRODID:icalendar-ruby
CALSCALE:GREGORIAN
BEGIN:VTIMEZONE
TZID:America/New_York
BEGIN:DAYLIGHT
DTSTART:20260308T030000
TZOFFSETFROM:-0500
TZOFFSETTO:-0400
RRULE:FREQ=YEARLY;BYDAY=2SU;BYMONTH=3
TZNAME:EDT
END:DAYLIGHT
BEGIN:STANDARD
DTSTART:20261101T010000
TZOFFSETFROM:-0400
TZOFFSETTO:-0500
RRULE:FREQ=YEARLY;BYDAY=1SU;BYMONTH=11
TZNAME:EST
END:STANDARD
END:VTIMEZONE
BEGIN:VEVENT
DTSTAMP:20260423T111314Z
UID:a16fea18-d9dd-431a-b6e6-ce04ecf88aa0
DTSTART:20260409T160000
DTEND:20260423T173000
DESCRIPTION:<p style="text-align: center"><strong>For 8th graders who will 
 be attending FHS next year-</strong></p><p style="text-align: center">The 
 Cheer Google Classroom Code:&nbsp\; <span>knrm2vm5&nbsp\;<strong> </strong
 ></span></p><p style="text-align: center"><strong>Cheer Clinic dates:</str
 ong></p><p style="text-align: center"><strong>Time: 4-5:30PM&nbsp\;</stron
 g></p><p style="text-align: center"><strong>Location: FHS Gym</strong></p>
 <p style="text-align: center"><strong>Dates: April 9th\,  April 16th &amp\
 ; April 23rd&nbsp\;</strong></p><p style="text-align: center">Parents/ Ath
 letes register here&nbsp\;<a target="_blank" rel="noopener noreferrer nofo
 llow" href="https://forms.gle/MxdHCJWEW4qoRos89">Google Form</a>.</p><p st
 yle="text-align: center"></p><p style="text-align: center"></p><p style="t
 ext-align: center"></p>
LOCATION:500 Elizabeth Ave\, Somerset\, NJ 08873\, USA
SUMMARY:FHS Cheer Clinics         (for 8th Graders Attending FHS i n the 20
 26- 27 School Year)
END:VEVENT
BEGIN:VEVENT
DTSTAMP:20260423T111314Z
UID:1270de27-dad9-4980-8cd2-4cd3acdd1081
DTSTART:20260416T160000
DTEND:20260430T173000
DESCRIPTION:<p style="text-align: center"><strong>For 8th graders who will 
 be attending FHS next year-</strong></p><p style="text-align: center">The 
 Cheer Google Classroom Code:&nbsp\; <span>knrm2vm5&nbsp\;<strong> </strong
 ></span></p><p style="text-align: center"><strong>Cheer Clinic dates:</str
 ong></p><p style="text-align: center"><strong>Time: 4-5:30PM&nbsp\;</stron
 g></p><p style="text-align: center"><strong>Location: FHS Gym</strong></p>
 <p style="text-align: center"><strong>Dates: April 9th\,  April 16th &amp\
 ; April 23rd&nbsp\;</strong></p><p style="text-align: center">Parents/ Ath
 letes register here&nbsp\;<a target="_blank" rel="noopener noreferrer nofo
 llow" href="https://forms.gle/MxdHCJWEW4qoRos89">Google Form</a>.</p><p st
 yle="text-align: center"></p><p style="text-align: center"></p><p style="t
 ext-align: center"></p>
LOCATION:500 Elizabeth Ave\, Somerset\, NJ 08873\, USA
SUMMARY:FHS Cheer Clinics         (for 8th Graders Attending FHS i n the 20
 26- 27 School Year)
END:VEVENT
BEGIN:VEVENT
DTSTAMP:20260423T111314Z
UID:4af8cf43-0f31-4ed4-b0d8-706cc11e938c
DTSTART:20260423T073000
DTEND:20260423T073000
DESCRIPTION:<p>Students who participate in Take Your Child to Work Day will
  have their absence <strong>excused</strong>\, in alignment with both <str
 ong>Franklin Township Public Schools</strong> and <strong>NJDOE guidelines
 </strong>.</p><p>For students who will be in attendance at SGS\, we will c
 ontinue to provide a structured and engaging school day.</p>
LOCATION:1649 Amwell Rd\, Somerset\, NJ 08873\, USA
SUMMARY:Take Your Child to Work Day
END:VEVENT
BEGIN:VEVENT
DTSTAMP:20260423T111314Z
UID:eacf7125-2562-445a-b1e8-5212b4039b13
DTSTART:20260423T080000
DTEND:20260423T090000
DESCRIPTION:<p style="text-align: center"><strong><em>Be A Part of It!</em>
 </strong></p><p>Grades 8-12 for the 2026- 2027 School Year.</p><p><a targe
 t="_blank" rel="noopener noreferrer nofollow" href="https://drive.google.c
 om/file/d/1szXqd1cB8Eoiqc5GeKEp1tzZ6bK5BK19/view?usp=sharing" relative-lin
 k="">Active Physical</a> and <a target="_blank" rel="noopener noreferrer n
 ofollow" href="https://app.formreleaf.com/organizations/franklin-township-
 public-schools-somerset-nj/programs/20242025-middle-school-spring-sportsco
 py-1" relative-link="">Form ReLeaf Required.</a></p><p><strong>April 9\, 1
 6 &amp\; 23</strong> from 4-5:30PM in the <strong>Franklin High School Gym
 .</strong></p>
LOCATION:500 Elizabeth Ave\, Somerset\, NJ 08873\, USA
SUMMARY:Cheer Clinics at FHS for the 2026- 27 School Year           (Grades
  8-12)
END:VEVENT
BEGIN:VEVENT
DTSTAMP:20260423T111314Z
UID:e83fbdcb-179e-4620-a3d4-196f960bbfa8
DTSTART:20260423T080000
DTEND:20260423T080000
DESCRIPTION:<p><span><strong>ULTIMATE WARRIORS at Franklin High will be vis
 iting SGS students.</strong></span></p><p><span>The Ultimate Warriors is o
 pen to any and all students who would like to participate in School Spirit
 \, Leadership and Community Service activities. Students must have a passi
 ng average and be successfully progressing during the term.</span></p><p><
 /p>
LOCATION:1649 Amwell Rd\, Somerset\, NJ 08873\, USA
SUMMARY: Ultimate Warriors Club @ SGS during all PE Classes
END:VEVENT
BEGIN:VEVENT
DTSTAMP:20260423T111314Z
UID:64ede992-94ce-411d-95f9-dcb23e965a3b
DTSTART:20260423T160000
DTEND:20260507T173000
DESCRIPTION:<p style="text-align: center"><strong>For 8th graders who will 
 be attending FHS next year-</strong></p><p style="text-align: center">The 
 Cheer Google Classroom Code:&nbsp\; <span>knrm2vm5&nbsp\;<strong> </strong
 ></span></p><p style="text-align: center"><strong>Cheer Clinic dates:</str
 ong></p><p style="text-align: center"><strong>Time: 4-5:30PM&nbsp\;</stron
 g></p><p style="text-align: center"><strong>Location: FHS Gym</strong></p>
 <p style="text-align: center"><strong>Dates: April 9th\,  April 16th &amp\
 ; April 23rd&nbsp\;</strong></p><p style="text-align: center">Parents/ Ath
 letes register here&nbsp\;<a target="_blank" rel="noopener noreferrer nofo
 llow" href="https://forms.gle/MxdHCJWEW4qoRos89">Google Form</a>.</p><p st
 yle="text-align: center"></p><p style="text-align: center"></p><p style="t
 ext-align: center"></p>
LOCATION:500 Elizabeth Ave\, Somerset\, NJ 08873\, USA
SUMMARY:FHS Cheer Clinics         (for 8th Graders Attending FHS i n the 20
 26- 27 School Year)
END:VEVENT
BEGIN:VEVENT
DTSTAMP:20260423T111314Z
UID:b64f7853-00aa-4531-9e77-d6af6d3936dc
DTSTART:20260428T180000
DTEND:20260428T200000
DESCRIPTION:<h3 style="text-align: center">Be A Part of It!</h3><h4></h4><h
 3 style="text-align: center">FMS Sneak Peek at SGS!</h3><p>We will be host
 ing our first annual FMS Sneak Peek on&nbsp\;April 28\,&nbsp\;2026 6:00 pm
  at SGS\, hosting this event for our rising 6th graders &amp\; new student
 s.&nbsp\; <span>Our Transition Night will include sessions available in bo
 th Spanish and Arabic.</span></p><p>Please register to reserve your spot f
 or this exciting event:</p><h5 style="text-align: left"><a target="_blank"
  rel="noopener noreferrer nofollow" href="https://drive.google.com/file/d/
 19-XjLG_jR1x4tda7-b_c4byahk7J-0Rk/view?usp=sharing" relative-link="">FMS S
 neak Peek at SGS (ENG)</a></h5><h5 style="text-align: left"><a target="_bl
 ank" rel="noopener noreferrer nofollow" href="https://drive.google.com/fil
 e/d/1qUuVPO08MN-_yDDHEhbNmZX7yMqiLHMx/view?usp=drive_link" relative-link="
 ">FMS Sneak Peek 2026 (SPAN)</a></h5><h5 style="text-align: left"><a targe
 t="_blank" rel="noopener noreferrer nofollow" href="https://drive.google.c
 om/file/d/1m3m9bl5PDjNlJ_YRmK1aLG4hFC-HtCx1/view?usp=sharing" relative-lin
 k="">FMS Sneak Peek 2026 JPG Arabic</a></h5><p></p><p></p><p></p>
LOCATION:1649 Amwell Rd\, Somerset\, NJ 08873\, USA
SUMMARY:FMS Sneak Peek at SGS
END:VEVENT
BEGIN:VEVENT
DTSTAMP:20260423T111314Z
UID:6cbdc3b7-dff5-4da1-aa12-093b423c71a0
DTSTART:20260428T193000
DTEND:20260428T210000
DESCRIPTION:
LOCATION:
SUMMARY:BOE Meeting
END:VEVENT
BEGIN:VEVENT
DTSTAMP:20260423T111314Z
UID:8e24ed8c-95cb-4589-bfe4-3086b87f362a
DTSTART:20260430T080000
DTEND:20260430T080000
DESCRIPTION:<p><strong>Important Reminder – Late Buses</strong></p><p><br
 ><span>Please note that April 30th will be the final day for late buses fo
 r the 2025–2026 school year. </span></p><p><span>We ask that families pl
 an accordingly for after-school activities.</span></p>
LOCATION:
SUMMARY:Important Reminder – Late Buses
END:VEVENT
BEGIN:VEVENT
DTSTAMP:20260423T111314Z
UID:46832b14-6374-4e51-bfad-74e44e9dffcb
DTSTART:20260430T184500
DTEND:20260430T200000
DESCRIPTION:<p>Follow us on Instagram @ftps_fvppa</p>
LOCATION:
SUMMARY:FMS Combined Spring Chorus Concert at HSC
END:VEVENT
BEGIN:VEVENT
DTSTAMP:20260423T111314Z
UID:8f6cc454-baee-4b03-a69d-25de31ca7519
DTSTART:20260506T071500
DTEND:20260506T071500
DESCRIPTION:
LOCATION:
SUMMARY:National School Nurse Day
END:VEVENT
BEGIN:VEVENT
DTSTAMP:20260423T111314Z
UID:6f4e2cee-32da-4105-95bb-8feb9a256eeb
DTSTART:20260506T143000
DTEND:20260506T143000
DESCRIPTION:
LOCATION:1649 Amwell Rd\, Somerset\, NJ 08873\, USA
SUMMARY:Student Council Meeting                  (Room 502)
END:VEVENT
BEGIN:VEVENT
DTSTAMP:20260423T111314Z
UID:da1cb8f7-d5c8-4b21-9aef-78d9bddf3a1d
DTSTART:20260508T190000
DTEND:20260508T210000
DESCRIPTION:<p><span>Dance Showcase @ HSC- 7pm</span></p><p>Follow us on In
 stagram @ftps_fvppa</p>
LOCATION:
SUMMARY:SGS Spring Dance Showcase
END:VEVENT
BEGIN:VEVENT
DTSTAMP:20260423T111314Z
UID:d7c39984-7938-445f-abaa-e24b15479f59
DTSTART:20260513T180000
DTEND:20260513T180000
DESCRIPTION:<p style="text-align: center"><span>Be A Part of It!</span></p>
 <p style="text-align: center"><span>Green Team Family Night</span></p><p s
 tyle="text-align: center"><span>Begins at 6pm</span></p>
LOCATION:1649 Amwell Rd\, Somerset\, NJ 08873\, USA
SUMMARY:The SGS Green Team Celebration!
END:VEVENT
BEGIN:VEVENT
DTSTAMP:20260423T111314Z
UID:be1cf970-14c7-4c1f-9b8c-81eb3920c8f2
DTSTART:20260514T143000
DTEND:20260514T143000
DESCRIPTION:<p><span><strong>After School Activities/Office Hours</strong><
 /span></p><p><span>Late buses are scheduled to end on Thursday May 14th.</
 span></p><p><br></p>
LOCATION:1649 Amwell Rd\, Somerset\, NJ 08873\, USA
SUMMARY:Last Day for Late Buses at SGS
END:VEVENT
BEGIN:VEVENT
DTSTAMP:20260423T111314Z
UID:bafa146d-536f-47bb-9e33-97e2a24afa22
DTSTART:20260518T190000
DTEND:20260518T200000
DESCRIPTION:<h3><strong>PTSO Virtual Parent Academy –</strong></h3><h4>Pl
 ease register once at the Zoom link below by selecting all the dates you p
 lan to attend. This gives you the recurring meeting link for the year.</h4
 ><p>This<a target="_blank" rel="noopener noreferrer nofollow" href="https:
 //drive.google.com/file/d/1d139aAzDPKcxDRb0p9OowJ_IXu9wu4lz/view?usp=shari
 ng"><strong> flyer</strong></a><strong> </strong>includes the One-time Zoo
 m registration link.</p><p><strong>Meeting Dates (7:00 PM:)</strong></p><p
 >• Mon\, <strong>May 18\, 2026</strong></p><p>We hope to see you there!<
 /p>
LOCATION:
SUMMARY:PTSO Virtual Parent Academy 
END:VEVENT
BEGIN:VEVENT
DTSTAMP:20260423T111314Z
UID:8af8e136-c5a0-4680-95d1-84bb051df9f0
DTSTART:20260519T180000
DTEND:20260519T180000
DESCRIPTION:
LOCATION:1649 Amwell Rd\, Somerset\, NJ 08873\, USA
SUMMARY:Academic Excellence Ceremony
END:VEVENT
BEGIN:VEVENT
DTSTAMP:20260423T111314Z
UID:c465e456-92d1-4bc6-8ca5-6cf640ba03ae
DTSTART:20260520T180000
DTEND:20260520T180000
DESCRIPTION:<p style="text-align: center">Be A Part of It!</p><p style="tex
 t-align: center"><a target="_blank" rel="noopener noreferrer nofollow" hre
 f="https://drive.google.com/file/d/1V37cQg-ktqAm7lXwh2KmhlyOjhVKLg9T/view?
 usp=sharing" relative-link="">8th Grade "Sleepover" Event</a></p>
LOCATION:
SUMMARY:8th Grade "Sleepover" Event
END:VEVENT
BEGIN:VEVENT
DTSTAMP:20260423T111314Z
UID:491b0810-406b-4d21-9d0b-617430853e78
DTSTART:20260520T190000
DTEND:20260520T200000
DESCRIPTION:<p>Follow us on Instagram @ftps_fvppa</p>
LOCATION:
SUMMARY:SGS Spring Band Concert	
END:VEVENT
BEGIN:VEVENT
DTSTAMP:20260423T111314Z
UID:5f9a5a98-f6c8-46ac-b670-db14a805015c
DTSTART;VALUE=DATE:20260525
DTEND;VALUE=DATE:20260526
DESCRIPTION:<p>Memorial Day- NO SCHOOL</p>
LOCATION:
SUMMARY:Memorial Day- NO SCHOOL
END:VEVENT
BEGIN:VEVENT
DTSTAMP:20260423T111314Z
UID:8b3f0d5e-5968-4dba-8622-de8097a2f1f4
DTSTART;VALUE=DATE:20260525
DTEND;VALUE=DATE:20260526
DESCRIPTION:
LOCATION:
SUMMARY:HOLIDAY
END:VEVENT
BEGIN:VEVENT
DTSTAMP:20260423T111314Z
UID:c4dc1914-0ae3-4655-ac1b-2d004b9ac881
DTSTART:20260526T073000
DTEND:20260526T073000
DESCRIPTION:
LOCATION:1649 Amwell Rd\, Somerset\, NJ 08873\, USA
SUMMARY:Winter/Spring Pep Rally
END:VEVENT
BEGIN:VEVENT
DTSTAMP:20260423T111314Z
UID:c7e4ccd8-4156-45e4-954b-c2c43a587255
DTSTART:20260526T180000
DTEND:20260527T010000
DESCRIPTION:<h3 style="text-align: center">Be A Part of It!</h3><h4 style="
 text-align: center">Click here for event details: <a target="_blank" rel="
 noopener noreferrer nofollow" href="https://drive.google.com/file/d/1V37cQ
 g-ktqAm7lXwh2KmhlyOjhVKLg9T/view?usp=sharing" relative-link="">Late Night 
 with 8th Grade</a></h4><h5></h5>
LOCATION:1649 Amwell Rd\, Somerset\, NJ 08873\, USA
SUMMARY:Late Night with 8th Grade
END:VEVENT
BEGIN:VEVENT
DTSTAMP:20260423T111314Z
UID:ebf73013-1f7b-4e43-815e-da86433e2374
DTSTART;VALUE=DATE:20260527
DTEND;VALUE=DATE:20260528
DESCRIPTION:
LOCATION:
SUMMARY:Spring Recess- NO SCHOOL
END:VEVENT
BEGIN:VEVENT
DTSTAMP:20260423T111314Z
UID:297973e9-339c-4fb4-a712-c9079ff3d660
DTSTART;VALUE=DATE:20260527
DTEND;VALUE=DATE:20260528
DESCRIPTION:
LOCATION:
SUMMARY:Schools Closed-Spring Recess
END:VEVENT
BEGIN:VEVENT
DTSTAMP:20260423T111314Z
UID:0f5570ac-842c-4c45-a45f-5ba70132e87f
DTSTART:20260528T193000
DTEND:20260528T210000
DESCRIPTION:
LOCATION:
SUMMARY:BOE Meeting
END:VEVENT
BEGIN:VEVENT
DTSTAMP:20260423T111314Z
UID:03e5ae0c-72e9-4a86-a7f9-25fd88bfaa6b
DTSTART:20260601T073000
DTEND:20260605T073000
DESCRIPTION:<p>The <strong>Scholastic Book Fair </strong>is coming!&nbsp\;<
 /p><p>Stay tuned for more details! </p>
LOCATION:
SUMMARY:Scholastic Book Fair (JUN 1-5/ SGS Media Center)
END:VEVENT
BEGIN:VEVENT
DTSTAMP:20260423T111314Z
UID:67fb2ecc-9e39-4475-8a2b-aadffb039971
DTSTART:20260603T143000
DTEND:20260603T143000
DESCRIPTION:
LOCATION:1649 Amwell Rd\, Somerset\, NJ 08873\, USA
SUMMARY:Student Council Meeting             (Room 502)
END:VEVENT
BEGIN:VEVENT
DTSTAMP:20260423T111314Z
UID:aa39bb02-a5a8-43c6-b99c-226e18e5827f
DTSTART:20260604T073000
DTEND:20260604T073000
DESCRIPTION:<p>Today's the day for our 6th and 7th Grade Field Day!</p>
LOCATION:
SUMMARY:6th and 7th Grade- Field Day
END:VEVENT
BEGIN:VEVENT
DTSTAMP:20260423T111314Z
UID:d44eb3ef-8870-4eca-9672-e2a797e2e49c
DTSTART:20260604T093000
DTEND:20260604T093000
DESCRIPTION:<blockquote style="padding-left: 24px\; border-left: 1px solid 
 rgba(0\, 0\, 0\, 0.1)\; font-style: italic\;" class="blockquote"><p style=
 "text-align: center"><a href="https://drive.google.com/file/d/1Zkhs851WA-3
 i8oWKyJ9f4XzQazBZq5qP/view?usp=sharing" target="_blank" rel="noopener nore
 ferrer nofollow" path-prefix=""><strong><em>8th Grade Field Trip – Six F
 lags Great Adventure</em></strong></a><strong><em><br></em></strong><em> <
 /em><strong><em>Thursday\, June 4\, 2026<br></em></strong><em> </em><stron
 g><em>9:30 AM – 7:00 PM<br></em></strong><em> </em><strong><em>$60</em><
 /strong><em> (includes park admission\, meal &amp\; drink ticket\, t-shirt
 \, and transportation)</em></p></blockquote><p><strong>Important Informati
 on:&nbsp\;</strong></p><ul><li><p>Students must wear shoes and school-appr
 opriate attire on the trip.&nbsp\;</p></li><li><p>No large book bags will 
 be allowed on the trip for security purposes.&nbsp\;</p></li><li><p>Outsid
 e food or drinks will not be allowed on the trip.</p></li><li><p>Six Flags
  is a cashless establishment.&nbsp\;</p></li><li><p>Cash or checks made pa
 yable to FMS.</p></li></ul><p style="text-align: center"><a href="https://
 docs.google.com/document/d/1we57815vV7ZPaCrN1X6MWBs5FclR4EQWKyFjQOAFe4c/ed
 it?usp=drive_link" target="_blank" rel="noopener noreferrer nofollow" path
 -prefix=""><strong>PERMISSION SLIP\, HEALTH FORM</strong></a><strong>\, AN
 D FINAL PAYMENT MUST BE TURNED IN&nbsp\;</strong></p><p style="text-align:
  center"><strong>NO LATER THAN MAY 8\, 2026</strong></p><p>_______________
 ________________________________________________________________________</
 p><p style="text-align: center"><strong>8el EXCURSIÓN DE ESTUDIOS DE GRAD
 O - Six Flags: La Gran Aventura</strong></p><p style="text-align: center">
 <strong>4 de junio de 2026&nbsp\; <em>9:30 a. m. - 7:00 p.m.</em></strong>
 </p><p><strong>Otra información importante:</strong></p><ul><li><p>Los es
 tudiantes deben usar zapatos y ropa apropiada para la escuela en el viaje.
 </p></li><li><p>Por razones de seguridad\, no se permitirán mochilas gran
 des durante el viaje.</p></li><li><p>No se permitirán comidas ni bebidas 
 del exterior durante el viaje.</p></li><li><p>Six Flags es un lugar&nbsp\;
  donde no se usa el dinero en efectivo.</p></li><li><p>Efectivo o cheques 
 a nombre de FMS.</p></li></ul><p style="text-align: center"><a href="https
 ://docs.google.com/document/d/13MgNTXwwlPCjx5EtmTpYQ26aEAmkXV-E2P_alNhSOho
 /edit?usp=drive_link" target="_blank" rel="noopener noreferrer nofollow" p
 ath-prefix=""><strong>EL PERMISO\, EL FORMULARIO DE SALUD</strong></a><str
 ong> Y EL PAGO FINAL DEBEN ENTREGARSE</strong></p><p style="text-align: ce
 nter"><strong>A MÁS TARDAR EL 8 DE MAYO DE 2026</strong></p><p><br><br></
 p>
LOCATION:
SUMMARY:🎢 8th Grade Field Trip – Six Flags Great Adventure
END:VEVENT
BEGIN:VEVENT
DTSTAMP:20260423T111314Z
UID:e9ed305d-459e-4e93-8d42-af259f999ade
DTSTART:20260608T123000
DTEND:20260608T123000
DESCRIPTION:<p>SGS Spring Orchestra Concert Rehearsal with Ms. Ocasio</p>
LOCATION:1649 Amwell Rd\, Somerset\, NJ 08873\, USA
SUMMARY:SGS Spring Orchestra Concert Rehearsal with Ms. Ocasio
END:VEVENT
BEGIN:VEVENT
DTSTAMP:20260423T111314Z
UID:39a82a20-94b8-4f9f-8e95-57d494d31241
DTSTART:20260609T073000
DTEND:20260609T073000
DESCRIPTION:<p>Today's the day of our 6th Grade Field Trip!</p>
LOCATION:
SUMMARY:6th Grade Field Trip
END:VEVENT
BEGIN:VEVENT
DTSTAMP:20260423T111314Z
UID:9dd50002-673a-4838-a6ca-550ddd186760
DTSTART:20260609T190000
DTEND:20260609T200000
DESCRIPTION:<p>Follow us on Instagram @ftps_fvppa</p>
LOCATION:
SUMMARY:SGS Spring Orchestra Concert
END:VEVENT
BEGIN:VEVENT
DTSTAMP:20260423T111314Z
UID:0ea5ea92-a795-4b88-beea-db5cbf99d8ef
DTSTART:20260610T180000
DTEND:20260610T221500
DESCRIPTION:<p style="text-align: center">We are excited to officially shar
 e details regarding the <a href="https://drive.google.com/file/d/1Zkhs851W
 A-3i8oWKyJ9f4XzQazBZq5qP/view?usp=sharing" target="_blank" rel="noopener n
 oreferrer nofollow" path-prefix=""><strong>Franklin Middle School Class of
  2026 – 8th Grade Experience</strong></a>. These special events are desi
 gned to celebrate our students and mark this important milestone as they p
 repare to transition to high school.</p><p style="text-align: center"><str
 ong>8th Grade Formal – “Hollywood”<br></strong> <strong>Wednesday\, 
 June 10\, 2026<br></strong> <strong>6:00 PM – 10:00 PM<br></strong> <str
 ong>The Imperia<br></strong> <strong>$50</strong> (includes dinner\, desse
 rt\, dancing\, and a keepsake gift)</p><p><strong>Questions?</strong></p><
 p>Please contact:</p><ul><li><p><strong>Ms. Jessica Ding</strong> – <a h
 ref="mailto:jding@franklinboe.org" target="_blank" rel="noopener noreferre
 r nofollow" path-prefix="">jding@franklinboe.org</a></p></li><li><p><stron
 g>Ms. Robin Both</strong> – <a href="mailto:rboth@franklinboe.org" targe
 t="_blank" rel="noopener noreferrer nofollow" path-prefix="">rboth@frankli
 nboe.org</a></p></li></ul>
LOCATION:1714 Easton Ave\, Somerset\, NJ 08873\, USA
SUMMARY:🎬 8th Grade Formal – “Hollywood”
END:VEVENT
BEGIN:VEVENT
DTSTAMP:20260423T111314Z
UID:6dd6183d-90f5-497f-9f96-6d0ef07cec94
DTSTART:20260611T080000
DTEND:20260611T080000
DESCRIPTION:<p>7th grade Field Trip</p>
LOCATION:
SUMMARY:7th Grade Field Trip
END:VEVENT
BEGIN:VEVENT
DTSTAMP:20260423T111314Z
UID:ff0e073d-13d7-43f9-9b58-2961c90f2524
DTSTART;VALUE=DATE:20260612
DTEND;VALUE=DATE:20260613
DESCRIPTION:
LOCATION:
SUMMARY:Minimum Session
END:VEVENT
BEGIN:VEVENT
DTSTAMP:20260423T111314Z
UID:6a9ed4b1-2ffb-4a85-b7f5-6b7f386704e3
DTSTART:20260616T160000
DTEND:20260616T190000
DESCRIPTION:<p style="text-align: center">You're invited! </p><p style="tex
 t-align: center"><a target="_blank" rel="noopener noreferrer nofollow" hre
 f="https://drive.google.com/file/d/1Rs-Jg1GPUqJcEf22ZPcy9s0_y6ft3fKg/view?
 usp=drive_link" relative-link="">SGS 2026 Art Show</a> (Media Center)</p><
 p></p>
LOCATION:1649 Amwell Rd\, Somerset\, NJ 08873\, USA
SUMMARY:SGS Art Show (Media Center)
END:VEVENT
BEGIN:VEVENT
DTSTAMP:20260423T111314Z
UID:a4b77e3c-474e-49ed-b00a-a53c734dc808
DTSTART:20260617T180000
DTEND:20260617T193000
DESCRIPTION:
LOCATION:1649 Amwell Rd\, Somerset\, NJ 08873\, USA
SUMMARY:Summer Reading Kickoff
END:VEVENT
BEGIN:VEVENT
DTSTAMP:20260423T111314Z
UID:0f337b87-441a-46bf-b132-966e5eaa7484
DTSTART:20260618T080000
DTEND:20260618T080000
DESCRIPTION:<p style="text-align: center"><a href="https://drive.google.com
 /file/d/1Zkhs851WA-3i8oWKyJ9f4XzQazBZq5qP/view?usp=sharing" target="_blank
 " rel="noopener noreferrer nofollow" path-prefix=""><span><strong>8th Grad
 e Social Events</strong></span></a><span><strong><br></strong>Students wil
 l also participate in celebratory social activities throughout the day on 
 June 18th at each campus\, including a special Ice Cream Truck celebration
 .</span></p>
LOCATION:
SUMMARY:🍦 8th Grade Social/  Ice Cream Truck Celebration
END:VEVENT
BEGIN:VEVENT
DTSTAMP:20260423T111314Z
UID:cba8c724-9056-4557-a4ad-f5c8f3c4bdc8
DTSTART;VALUE=DATE:20260619
DTEND;VALUE=DATE:20260620
DESCRIPTION:
LOCATION:
SUMMARY:Schools Closed
END:VEVENT
BEGIN:VEVENT
DTSTAMP:20260423T111314Z
UID:a0ffa46b-0e72-44bf-a8a8-597ebf4cf3cd
DTSTART;VALUE=DATE:20260622
DTEND;VALUE=DATE:20260625
DESCRIPTION:
LOCATION:
SUMMARY:Minimum Session FHS 
END:VEVENT
BEGIN:VEVENT
DTSTAMP:20260423T111314Z
UID:4b88175a-4491-421c-9cbe-966469baa2e2
DTSTART:20260623T180000
DTEND:20260623T193000
DESCRIPTION:
LOCATION:1649 Amwell Rd\, Somerset\, NJ 08873\, USA
SUMMARY:Math Awards Night
END:VEVENT
BEGIN:VEVENT
DTSTAMP:20260423T111314Z
UID:4fa64df8-343f-4ba6-8bcc-dc9e04c5ce46
DTSTART:20260623T193000
DTEND:20260623T210000
DESCRIPTION:
LOCATION:
SUMMARY:BOE Meeting
END:VEVENT
BEGIN:VEVENT
DTSTAMP:20260423T111314Z
UID:85b77f28-0e0c-49c6-899e-25b0f3f9bd2e
DTSTART;VALUE=DATE:20260625
DTEND;VALUE=DATE:20260627
DESCRIPTION:
LOCATION:
SUMMARY:Minimum Session All Schools
END:VEVENT
BEGIN:VEVENT
DTSTAMP:20260423T111314Z
UID:2329c50f-11f0-4d30-a929-02dd827c89ac
DTSTART:20260625T160000
DTEND:20260625T160000
DESCRIPTION:<p></p><p style="text-align: center"><span><strong>8th Grade Mo
 ving Up Ceremony</strong></span></p><p style="text-align: center"><span>Th
 ursday\, June 25\, 2026<br> Franklin High School Gym<br> 4:00 PM</span></p
 >
LOCATION:500 Elizabeth Ave\, Somerset\, NJ 08873\, USA
SUMMARY:🎓 8th Grade Moving Up Ceremony
END:VEVENT
BEGIN:VEVENT
DTSTAMP:20260423T111314Z
UID:661c1131-dae2-4452-a387-3d4314574e4f
DTSTART:20260730T193000
DTEND:20260730T210000
DESCRIPTION:
LOCATION:
SUMMARY:BOE Meeting
END:VEVENT
BEGIN:VEVENT
DTSTAMP:20260423T111314Z
UID:0937c0d0-bb48-4d89-a923-b6b2f186183d
DTSTART:20260827T193000
DTEND:20260827T210000
DESCRIPTION:
LOCATION:
SUMMARY:BOE Meeting
END:VEVENT
BEGIN:VEVENT
DTSTAMP:20260423T111314Z
UID:41b04467-2acf-44f1-8ccd-31b42eb19c1d
DTSTART:20260924T193000
DTEND:20260924T210000
DESCRIPTION:
LOCATION:
SUMMARY:BOE Meeting
END:VEVENT
BEGIN:VEVENT
DTSTAMP:20260423T111314Z
UID:93335e20-2936-4965-bb88-6aa74f5bfd89
DTSTART:20261027T193000
DTEND:20261027T210000
DESCRIPTION:
LOCATION:
SUMMARY:BOE Meeting
END:VEVENT
BEGIN:VEVENT
DTSTAMP:20260423T111314Z
UID:ca67eb3d-4532-42cd-a602-e1031815d712
DTSTART:20261119T193000
DTEND:20261119T210000
DESCRIPTION:
LOCATION:
SUMMARY:BOE Meeting
END:VEVENT
BEGIN:VEVENT
DTSTAMP:20260423T111314Z
UID:cc5eb405-9db3-42cd-b04b-ae0bb3fdfa8e
DTSTART:20261217T193000
DTEND:20261217T210000
DESCRIPTION:
LOCATION:
SUMMARY:BOE Meeting
END:VEVENT
BEGIN:VEVENT
DTSTAMP:20260423T111314Z
UID:f1f5f579-27d8-4aad-9e34-79930e3b7817
DTSTART:20270105T193000
DTEND:20270105T210000
DESCRIPTION:
LOCATION:
SUMMARY:BOE Reorganization Meeting
END:VEVENT
END:VCALENDAR
