BEGIN:VCALENDAR
VERSION:2.0
PRODID:icalendar-ruby
CALSCALE:GREGORIAN
BEGIN:VTIMEZONE
TZID:America/New_York
BEGIN:DAYLIGHT
DTSTART:20260308T030000
TZOFFSETFROM:-0500
TZOFFSETTO:-0400
RRULE:FREQ=YEARLY;BYDAY=2SU;BYMONTH=3
TZNAME:EDT
END:DAYLIGHT
BEGIN:STANDARD
DTSTART:20261101T010000
TZOFFSETFROM:-0400
TZOFFSETTO:-0500
RRULE:FREQ=YEARLY;BYDAY=1SU;BYMONTH=11
TZNAME:EST
END:STANDARD
END:VTIMEZONE
BEGIN:VEVENT
DTSTAMP:20260419T124453Z
UID:20928d1d-2b9d-428c-9a80-d1368dfccd30
DTSTART;VALUE=DATE:20260401
DTEND;VALUE=DATE:20260501
DESCRIPTION:
LOCATION:
SUMMARY:PBIS Little Ceaser's Pizza Fundraiser
END:VEVENT
BEGIN:VEVENT
DTSTAMP:20260419T124453Z
UID:030c7f4e-b1db-4b92-ae37-f7256de0f74a
DTSTART;VALUE=DATE:20260401
DTEND;VALUE=DATE:20260501
DESCRIPTION:
LOCATION:
SUMMARY:PBIS Little Ceaser's Pizza Fundraisers
END:VEVENT
BEGIN:VEVENT
DTSTAMP:20260419T124453Z
UID:436a6e6f-acec-48d1-90f3-2c8839dfb30c
DTSTART;VALUE=DATE:20260420
DTEND;VALUE=DATE:20260421
DESCRIPTION:
LOCATION:
SUMMARY:E Day
END:VEVENT
BEGIN:VEVENT
DTSTAMP:20260419T124453Z
UID:a06399fe-d361-4c81-9de3-15100863cb31
DTSTART;VALUE=DATE:20260421
DTEND;VALUE=DATE:20260422
DESCRIPTION:
LOCATION:
SUMMARY:F Day
END:VEVENT
BEGIN:VEVENT
DTSTAMP:20260419T124453Z
UID:610c376c-4b5d-4bf7-aeee-6b48296bd188
DTSTART:20260421T183000
DTEND:20260421T191500
DESCRIPTION:
LOCATION:
SUMMARY:InPerson and Virtual: PTO MEETING
END:VEVENT
BEGIN:VEVENT
DTSTAMP:20260419T124453Z
UID:5b12709b-e8d3-4788-8d01-0494685c03a1
DTSTART:20260421T183000
DTEND:20260421T193000
DESCRIPTION:
LOCATION:
SUMMARY:PTO Meeting
END:VEVENT
BEGIN:VEVENT
DTSTAMP:20260419T124453Z
UID:a242e29f-a7be-4cae-ae0f-71488ef5f28c
DTSTART;VALUE=DATE:20260422
DTEND;VALUE=DATE:20260423
DESCRIPTION:
LOCATION:
SUMMARY:A Day
END:VEVENT
BEGIN:VEVENT
DTSTAMP:20260419T124453Z
UID:874a7db0-d098-4705-8308-3468c6c5371e
DTSTART;VALUE=DATE:20260422
DTEND;VALUE=DATE:20260423
DESCRIPTION:
LOCATION:
SUMMARY:Administrative Professionals (i.e. Secretary) Day
END:VEVENT
BEGIN:VEVENT
DTSTAMP:20260419T124453Z
UID:ae1a4a10-7d28-4a54-8c9c-a29ba790834c
DTSTART;VALUE=DATE:20260423
DTEND;VALUE=DATE:20260424
DESCRIPTION:
LOCATION:
SUMMARY:B Day
END:VEVENT
BEGIN:VEVENT
DTSTAMP:20260419T124453Z
UID:35f80bbe-c5a3-4450-9755-9f1e2037436b
DTSTART;VALUE=DATE:20260424
DTEND;VALUE=DATE:20260425
DESCRIPTION:
LOCATION:
SUMMARY:C Day
END:VEVENT
BEGIN:VEVENT
DTSTAMP:20260419T124453Z
UID:cbe1a7bf-ac5a-4188-8c3e-dac75cf9e2d9
DTSTART;VALUE=DATE:20260427
DTEND;VALUE=DATE:20260428
DESCRIPTION:
LOCATION:
SUMMARY:D Day
END:VEVENT
BEGIN:VEVENT
DTSTAMP:20260419T124453Z
UID:b1439154-e576-4b90-84d4-8db7e6827236
DTSTART;VALUE=DATE:20260428
DTEND;VALUE=DATE:20260429
DESCRIPTION:
LOCATION:
SUMMARY:E Day
END:VEVENT
BEGIN:VEVENT
DTSTAMP:20260419T124453Z
UID:7d57f225-004b-4cc0-b550-a514c80aa69a
DTSTART:20260428T193000
DTEND:20260428T210000
DESCRIPTION:
LOCATION:
SUMMARY:BOE Meeting
END:VEVENT
BEGIN:VEVENT
DTSTAMP:20260419T124453Z
UID:741acc20-b6ee-461c-81e6-58e670daba83
DTSTART;VALUE=DATE:20260429
DTEND;VALUE=DATE:20260430
DESCRIPTION:
LOCATION:
SUMMARY:F Day
END:VEVENT
BEGIN:VEVENT
DTSTAMP:20260419T124453Z
UID:19356032-21c8-4036-9f4f-87af1e399375
DTSTART;VALUE=DATE:20260430
DTEND;VALUE=DATE:20260501
DESCRIPTION:
LOCATION:
SUMMARY:A Day
END:VEVENT
BEGIN:VEVENT
DTSTAMP:20260419T124453Z
UID:f244967e-ddbd-4168-9590-b41a99926ae5
DTSTART;VALUE=DATE:20260501
DTEND;VALUE=DATE:20260502
DESCRIPTION:
LOCATION:
SUMMARY:B Day
END:VEVENT
BEGIN:VEVENT
DTSTAMP:20260419T124453Z
UID:56f2589d-f0ee-416d-b105-237d5834ec29
DTSTART:20260501T170000
DTEND:20260501T220000
DESCRIPTION:
LOCATION:
SUMMARY:Somerset Patriots nights
END:VEVENT
BEGIN:VEVENT
DTSTAMP:20260419T124453Z
UID:5c8aeca0-90b9-4627-baaf-062a305cda05
DTSTART:20260501T183000
DTEND:20260501T203000
DESCRIPTION:
LOCATION:
SUMMARY:Diversity Night
END:VEVENT
BEGIN:VEVENT
DTSTAMP:20260419T124453Z
UID:52798b35-50d0-477d-8f8f-ab8c4e4f8c24
DTSTART;VALUE=DATE:20260505
DTEND;VALUE=DATE:20260507
DESCRIPTION:
LOCATION:
SUMMARY:NJSLA: MATH
END:VEVENT
BEGIN:VEVENT
DTSTAMP:20260419T124453Z
UID:cf67cb10-dc57-4ace-990b-c75b66500e43
DTSTART;VALUE=DATE:20260505
DTEND;VALUE=DATE:20260506
DESCRIPTION:
LOCATION:
SUMMARY:NJSLA: MATH
END:VEVENT
BEGIN:VEVENT
DTSTAMP:20260419T124453Z
UID:4f3e90ea-a744-432c-8001-9624f0f9b278
DTSTART;VALUE=DATE:20260507
DTEND;VALUE=DATE:20260508
DESCRIPTION:
LOCATION:
SUMMARY:NJSLA: MATH
END:VEVENT
BEGIN:VEVENT
DTSTAMP:20260419T124453Z
UID:fa0102d2-91ab-4808-b747-3dddd80d32a0
DTSTART;VALUE=DATE:20260512
DTEND;VALUE=DATE:20260515
DESCRIPTION:
LOCATION:
SUMMARY:NJSLA: ELA
END:VEVENT
BEGIN:VEVENT
DTSTAMP:20260419T124453Z
UID:f6340b68-c075-4e91-8def-52daa49d9622
DTSTART:20260519T183000
DTEND:20260519T191500
DESCRIPTION:
LOCATION:
SUMMARY:InPerson and Virtual: PTO MEETING
END:VEVENT
BEGIN:VEVENT
DTSTAMP:20260419T124453Z
UID:665e339e-724d-481e-af8c-4681827a98ab
DTSTART:20260519T183000
DTEND:20260519T191500
DESCRIPTION:
LOCATION:
SUMMARY:InPerson and Virtual: PTO MEETING
END:VEVENT
BEGIN:VEVENT
DTSTAMP:20260419T124453Z
UID:3bdb2753-03c0-48e1-a113-8f62c5d5b8a5
DTSTART:20260519T183000
DTEND:20260519T193000
DESCRIPTION:
LOCATION:
SUMMARY:PTO Meeting
END:VEVENT
BEGIN:VEVENT
DTSTAMP:20260419T124453Z
UID:67e3c1d2-1a04-4f41-8683-68c8b5f6cf15
DTSTART;VALUE=DATE:20260525
DTEND;VALUE=DATE:20260526
DESCRIPTION:
LOCATION:
SUMMARY:HOLIDAY
END:VEVENT
BEGIN:VEVENT
DTSTAMP:20260419T124453Z
UID:e8611323-1345-4d0e-8008-afe90c557086
DTSTART;VALUE=DATE:20260527
DTEND;VALUE=DATE:20260528
DESCRIPTION:
LOCATION:
SUMMARY:Schools Closed-Spring Recess
END:VEVENT
BEGIN:VEVENT
DTSTAMP:20260419T124453Z
UID:5763ab0a-9226-42a3-a395-b8d6b925647d
DTSTART:20260528T193000
DTEND:20260528T210000
DESCRIPTION:
LOCATION:
SUMMARY:BOE Meeting
END:VEVENT
BEGIN:VEVENT
DTSTAMP:20260419T124453Z
UID:4c695462-c05f-4fc8-b826-cbe580d7bf0a
DTSTART;VALUE=DATE:20260612
DTEND;VALUE=DATE:20260613
DESCRIPTION:
LOCATION:
SUMMARY:Minimum Session
END:VEVENT
BEGIN:VEVENT
DTSTAMP:20260419T124453Z
UID:9642283d-d648-4ecd-9e80-c27e1ecf2574
DTSTART:20260616T183000
DTEND:20260616T191500
DESCRIPTION:
LOCATION:
SUMMARY:InPerson and Virtual: PTO MEETING
END:VEVENT
BEGIN:VEVENT
DTSTAMP:20260419T124453Z
UID:732002cd-c69b-462f-98f8-5f4d7ab4ff6b
DTSTART;VALUE=DATE:20260619
DTEND;VALUE=DATE:20260620
DESCRIPTION:
LOCATION:
SUMMARY:Schools Closed
END:VEVENT
BEGIN:VEVENT
DTSTAMP:20260419T124453Z
UID:fccfc3fb-ba5c-42a4-a638-52fb19e2e340
DTSTART;VALUE=DATE:20260622
DTEND;VALUE=DATE:20260625
DESCRIPTION:
LOCATION:
SUMMARY:Minimum Session FHS 
END:VEVENT
BEGIN:VEVENT
DTSTAMP:20260419T124453Z
UID:2da365c0-e0de-4324-8d57-5ced282b5052
DTSTART:20260623T193000
DTEND:20260623T210000
DESCRIPTION:
LOCATION:
SUMMARY:BOE Meeting
END:VEVENT
BEGIN:VEVENT
DTSTAMP:20260419T124453Z
UID:7bfc6ee0-7543-43fd-bd41-182721193d1c
DTSTART;VALUE=DATE:20260625
DTEND;VALUE=DATE:20260627
DESCRIPTION:
LOCATION:
SUMMARY:Minimum Session All Schools
END:VEVENT
BEGIN:VEVENT
DTSTAMP:20260419T124453Z
UID:3193c72a-e94c-4226-a9a7-1a936f3191ff
DTSTART:20260730T193000
DTEND:20260730T210000
DESCRIPTION:
LOCATION:
SUMMARY:BOE Meeting
END:VEVENT
BEGIN:VEVENT
DTSTAMP:20260419T124453Z
UID:5c19983e-8ae7-4c94-9786-7ac1928f93a7
DTSTART:20260827T193000
DTEND:20260827T210000
DESCRIPTION:
LOCATION:
SUMMARY:BOE Meeting
END:VEVENT
BEGIN:VEVENT
DTSTAMP:20260419T124453Z
UID:a26abcf0-eb83-4267-b0a1-bfe88a93a287
DTSTART:20260924T193000
DTEND:20260924T210000
DESCRIPTION:
LOCATION:
SUMMARY:BOE Meeting
END:VEVENT
BEGIN:VEVENT
DTSTAMP:20260419T124453Z
UID:19c18b37-4cd0-479b-8920-6439a2e426b8
DTSTART:20261027T193000
DTEND:20261027T210000
DESCRIPTION:
LOCATION:
SUMMARY:BOE Meeting
END:VEVENT
BEGIN:VEVENT
DTSTAMP:20260419T124453Z
UID:0a466e19-19dd-427e-9163-f5d22e60a711
DTSTART:20261119T193000
DTEND:20261119T210000
DESCRIPTION:
LOCATION:
SUMMARY:BOE Meeting
END:VEVENT
BEGIN:VEVENT
DTSTAMP:20260419T124453Z
UID:8b2daee3-8a9f-4496-a05f-47fb16ca0bfb
DTSTART:20261217T193000
DTEND:20261217T210000
DESCRIPTION:
LOCATION:
SUMMARY:BOE Meeting
END:VEVENT
BEGIN:VEVENT
DTSTAMP:20260419T124453Z
UID:151d4d48-7938-41e8-9e84-8eac008a559d
DTSTART:20270105T193000
DTEND:20270105T210000
DESCRIPTION:
LOCATION:
SUMMARY:BOE Reorganization Meeting
END:VEVENT
END:VCALENDAR
