BEGIN:VCALENDAR
VERSION:2.0
PRODID:icalendar-ruby
CALSCALE:GREGORIAN
BEGIN:VTIMEZONE
TZID:America/Chicago
BEGIN:DAYLIGHT
DTSTART:20260308T030000
TZOFFSETFROM:-0600
TZOFFSETTO:-0500
RRULE:FREQ=YEARLY;BYDAY=2SU;BYMONTH=3
TZNAME:CDT
END:DAYLIGHT
BEGIN:STANDARD
DTSTART:20261101T010000
TZOFFSETFROM:-0500
TZOFFSETTO:-0600
RRULE:FREQ=YEARLY;BYDAY=1SU;BYMONTH=11
TZNAME:CST
END:STANDARD
END:VTIMEZONE
BEGIN:VEVENT
DTSTAMP:20260419T125405Z
UID:8cf64a16-abba-4b3b-b904-0a397c4ed9f5
DTSTART:20260421T180000
DTEND:20260421T190000
DESCRIPTION:
LOCATION:
SUMMARY:CNA Pinning @ BPSTIL
END:VEVENT
BEGIN:VEVENT
DTSTAMP:20260419T125405Z
UID:f6019c70-c887-48f6-ad86-49ecca4b6500
DTSTART:20260423T153000
DTEND:20260423T163000
DESCRIPTION:
LOCATION:
SUMMARY:Tr Dist. 1-5A Meet @ Benton
END:VEVENT
BEGIN:VEVENT
DTSTAMP:20260419T125405Z
UID:ca24d666-914d-47fe-af15-f7f0e383bfdf
DTSTART;VALUE=DATE:20260427
DTEND;VALUE=DATE:20260430
DESCRIPTION:
LOCATION:
SUMMARY:HHS Eng. I&II LEAP
END:VEVENT
BEGIN:VEVENT
DTSTAMP:20260419T125405Z
UID:1f31d479-fae9-4aef-9c8f-df7df2b19976
DTSTART:20260427T180000
DTEND:20260427T190000
DESCRIPTION:
LOCATION:
SUMMARY:ET Japan (Library)
END:VEVENT
BEGIN:VEVENT
DTSTAMP:20260419T125405Z
UID:a22cbd10-3dac-4081-8491-6cb93ec59449
DTSTART;VALUE=DATE:20260428
DTEND;VALUE=DATE:20260429
DESCRIPTION:
LOCATION:
SUMMARY:Girls Golf Regionals - Lake Charles
END:VEVENT
BEGIN:VEVENT
DTSTAMP:20260419T125405Z
UID:a188c388-d6a6-487c-a3bb-a7c3e2631f24
DTSTART:20260429T131500
DTEND:20260429T141500
DESCRIPTION:
LOCATION:
SUMMARY:Tr Reg. 1-5A Meet @ NSU
END:VEVENT
BEGIN:VEVENT
DTSTAMP:20260419T125405Z
UID:2f54cb71-35b4-48cb-bc90-89c1bd7ccbcf
DTSTART:20260429T143000
DTEND:20260429T153000
DESCRIPTION:
LOCATION:
SUMMARY:BETA Walk @ Track
END:VEVENT
BEGIN:VEVENT
DTSTAMP:20260419T125405Z
UID:32eebe35-d6eb-4f57-aa00-9ba92062f110
DTSTART;VALUE=DATE:20260430
DTEND;VALUE=DATE:20260505
DESCRIPTION:
LOCATION:
SUMMARY:HHS US History LEAP
END:VEVENT
BEGIN:VEVENT
DTSTAMP:20260419T125405Z
UID:7fc18df0-2ef4-4983-850c-22d47a6c343c
DTSTART:20260501T074500
DTEND:20260501T094500
DESCRIPTION:
LOCATION:
SUMMARY:Senior Awards
END:VEVENT
BEGIN:VEVENT
DTSTAMP:20260419T125405Z
UID:0b1debc4-d53c-47d6-b9f0-86c8aa1aa869
DTSTART:20260501T180000
DTEND:20260501T190000
DESCRIPTION:
LOCATION:
SUMMARY:Mr. Debonair
END:VEVENT
BEGIN:VEVENT
DTSTAMP:20260419T125405Z
UID:4a0d071a-3230-4174-bbf7-87debc784e65
DTSTART:20260502T180000
DTEND:20260502T190000
DESCRIPTION:
LOCATION:
SUMMARY:BRBB Banquet @ Bossier Civic Center
END:VEVENT
BEGIN:VEVENT
DTSTAMP:20260419T125405Z
UID:c6ead96f-83ba-4a5a-b077-8e160fecdfd3
DTSTART:20260504T110000
DTEND:20260504T143000
DESCRIPTION:
LOCATION:
SUMMARY:Seniors 3rd & 4th Finals
END:VEVENT
BEGIN:VEVENT
DTSTAMP:20260419T125405Z
UID:6ca1b372-4409-443c-9367-9650a06f8f00
DTSTART:20260505T073000
DTEND:20260505T103000
DESCRIPTION:
LOCATION:
SUMMARY:Senior 1st & 2nd Finals
END:VEVENT
BEGIN:VEVENT
DTSTAMP:20260419T125405Z
UID:5c6dae2a-2892-489e-9c03-8ad76d45874f
DTSTART:20260505T120000
DTEND:20260505T153000
DESCRIPTION:
LOCATION:
SUMMARY:AP Government Exam
END:VEVENT
BEGIN:VEVENT
DTSTAMP:20260419T125405Z
UID:ce6ff0fe-2ec4-42c0-ae07-d0a54590e360
DTSTART;VALUE=DATE:20260506
DTEND;VALUE=DATE:20260509
DESCRIPTION:
LOCATION:
SUMMARY:HHS Civics & Biology LEAP
END:VEVENT
BEGIN:VEVENT
DTSTAMP:20260419T125405Z
UID:15d9c537-c9c5-4810-88f2-fa4003fded7e
DTSTART:20260506T120000
DTEND:20260506T153000
DESCRIPTION:
LOCATION:
SUMMARY:AP Physics Exam
END:VEVENT
BEGIN:VEVENT
DTSTAMP:20260419T125405Z
UID:b3314dca-8d3d-4faf-bb02-fce7b17c386f
DTSTART:20260507T180000
DTEND:20260507T200000
DESCRIPTION:
LOCATION:
SUMMARY:Ring Ding
END:VEVENT
BEGIN:VEVENT
DTSTAMP:20260419T125405Z
UID:78b1e5cd-d9b5-4999-b9c6-c2b5ba40c597
DTSTART;VALUE=DATE:20260508
DTEND;VALUE=DATE:20260510
DESCRIPTION:
LOCATION:
SUMMARY:State Track Meet @ LSU
END:VEVENT
BEGIN:VEVENT
DTSTAMP:20260419T125405Z
UID:23effbb4-a941-4f28-a615-e388a42a70ff
DTSTART:20260508T080000
DTEND:20260508T113000
DESCRIPTION:
LOCATION:
SUMMARY:AP US History Exam
END:VEVENT
BEGIN:VEVENT
DTSTAMP:20260419T125405Z
UID:1673414a-2cd5-43ea-b366-a25e1b1506b5
DTSTART;VALUE=DATE:20260511
DTEND;VALUE=DATE:20260514
DESCRIPTION:
LOCATION:
SUMMARY:HHS Alg. I & Geometry LEAP
END:VEVENT
BEGIN:VEVENT
DTSTAMP:20260419T125405Z
UID:e15c9fce-7351-4ba5-bee8-af6fe7f8df44
DTSTART:20260511T080000
DTEND:20260511T113000
DESCRIPTION:
LOCATION:
SUMMARY:AP Calculus Exam
END:VEVENT
BEGIN:VEVENT
DTSTAMP:20260419T125405Z
UID:020e6a54-e93f-4af8-b713-bf23aa595fa8
DTSTART:20260512T120000
DTEND:20260512T153000
DESCRIPTION:
LOCATION:
SUMMARY:AP Psychology Exam
END:VEVENT
BEGIN:VEVENT
DTSTAMP:20260419T125405Z
UID:ab124854-770a-4c22-9c09-5dc581a403a1
DTSTART:20260513T080000
DTEND:20260513T113000
DESCRIPTION:
LOCATION:
SUMMARY:AP Language & Composition Exam
END:VEVENT
BEGIN:VEVENT
DTSTAMP:20260419T125405Z
UID:39e7f7e5-e7a9-424e-8b42-7a6a0ea9738a
DTSTART:20260514T103000
DTEND:20260514T113000
DESCRIPTION:
LOCATION:
SUMMARY:Graduation Practice @ HHS
END:VEVENT
BEGIN:VEVENT
DTSTAMP:20260419T125405Z
UID:939c7a63-5e09-4855-b8b8-791e77d33070
DTSTART:20260515T080000
DTEND:20260515T113000
DESCRIPTION:
LOCATION:
SUMMARY:AP Environmental Science Exam
END:VEVENT
BEGIN:VEVENT
DTSTAMP:20260419T125405Z
UID:3b90affd-9678-4c43-ba6c-6f55ed78886f
DTSTART:20260516T110000
DTEND:20260516T120000
DESCRIPTION:
LOCATION:
SUMMARY:HHS Graduation @ BGA
END:VEVENT
BEGIN:VEVENT
DTSTAMP:20260419T125405Z
UID:c9b86d15-296d-4469-9f26-376d2a2835a4
DTSTART:20260518T104500
DTEND:20260518T143000
DESCRIPTION:
LOCATION:
SUMMARY:3rd & 4th Final Exams
END:VEVENT
BEGIN:VEVENT
DTSTAMP:20260419T125405Z
UID:ac1e35a2-418d-4e2f-acdf-319988705e3a
DTSTART:20260518T150000
DTEND:20260518T160000
DESCRIPTION:
LOCATION:
SUMMARY:Baseball Tryouts
END:VEVENT
BEGIN:VEVENT
DTSTAMP:20260419T125405Z
UID:9cf82d51-aa98-4c4f-affd-aed083c994d5
DTSTART:20260518T150000
DTEND:20260518T163000
DESCRIPTION:
LOCATION:
SUMMARY:BSoc Tryouts
END:VEVENT
BEGIN:VEVENT
DTSTAMP:20260419T125405Z
UID:3a7d5562-4dff-444f-b3e0-d14968f2e796
DTSTART:20260518T150000
DTEND:20260518T170000
DESCRIPTION:
LOCATION:
SUMMARY:VGB Tryouts @ HMS
END:VEVENT
BEGIN:VEVENT
DTSTAMP:20260419T125405Z
UID:58e7e102-cb4f-4d06-b176-521799148cdd
DTSTART:20260519T073000
DTEND:20260519T104500
DESCRIPTION:
LOCATION:
SUMMARY:1st & 2nd Finals Exams
END:VEVENT
BEGIN:VEVENT
DTSTAMP:20260419T125405Z
UID:d989885e-987f-4d7a-aa9d-2b7c81cf41fa
DTSTART:20260519T150000
DTEND:20260519T160000
DESCRIPTION:
LOCATION:
SUMMARY:Baseball Tryouts
END:VEVENT
BEGIN:VEVENT
DTSTAMP:20260419T125405Z
UID:77f27fc0-c985-4479-a7a6-19d9641f31ef
DTSTART:20260519T153000
DTEND:20260519T170000
DESCRIPTION:
LOCATION:
SUMMARY:Softball Tryouts
END:VEVENT
BEGIN:VEVENT
DTSTAMP:20260419T125405Z
UID:7afc3dc5-1a2d-4336-a715-dc90243515a7
DTSTART:20260520T153000
DTEND:20260520T173000
DESCRIPTION:
LOCATION:
SUMMARY:Volleyball Tryouts
END:VEVENT
BEGIN:VEVENT
DTSTAMP:20260419T125405Z
UID:d25d8cd6-610b-4da2-a4fb-514b3e4b5ba0
DTSTART;VALUE=DATE:20260521
DTEND;VALUE=DATE:20260523
DESCRIPTION:
LOCATION:
SUMMARY:Archery Camp
END:VEVENT
BEGIN:VEVENT
DTSTAMP:20260419T125405Z
UID:7ee0c416-fb0f-48ca-85a2-e484bcdadcfd
DTSTART;VALUE=DATE:20260526
DTEND;VALUE=DATE:20260529
DESCRIPTION:
LOCATION:
SUMMARY:Baseball Camp
END:VEVENT
BEGIN:VEVENT
DTSTAMP:20260419T125405Z
UID:95a1ac18-cf2c-4261-bf2b-cfafd44f07bf
DTSTART;VALUE=DATE:20260608
DTEND;VALUE=DATE:20260612
DESCRIPTION:
LOCATION:
SUMMARY:Basketball Camp
END:VEVENT
BEGIN:VEVENT
DTSTAMP:20260419T125405Z
UID:f0ce55e7-583c-4251-82cf-af269a028c19
DTSTART;VALUE=DATE:20260713
DTEND;VALUE=DATE:20260717
DESCRIPTION:
LOCATION:
SUMMARY:HHS Basketball Camp
END:VEVENT
BEGIN:VEVENT
DTSTAMP:20260419T125405Z
UID:15af4e16-b76c-4eac-ac8d-01283f744aaa
DTSTART:20260731T120000
DTEND:20260731T140000
DESCRIPTION:
LOCATION:
SUMMARY:Freshman Orientation
END:VEVENT
BEGIN:VEVENT
DTSTAMP:20260419T125405Z
UID:d129378a-b1da-4c57-ae3f-3d53c12dc4e1
DTSTART:20260814T180000
DTEND:20260814T190000
DESCRIPTION:
LOCATION:
SUMMARY:Back the Bucs Banquet
END:VEVENT
BEGIN:VEVENT
DTSTAMP:20260419T125405Z
UID:02e2b2b7-1eda-4ecf-9246-b90c677853f9
DTSTART:20260818T180000
DTEND:20260818T190000
DESCRIPTION:
LOCATION:
SUMMARY:Community Spirit Night
END:VEVENT
BEGIN:VEVENT
DTSTAMP:20260419T125405Z
UID:33a7433f-6c03-4586-8d4c-ecda6acbfe67
DTSTART:20260821T180000
DTEND:20260821T190000
DESCRIPTION:
LOCATION:
SUMMARY:VFB @ Minden (Scrim)
END:VEVENT
BEGIN:VEVENT
DTSTAMP:20260419T125405Z
UID:2181f2f1-c804-4c6a-add8-92d63eaefa38
DTSTART:20260828T174500
DTEND:20260828T184500
DESCRIPTION:
LOCATION:
SUMMARY:VFB vs Benton @ Jamboree
END:VEVENT
BEGIN:VEVENT
DTSTAMP:20260419T125405Z
UID:f83560f1-975e-41d6-b9f2-64149db1ba2a
DTSTART:20260831T173000
DTEND:20260831T183000
DESCRIPTION:
LOCATION:
SUMMARY:Fr FB @ Huntington
END:VEVENT
BEGIN:VEVENT
DTSTAMP:20260419T125405Z
UID:8ea91d12-d183-4e5c-a8b0-95f8b760908f
DTSTART:20260904T190000
DTEND:20260904T200000
DESCRIPTION:
LOCATION:
SUMMARY:VFB vs Homer
END:VEVENT
BEGIN:VEVENT
DTSTAMP:20260419T125405Z
UID:3910d825-d9e6-4c4f-a650-b96603af58ad
DTSTART:20260908T170000
DTEND:20260908T180000
DESCRIPTION:
LOCATION:
SUMMARY:Fr/JV FB @ Southwood
END:VEVENT
BEGIN:VEVENT
DTSTAMP:20260419T125405Z
UID:edb5125d-c775-4b21-9b5c-ca39bfa45a61
DTSTART:20260911T190000
DTEND:20260911T200000
DESCRIPTION:
LOCATION:
SUMMARY:VFB vs Southwood (Sr. Night)
END:VEVENT
BEGIN:VEVENT
DTSTAMP:20260419T125405Z
UID:fd999e1b-1fb1-49f5-bd68-e94f664b9e8b
DTSTART:20260914T170000
DTEND:20260914T180000
DESCRIPTION:
LOCATION:
SUMMARY:Fr/JV FB @ Benton
END:VEVENT
BEGIN:VEVENT
DTSTAMP:20260419T125405Z
UID:891fd103-6a1f-49b1-b789-926818d17f75
DTSTART:20260917T180000
DTEND:20260917T190000
DESCRIPTION:
LOCATION:
SUMMARY:HOCO Parade
END:VEVENT
BEGIN:VEVENT
DTSTAMP:20260419T125405Z
UID:b5b5f762-5122-42cc-95c1-e3561b0ec400
DTSTART:20260918T190000
DTEND:20260918T200000
DESCRIPTION:
LOCATION:
SUMMARY:VFB vs Glenbrook (HC)
END:VEVENT
BEGIN:VEVENT
DTSTAMP:20260419T125405Z
UID:07af5eaa-6e38-46f2-a69d-f6ae3093998a
DTSTART:20260919T200000
DTEND:20260919T223000
DESCRIPTION:
LOCATION:
SUMMARY:Homecoming Dance @ Main Gym
END:VEVENT
BEGIN:VEVENT
DTSTAMP:20260419T125405Z
UID:f66fe408-59e9-4299-87ba-c8746be9e495
DTSTART:20260921T170000
DTEND:20260921T180000
DESCRIPTION:
LOCATION:
SUMMARY:Fr/JV FB @ Shreve
END:VEVENT
BEGIN:VEVENT
DTSTAMP:20260419T125405Z
UID:55d7053a-f262-403a-832c-0f59c8f97ddd
DTSTART:20260925T190000
DTEND:20260925T200000
DESCRIPTION:
LOCATION:
SUMMARY:VFB  vs Shreve
END:VEVENT
BEGIN:VEVENT
DTSTAMP:20260419T125405Z
UID:97418ee6-2760-4049-9477-e4e9c7d9b979
DTSTART:20260928T170000
DTEND:20260928T180000
DESCRIPTION:
LOCATION:
SUMMARY:Fr/JV FB vs Parkway
END:VEVENT
BEGIN:VEVENT
DTSTAMP:20260419T125405Z
UID:a416616d-ab43-413e-9cb3-dd7dffb14ff1
DTSTART:20261001T190000
DTEND:20261001T200000
DESCRIPTION:
LOCATION:
SUMMARY:VFB @ Parkway
END:VEVENT
BEGIN:VEVENT
DTSTAMP:20260419T125405Z
UID:f6e463c5-c367-49d0-a662-02b08f52906e
DTSTART:20261005T170000
DTEND:20261005T180000
DESCRIPTION:
LOCATION:
SUMMARY:Fr/JV FB @ Northwood
END:VEVENT
BEGIN:VEVENT
DTSTAMP:20260419T125405Z
UID:45620675-938e-486e-9450-5b141f6eb0e1
DTSTART:20261009T190000
DTEND:20261009T200000
DESCRIPTION:
LOCATION:
SUMMARY:VFB @ St. Fredrick
END:VEVENT
BEGIN:VEVENT
DTSTAMP:20260419T125405Z
UID:167b9156-0b68-45b1-8a4a-34840cf43da5
DTSTART:20261012T170000
DTEND:20261012T180000
DESCRIPTION:
LOCATION:
SUMMARY:Fr/JV FB @ Byrd
END:VEVENT
BEGIN:VEVENT
DTSTAMP:20260419T125405Z
UID:50b5b6c1-74f2-4128-8adf-3a1aa32d4057
DTSTART:20261016T190000
DTEND:20261016T200000
DESCRIPTION:
LOCATION:
SUMMARY:VFB vs Byrd
END:VEVENT
BEGIN:VEVENT
DTSTAMP:20260419T125405Z
UID:a96443cc-1651-4972-965e-1b6ec34b30c1
DTSTART:20261019T164500
DTEND:20261019T174500
DESCRIPTION:
LOCATION:
SUMMARY:Fr/JV FB VS Airline
END:VEVENT
BEGIN:VEVENT
DTSTAMP:20260419T125405Z
UID:4b37a38f-2151-41cf-9981-b5211790c3ab
DTSTART:20261023T190000
DTEND:20261023T200000
DESCRIPTION:
LOCATION:
SUMMARY:VFB @ Airline
END:VEVENT
BEGIN:VEVENT
DTSTAMP:20260419T125405Z
UID:e08ec1c9-1d95-43a8-9792-a3f973cb4e9e
DTSTART:20261026T170000
DTEND:20261026T180000
DESCRIPTION:
LOCATION:
SUMMARY:Fr/JV FB vs NCHS
END:VEVENT
BEGIN:VEVENT
DTSTAMP:20260419T125405Z
UID:e6d32513-f815-44ba-9e7f-1365bce77e71
DTSTART:20261030T190000
DTEND:20261030T200000
DESCRIPTION:
LOCATION:
SUMMARY:VFB @ NCHS
END:VEVENT
BEGIN:VEVENT
DTSTAMP:20260419T125405Z
UID:82d0a70c-0bd4-47bc-a97b-ee9ac9895e20
DTSTART;VALUE=DATE:20261031
DTEND;VALUE=DATE:20261101
DESCRIPTION:
LOCATION:
SUMMARY:HHS Library Folk Fete
END:VEVENT
BEGIN:VEVENT
DTSTAMP:20260419T125405Z
UID:2058352e-02bd-45dd-9f9b-19677f8eb957
DTSTART:20261106T190000
DTEND:20261106T200000
DESCRIPTION:
LOCATION:
SUMMARY:VFB vs Evangel
END:VEVENT
BEGIN:VEVENT
DTSTAMP:20260419T125405Z
UID:4d09c0c5-b3f3-4b14-950a-ecec00e98452
DTSTART:20270206T180000
DTEND:20270206T200000
DESCRIPTION:
LOCATION:
SUMMARY:Lady of the Locket
END:VEVENT
END:VCALENDAR
