BEGIN:VCALENDAR
VERSION:2.0
PRODID:icalendar-ruby
CALSCALE:GREGORIAN
BEGIN:VTIMEZONE
TZID:America/Chicago
BEGIN:DAYLIGHT
DTSTART:20260308T030000
TZOFFSETFROM:-0600
TZOFFSETTO:-0500
RRULE:FREQ=YEARLY;BYDAY=2SU;BYMONTH=3
TZNAME:CDT
END:DAYLIGHT
BEGIN:STANDARD
DTSTART:20261101T010000
TZOFFSETFROM:-0500
TZOFFSETTO:-0600
RRULE:FREQ=YEARLY;BYDAY=1SU;BYMONTH=11
TZNAME:CST
END:STANDARD
END:VTIMEZONE
BEGIN:VEVENT
DTSTAMP:20260426T010042Z
UID:4ae2fb2d-c6ef-4718-b663-c42b473c83dc
DTSTART:20260428T063000
DTEND:20260428T071500
DESCRIPTION:
LOCATION:
SUMMARY:School Bus Drivers Appreciation Day
END:VEVENT
BEGIN:VEVENT
DTSTAMP:20260426T010042Z
UID:c2a8877f-8470-474a-aefa-e6f3d990d49f
DTSTART:20260428T073000
DTEND:20260428T104500
DESCRIPTION:
LOCATION:
SUMMARY:LEAP Testing Day with ELA and Science Sessions
END:VEVENT
BEGIN:VEVENT
DTSTAMP:20260426T010042Z
UID:c3359092-5077-4449-bc18-fe0e8baefd7c
DTSTART:20260428T160000
DTEND:20260428T200000
DESCRIPTION:
LOCATION:At Haughton High School\; EG and Haughton Host
SUMMARY:District Track Meet at Haughton High  4pm for Field Events\; 5pm fo
 r Track
END:VEVENT
BEGIN:VEVENT
DTSTAMP:20260426T010042Z
UID:30f4b0cb-98b3-4d3f-a5f2-88689d5666a1
DTSTART:20260429T073000
DTEND:20260429T104500
DESCRIPTION:
LOCATION:
SUMMARY:LEAP Testing Day with Math and Social Studies Sessions
END:VEVENT
BEGIN:VEVENT
DTSTAMP:20260426T010042Z
UID:2e0748bd-29c4-4552-ba39-7d094e380c68
DTSTART:20260430T073000
DTEND:20260430T104500
DESCRIPTION:
LOCATION:
SUMMARY:LEAP Testing Day with ELA and Science Sessions
END:VEVENT
BEGIN:VEVENT
DTSTAMP:20260426T010042Z
UID:434fede4-1730-4049-b129-5ac654ac2e74
DTSTART:20260430T183000
DTEND:20260430T193000
DESCRIPTION:
LOCATION:
SUMMARY:Beginning Band Concert in Cope Gym at 6:00
END:VEVENT
BEGIN:VEVENT
DTSTAMP:20260426T010042Z
UID:f3ea3187-4268-48b6-bf30-7c42fa17f28c
DTSTART:20260501T073000
DTEND:20260501T083000
DESCRIPTION:
LOCATION:
SUMMARY:School Lunch Workers Appreciation Day
END:VEVENT
BEGIN:VEVENT
DTSTAMP:20260426T010042Z
UID:808bb4a9-976c-496c-ac72-f7ef533dbb80
DTSTART:20260501T080000
DTEND:20260501T090000
DESCRIPTION:
LOCATION:
SUMMARY:School Principals Appreciation Day
END:VEVENT
BEGIN:VEVENT
DTSTAMP:20260426T010042Z
UID:83c54b9b-0156-4f8a-ae8e-098b2d4b6908
DTSTART:20260501T134500
DTEND:20260501T143000
DESCRIPTION:
LOCATION:
SUMMARY:4-H\, FCA\, Unified Champions\, Cougar Council\, and Bossier Alive 
 Events
END:VEVENT
BEGIN:VEVENT
DTSTAMP:20260426T010042Z
UID:94c7c8a0-b488-418a-8afb-59a88f15b90e
DTSTART:20260505T070000
DTEND:20260505T073000
DESCRIPTION:
LOCATION:
SUMMARY:National Teacher Appreciation Day
END:VEVENT
BEGIN:VEVENT
DTSTAMP:20260426T010042Z
UID:645b2278-1e9e-455a-a43f-98f5b58a98ad
DTSTART:20260505T073000
DTEND:20260505T104500
DESCRIPTION:
LOCATION:
SUMMARY:LEAP Testing Day with Math and Social Studies Sessions
END:VEVENT
BEGIN:VEVENT
DTSTAMP:20260426T010042Z
UID:a58a39d3-3a33-4234-805a-3bb1ceb8b07a
DTSTART:20260505T183000
DTEND:20260505T193000
DESCRIPTION:
LOCATION:
SUMMARY:Advanced Bands Concert at Airline High Auditorium
END:VEVENT
BEGIN:VEVENT
DTSTAMP:20260426T010042Z
UID:01469735-11cd-45b7-b66c-81cdad368cee
DTSTART:20260506T070000
DTEND:20260506T073000
DESCRIPTION:
LOCATION:
SUMMARY:School Nurses Appreciation Day
END:VEVENT
BEGIN:VEVENT
DTSTAMP:20260426T010042Z
UID:d98c2182-714f-4efd-ba82-e46ab81ac488
DTSTART:20260506T073000
DTEND:20260506T104500
DESCRIPTION:
LOCATION:
SUMMARY:LEAP Testing Day with ELA and Science Sessions
END:VEVENT
BEGIN:VEVENT
DTSTAMP:20260426T010042Z
UID:69a220f8-900c-45bb-acca-607f5ba03df7
DTSTART:20260507T073000
DTEND:20260507T104500
DESCRIPTION:
LOCATION:
SUMMARY:LEAP Testing Day with Math and Social Studies Sessions
END:VEVENT
BEGIN:VEVENT
DTSTAMP:20260426T010042Z
UID:c304780e-b135-4364-ab90-fc5213538aaf
DTSTART:20260507T180000
DTEND:20260507T190000
DESCRIPTION:
LOCATION:
SUMMARY:4-H Awards Night Program at AHS Auditorium
END:VEVENT
BEGIN:VEVENT
DTSTAMP:20260426T010042Z
UID:0a9257a3-0f0d-4c75-850c-f427c07d9552
DTSTART:20260508T061500
DTEND:20260508T221500
DESCRIPTION:
LOCATION:
SUMMARY:Band and Choir Trip to Dallas
END:VEVENT
BEGIN:VEVENT
DTSTAMP:20260426T010042Z
UID:2be5da05-e406-411a-bb90-a927db09ecf8
DTSTART:20260511T073000
DTEND:20260511T083000
DESCRIPTION:
LOCATION:
SUMMARY:Career Day 8th Grade Event    ETS Testing in 8th Math Classes
END:VEVENT
BEGIN:VEVENT
DTSTAMP:20260426T010042Z
UID:2659138f-ddf1-4957-bc6e-da401ee9f77f
DTSTART:20260512T073000
DTEND:20260512T083000
DESCRIPTION:
LOCATION:
SUMMARY:Job-Shadowing Day 8th Grade Event
END:VEVENT
BEGIN:VEVENT
DTSTAMP:20260426T010042Z
UID:740f875c-ed9c-479e-b2d1-690cab55c356
DTSTART:20260512T083000
DTEND:20260512T093000
DESCRIPTION:
LOCATION:
SUMMARY:Color Wars 6th Grade Event
END:VEVENT
BEGIN:VEVENT
DTSTAMP:20260426T010042Z
UID:dc1b6d7d-4812-418b-8d05-0fc99a637e8f
DTSTART:20260513T073000
DTEND:20260513T083000
DESCRIPTION:
LOCATION:
SUMMARY:Surge Field Trip 8th Grade Event
END:VEVENT
BEGIN:VEVENT
DTSTAMP:20260426T010042Z
UID:a58df81d-fd49-43e6-b2f2-51a7da88decc
DTSTART:20260513T090000
DTEND:20260513T140000
DESCRIPTION:
LOCATION:
SUMMARY:Social Development 7th Grade Event
END:VEVENT
BEGIN:VEVENT
DTSTAMP:20260426T010042Z
UID:a36cd03d-f63b-4305-97d7-7d1ae7fcdffd
DTSTART:20260513T110000
DTEND:20260513T123000
DESCRIPTION:
LOCATION:
SUMMARY:Kona Ice at Lunch Shifts
END:VEVENT
BEGIN:VEVENT
DTSTAMP:20260426T010042Z
UID:001e1809-7dfe-4784-830d-f950aed1147f
DTSTART:20260513T143500
DTEND:20260513T153500
DESCRIPTION:
LOCATION:
SUMMARY:ILT Team meeting
END:VEVENT
BEGIN:VEVENT
DTSTAMP:20260426T010042Z
UID:f23bf35d-1606-4c3f-af58-866acea66c1a
DTSTART:20260513T143500
DTEND:20260513T153500
DESCRIPTION:
LOCATION:
SUMMARY:ILT Team meeting
END:VEVENT
BEGIN:VEVENT
DTSTAMP:20260426T010042Z
UID:93dce06f-ece0-4ac2-b6e7-484479b088a8
DTSTART:20260513T183000
DTEND:20260513T193000
DESCRIPTION:
LOCATION:
SUMMARY:Choir Spring Concert at Airline High Auditorium
END:VEVENT
BEGIN:VEVENT
DTSTAMP:20260426T010042Z
UID:3d8db59a-2c04-485d-9e04-9889d401a033
DTSTART:20260514T090000
DTEND:20260514T100000
DESCRIPTION:
LOCATION:
SUMMARY:End of Year Grade Level Assemblies - 6th at 9:00\, 7th at 10:00\, a
 nd 8th at 1:00
END:VEVENT
BEGIN:VEVENT
DTSTAMP:20260426T010042Z
UID:22253d3b-5fea-4b05-a731-79b7ea59f7cb
DTSTART:20260515T073000
DTEND:20260515T103000
DESCRIPTION:
LOCATION:
SUMMARY:ReadAThon 7th Grade Event in Cope Gym
END:VEVENT
BEGIN:VEVENT
DTSTAMP:20260426T010042Z
UID:f09eba12-edda-400a-ad3c-2e43105d73f8
DTSTART:20260515T103000
DTEND:20260515T143000
DESCRIPTION:
LOCATION:
SUMMARY:Crawfish Boil
END:VEVENT
BEGIN:VEVENT
DTSTAMP:20260426T010042Z
UID:ea24511b-4a78-4d4e-b062-6e848ef53688
DTSTART:20260515T110000
DTEND:20260515T123000
DESCRIPTION:
LOCATION:
SUMMARY:Streetcar SnoBalls at 6th and 7th Grade Lunch Shifts
END:VEVENT
BEGIN:VEVENT
DTSTAMP:20260426T010042Z
UID:803a3886-0788-4032-8edc-2b6b2a6604c4
DTSTART:20260518T073000
DTEND:20260518T080000
DESCRIPTION:
LOCATION:
SUMMARY:Speech Pathologist Appreciation Day
END:VEVENT
BEGIN:VEVENT
DTSTAMP:20260426T010042Z
UID:805283ad-53bd-4c37-83a4-1ff7a4b9dde0
DTSTART:20260518T090000
DTEND:20260518T143000
DESCRIPTION:
LOCATION:
SUMMARY:Yearbook Signings in Gym
END:VEVENT
END:VCALENDAR
