BEGIN:VCALENDAR
VERSION:2.0
PRODID:icalendar-ruby
CALSCALE:GREGORIAN
BEGIN:VTIMEZONE
TZID:America/Chicago
BEGIN:DAYLIGHT
DTSTART:20260308T030000
TZOFFSETFROM:-0600
TZOFFSETTO:-0500
RRULE:FREQ=YEARLY;BYDAY=2SU;BYMONTH=3
TZNAME:CDT
END:DAYLIGHT
BEGIN:STANDARD
DTSTART:20261101T010000
TZOFFSETFROM:-0500
TZOFFSETTO:-0600
RRULE:FREQ=YEARLY;BYDAY=1SU;BYMONTH=11
TZNAME:CST
END:STANDARD
END:VTIMEZONE
BEGIN:VEVENT
DTSTAMP:20260424T182607Z
UID:bbaa7d42-a3dc-469f-b060-0b046c3bc674
DTSTART:20260424T000000
DTEND:20260424T000000
DESCRIPTION:<p>Away Conway JH Baseball Tournament <a target="_blank" rel="n
 oopener noreferrer nofollow" href="https://aptg.co/P_-2rZ" relative-link="
 ">For more info click here</a></p>
LOCATION:TBA
SUMMARY:Boys Middle School Baseball
END:VEVENT
BEGIN:VEVENT
DTSTAMP:20260424T182607Z
UID:4dd850ad-dceb-4b98-b887-6addaac7c7fc
DTSTART:20260424T000000
DTEND:20260424T000000
DESCRIPTION:<p>Away Conway JH Baseball Tournament <a target="_blank" rel="n
 oopener noreferrer nofollow" href="https://aptg.co/P_-2rZ" relative-link="
 ">For more info click here</a></p>
LOCATION:TBA
SUMMARY:Boys Middle School Baseball
END:VEVENT
BEGIN:VEVENT
DTSTAMP:20260424T182607Z
UID:d3273d30-730a-4bc5-b900-990d4f6584c9
DTSTART:20260424T000000
DTEND:20260424T000000
DESCRIPTION:<p>Away Conway JH Softball Tournament</p>
LOCATION:TBA
SUMMARY:Girls Middle School Softball
END:VEVENT
BEGIN:VEVENT
DTSTAMP:20260424T182607Z
UID:9a956ce2-35db-4ba7-9c5e-fb56251abc2a
DTSTART:20260424T000000
DTEND:20260424T000000
DESCRIPTION:<p>Away Conway JH Softball Tournament</p>
LOCATION:TBA
SUMMARY:Girls Middle School Softball
END:VEVENT
BEGIN:VEVENT
DTSTAMP:20260424T182607Z
UID:13decc2f-e40f-441c-92c9-75c5d960700a
DTSTART:20260425T000000
DTEND:20260425T000000
DESCRIPTION:<p>Away Conway JH Basball Tournament <a target="_blank" rel="no
 opener noreferrer nofollow" href="https://aptg.co/P_-2rZ" relative-link=""
 >For more info click here</a></p>
LOCATION:TBA
SUMMARY:Boys Middle School Baseball
END:VEVENT
BEGIN:VEVENT
DTSTAMP:20260424T182607Z
UID:d3367324-9054-453a-8e1a-9b204cf0c9df
DTSTART:20260425T000000
DTEND:20260425T000000
DESCRIPTION:<p>Away Conway JH Basball Tournament <a target="_blank" rel="no
 opener noreferrer nofollow" href="https://aptg.co/P_-2rZ" relative-link=""
 >For more info click here</a></p>
LOCATION:TBA
SUMMARY:Boys Middle School Baseball
END:VEVENT
BEGIN:VEVENT
DTSTAMP:20260424T182607Z
UID:2b2bce2d-85cf-4dba-8d93-0f3c7febc8f5
DTSTART:20260425T000000
DTEND:20260425T000000
DESCRIPTION:<p>Away Conway JH Softball Tournament</p>
LOCATION:TBA
SUMMARY:Girls Middle School Softball
END:VEVENT
BEGIN:VEVENT
DTSTAMP:20260424T182607Z
UID:51877dd3-c2df-4886-b0fd-4cd6f75fd442
DTSTART:20260425T000000
DTEND:20260425T000000
DESCRIPTION:<p>Away Conway JH Softball Tournament</p>
LOCATION:TBA
SUMMARY:Girls Middle School Softball
END:VEVENT
BEGIN:VEVENT
DTSTAMP:20260424T182607Z
UID:2d3472a4-41d5-41ed-ba8e-6119e0046ef9
DTSTART:20260427T163000
DTEND:20260427T193000
DESCRIPTION:Home Versailles High School
LOCATION:Baseball Field - Wayne Bandy Baseball Field
SUMMARY:Boys Middle School Baseball
END:VEVENT
BEGIN:VEVENT
DTSTAMP:20260424T182607Z
UID:a6f19a7e-4a8f-4cf3-a3cf-aa86fa290c56
DTSTART:20260427T163000
DTEND:20260427T193000
DESCRIPTION:Home Versailles High School
LOCATION:Baseball Field - Wayne Bandy Baseball Field
SUMMARY:Boys Middle School Baseball
END:VEVENT
BEGIN:VEVENT
DTSTAMP:20260424T182607Z
UID:85d7ef45-657d-40a5-b99f-7da9a33edb88
DTSTART:20260429T000000
DTEND:20260429T000000
DESCRIPTION:Away 7th Grade Capital City MS Relays
LOCATION:Jeff City HS - FB\, Tr\, Bball\, VBall\, Wr
SUMMARY:Coed Middle School Track & Field
END:VEVENT
BEGIN:VEVENT
DTSTAMP:20260424T182607Z
UID:5b2acd45-f56e-49e0-93ed-a2d2a30653ff
DTSTART:20260429T000000
DTEND:20260429T000000
DESCRIPTION:Away 7th Grade Capital City MS Relays
LOCATION:Jeff City HS - FB\, Tr\, Bball\, VBall\, Wr
SUMMARY:Coed Middle School Track & Field
END:VEVENT
BEGIN:VEVENT
DTSTAMP:20260424T182607Z
UID:b78dfce7-35ce-4226-b4b6-d0eba292c2a1
DTSTART:20260430T000000
DTEND:20260430T000000
DESCRIPTION:Away 8th Grade Capital City MS Relays
LOCATION:Jeff City HS - FB\, Tr\, Bball\, VBall\, Wr
SUMMARY:Coed Middle School Track & Field
END:VEVENT
BEGIN:VEVENT
DTSTAMP:20260424T182607Z
UID:d83ee8f9-50d0-4f35-a586-921e7872d5af
DTSTART:20260430T000000
DTEND:20260430T000000
DESCRIPTION:Away 8th Grade Capital City MS Relays
LOCATION:Jeff City HS - FB\, Tr\, Bball\, VBall\, Wr
SUMMARY:Coed Middle School Track & Field
END:VEVENT
BEGIN:VEVENT
DTSTAMP:20260424T182607Z
UID:9ff8bde2-7ee7-41d4-8bb7-7875bbb1e824
DTSTART:20260430T000000
DTEND:20260430T000000
DESCRIPTION:Away Central Ozark Conference Championship
LOCATION:Joplin HS - BBall\,VB\,Soc\,Wr
SUMMARY:Girls Middle School Softball
END:VEVENT
BEGIN:VEVENT
DTSTAMP:20260424T182607Z
UID:b54978bc-9114-4934-a1cc-173180fc23a7
DTSTART:20260430T000000
DTEND:20260430T000000
DESCRIPTION:Away Central Ozark Conference Championship
LOCATION:Joplin HS - BBall\,VB\,Soc\,Wr
SUMMARY:Girls Middle School Softball
END:VEVENT
BEGIN:VEVENT
DTSTAMP:20260424T182607Z
UID:2d8aa7d4-bb31-458b-ba56-c831f9a65011
DTSTART:20260430T170000
DTEND:20260430T190000
DESCRIPTION:
LOCATION:WMS LEAP Center
SUMMARY: LEAP Shine Night 1st-8th grade
END:VEVENT
BEGIN:VEVENT
DTSTAMP:20260424T182607Z
UID:c5512a98-7333-47ee-bbaa-fb8c2bc05fea
DTSTART:20260430T170000
DTEND:20260430T190000
DESCRIPTION:
LOCATION:WMS LEAP Center
SUMMARY: LEAP Shine Night 1st-8th grade
END:VEVENT
BEGIN:VEVENT
DTSTAMP:20260424T182607Z
UID:010dab33-ab1d-4be7-9197-c39c06d7e091
DTSTART:20260501T000000
DTEND:20260501T000000
DESCRIPTION:Away Central Ozark Conference Championship
LOCATION:Joplin HS - BBall\,VB\,Soc\,Wr
SUMMARY:Girls Middle School Softball
END:VEVENT
BEGIN:VEVENT
DTSTAMP:20260424T182607Z
UID:51893876-dcf6-4294-aac7-2bb2d1fe4772
DTSTART:20260501T000000
DTEND:20260501T000000
DESCRIPTION:Away Central Ozark Conference Championship
LOCATION:Joplin HS - BBall\,VB\,Soc\,Wr
SUMMARY:Girls Middle School Softball
END:VEVENT
BEGIN:VEVENT
DTSTAMP:20260424T182607Z
UID:bfdd2fa9-b8ef-4148-8514-bd8a0d42f41f
DTSTART:20260502T083000
DTEND:20260502T113000
DESCRIPTION:Home Missouri MS Championships
LOCATION:Smith-Cotton Tiger Stadium
SUMMARY:Coed Middle School Track & Field
END:VEVENT
BEGIN:VEVENT
DTSTAMP:20260424T182607Z
UID:79387492-b5cd-4452-b71a-e3e2edf8c44d
DTSTART:20260502T083000
DTEND:20260502T113000
DESCRIPTION:Home Missouri MS Championships
LOCATION:Smith-Cotton Tiger Stadium
SUMMARY:Coed Middle School Track & Field
END:VEVENT
BEGIN:VEVENT
DTSTAMP:20260424T182607Z
UID:0a81bd0d-6862-4ed0-bc91-5fe525326a32
DTSTART:20260504T000000
DTEND:20260504T000000
DESCRIPTION:Away MS Central Ozark Conference Championship
LOCATION:Parkview HS & JFK Stadium
SUMMARY:Coed Middle School Track & Field
END:VEVENT
BEGIN:VEVENT
DTSTAMP:20260424T182607Z
UID:4a7d2370-7685-4a02-bdb9-b15c039d2299
DTSTART:20260504T000000
DTEND:20260504T000000
DESCRIPTION:Away MS Central Ozark Conference Championship
LOCATION:Parkview HS & JFK Stadium
SUMMARY:Coed Middle School Track & Field
END:VEVENT
END:VCALENDAR
