BEGIN:VCALENDAR
VERSION:2.0
PRODID:icalendar-ruby
CALSCALE:GREGORIAN
BEGIN:VTIMEZONE
TZID:America/Chicago
BEGIN:DAYLIGHT
DTSTART:20260308T030000
TZOFFSETFROM:-0600
TZOFFSETTO:-0500
RRULE:FREQ=YEARLY;BYDAY=2SU;BYMONTH=3
TZNAME:CDT
END:DAYLIGHT
BEGIN:STANDARD
DTSTART:20261101T010000
TZOFFSETFROM:-0500
TZOFFSETTO:-0600
RRULE:FREQ=YEARLY;BYDAY=1SU;BYMONTH=11
TZNAME:CST
END:STANDARD
END:VTIMEZONE
BEGIN:VEVENT
DTSTAMP:20260422T173922Z
UID:976290d5-6613-49fa-913f-1d6c7455189e
DTSTART;VALUE=DATE:20260420
DTEND;VALUE=DATE:20260425
DESCRIPTION:
LOCATION:
SUMMARY:STAAR Testing - Science/Social Studies - Make-up Testing
END:VEVENT
BEGIN:VEVENT
DTSTAMP:20260422T173922Z
UID:62092ac9-b791-4cc6-b7eb-7afa71259106
DTSTART;VALUE=DATE:20260422
DTEND;VALUE=DATE:20260423
DESCRIPTION:
LOCATION:
SUMMARY:STAAR Testing - Math - 4th grade and 7th grade
END:VEVENT
BEGIN:VEVENT
DTSTAMP:20260422T173922Z
UID:a1fdbe1c-0d94-41dc-ac6a-8a19574e59c4
DTSTART;VALUE=DATE:20260422
DTEND;VALUE=DATE:20260425
DESCRIPTION:
LOCATION:
SUMMARY:STAAR Testing - Math - Make-up Testing
END:VEVENT
BEGIN:VEVENT
DTSTAMP:20260422T173922Z
UID:9df017ad-6bf4-49b0-8d8d-26096723947f
DTSTART;VALUE=DATE:20260422
DTEND;VALUE=DATE:20260423
DESCRIPTION:
LOCATION:
SUMMARY:STAAR Testing - Social Studies - U.S. History EOC
END:VEVENT
BEGIN:VEVENT
DTSTAMP:20260422T173922Z
UID:5211c8c6-a032-40aa-b32f-eee2c4dde47c
DTSTART;VALUE=DATE:20260423
DTEND;VALUE=DATE:20260424
DESCRIPTION:
LOCATION:
SUMMARY:STAAR Testing - Math - 3rd gradae and 6th grade
END:VEVENT
BEGIN:VEVENT
DTSTAMP:20260422T173922Z
UID:b257239b-effe-4049-b822-ebf24379acab
DTSTART;VALUE=DATE:20260427
DTEND;VALUE=DATE:20260502
DESCRIPTION:
LOCATION:
SUMMARY:STAAR Testing - Math - Make-up Testing
END:VEVENT
BEGIN:VEVENT
DTSTAMP:20260422T173922Z
UID:00c6fb07-0f8b-4d35-8731-0719be08c7dc
DTSTART:20260428T080000
DTEND:20260428T090000
DESCRIPTION:
LOCATION:
SUMMARY:STAAR Testing - Math - Algebra I EOC (high school)
END:VEVENT
BEGIN:VEVENT
DTSTAMP:20260422T173922Z
UID:322cb2d6-1d14-4883-8bd8-a5377957d884
DTSTART:20260507T170000
DTEND:20260507T180000
DESCRIPTION:
LOCATION:Alta Vista Room
SUMMARY:Board Workshop
END:VEVENT
BEGIN:VEVENT
DTSTAMP:20260422T173922Z
UID:c5e273b6-86bb-45bb-bdca-08d106f4b889
DTSTART:20260511T180000
DTEND:20260511T193000
DESCRIPTION:
LOCATION:Boardroom
SUMMARY:Regular Meeting\, School Board
END:VEVENT
BEGIN:VEVENT
DTSTAMP:20260422T173922Z
UID:df000ac7-722e-4db7-b31e-11a5c54efbef
DTSTART;VALUE=DATE:20260521
DTEND;VALUE=DATE:20260522
DESCRIPTION:<p><a target="_blank" rel="noopener noreferrer nofollow" href="
 https://www.abileneisd.org/o/aisd/page/bell-schedules">Click here for earl
 y release bell schedules.</a></p>
LOCATION:
SUMMARY:Last Day of School / Early Release Day
END:VEVENT
BEGIN:VEVENT
DTSTAMP:20260422T173922Z
UID:0ba9e018-3d82-43cb-8321-bef277642e51
DTSTART:20260522T200000
DTEND:20260522T220000
DESCRIPTION:
LOCATION:1525 E South 11th St\, Abilene\, TX 79602\, USA
SUMMARY:Abilene High School Graduation
END:VEVENT
BEGIN:VEVENT
DTSTAMP:20260422T173922Z
UID:389bde98-0386-4cd9-99a3-693c71e874d4
DTSTART:20260523T080000
DTEND:20260523T100000
DESCRIPTION:
LOCATION:1525 E South 11th St\, Abilene\, TX 79602\, USA
SUMMARY:Cooper High School Graduation
END:VEVENT
BEGIN:VEVENT
DTSTAMP:20260422T173922Z
UID:948a475a-543b-4589-9a70-2c87aba1c47f
DTSTART:20260523T100000
DTEND:20260523T110000
DESCRIPTION:
LOCATION:1525 E South 11th St\, Abilene\, TX 79602\, USA
SUMMARY:ATEMS Graduation
END:VEVENT
BEGIN:VEVENT
DTSTAMP:20260422T173922Z
UID:4e3d0e5e-94d5-45fc-a719-36d2739681cf
DTSTART;VALUE=DATE:20260525
DTEND;VALUE=DATE:20260526
DESCRIPTION:
LOCATION:
SUMMARY:Memorial Day (AISD Closed)
END:VEVENT
BEGIN:VEVENT
DTSTAMP:20260422T173922Z
UID:34d0efe8-eb62-4023-9227-7cee59b74a1d
DTSTART:20260604T170000
DTEND:20260604T180000
DESCRIPTION:
LOCATION:Alta Vista Room
SUMMARY:Board Workshop
END:VEVENT
BEGIN:VEVENT
DTSTAMP:20260422T173922Z
UID:95715587-1da5-4a13-abac-4c3ccbed9766
DTSTART:20260608T180000
DTEND:20260608T193000
DESCRIPTION:
LOCATION:Boardroom
SUMMARY:Regular Meeting\, School Board
END:VEVENT
BEGIN:VEVENT
DTSTAMP:20260422T173922Z
UID:cbe0927f-63f5-4db3-923a-5ae717835bda
DTSTART;VALUE=DATE:20260618
DTEND;VALUE=DATE:20260619
DESCRIPTION:
LOCATION:
SUMMARY:Juneteenth Observed (AISD Closed)
END:VEVENT
END:VCALENDAR
