BEGIN:VCALENDAR
VERSION:2.0
PRODID:icalendar-ruby
CALSCALE:GREGORIAN
BEGIN:VTIMEZONE
TZID:America/New_York
BEGIN:DAYLIGHT
DTSTART:20260308T030000
TZOFFSETFROM:-0500
TZOFFSETTO:-0400
RRULE:FREQ=YEARLY;BYDAY=2SU;BYMONTH=3
TZNAME:EDT
END:DAYLIGHT
BEGIN:STANDARD
DTSTART:20261101T010000
TZOFFSETFROM:-0400
TZOFFSETTO:-0500
RRULE:FREQ=YEARLY;BYDAY=1SU;BYMONTH=11
TZNAME:EST
END:STANDARD
END:VTIMEZONE
BEGIN:VEVENT
DTSTAMP:20260419T191547Z
UID:a7fa9d91-44fb-4d68-aa9f-9693ce78d312
DTSTART;VALUE=DATE:20260521
DTEND;VALUE=DATE:20260522
DESCRIPTION:
LOCATION:
SUMMARY:Last Student Day
END:VEVENT
BEGIN:VEVENT
DTSTAMP:20260419T191547Z
UID:865883b3-fd42-41c0-97e1-692f067cef4e
DTSTART;VALUE=DATE:20260522
DTEND;VALUE=DATE:20260523
DESCRIPTION:
LOCATION:
SUMMARY:Last Teacher Day
END:VEVENT
BEGIN:VEVENT
DTSTAMP:20260419T191547Z
UID:80ffb3ec-798c-4e58-9803-c09f645b53e1
DTSTART;VALUE=DATE:20260529
DTEND;VALUE=DATE:20260530
DESCRIPTION:
LOCATION:
SUMMARY:Quarter 4 Report Cards Available
END:VEVENT
BEGIN:VEVENT
DTSTAMP:20260419T191547Z
UID:2ec22548-f1a6-4b0e-8077-8ebe07a49ce9
DTSTART:20260531T150000
DTEND:20260531T160000
DESCRIPTION:
LOCATION:
SUMMARY:Oak Hill High School Commencement
END:VEVENT
BEGIN:VEVENT
DTSTAMP:20260419T191547Z
UID:957a9955-27a9-4c62-8db8-f61c592510ef
DTSTART;VALUE=DATE:20260804
DTEND;VALUE=DATE:20260806
DESCRIPTION:
LOCATION:
SUMMARY:Teacher Work Day
END:VEVENT
BEGIN:VEVENT
DTSTAMP:20260419T191547Z
UID:b7b2f37d-45a8-4736-b308-08e65605523c
DTSTART;VALUE=DATE:20260806
DTEND;VALUE=DATE:20260807
DESCRIPTION:
LOCATION:
SUMMARY:First Day of School
END:VEVENT
BEGIN:VEVENT
DTSTAMP:20260419T191547Z
UID:639e5d86-b774-416f-9430-7da131e93eb5
DTSTART;VALUE=DATE:20260902
DTEND;VALUE=DATE:20260903
DESCRIPTION:
LOCATION:
SUMMARY:Midterm 1 Ends
END:VEVENT
BEGIN:VEVENT
DTSTAMP:20260419T191547Z
UID:c0e41599-ae51-49c2-b2fc-a30cce9bbb36
DTSTART;VALUE=DATE:20260907
DTEND;VALUE=DATE:20260908
DESCRIPTION:
LOCATION:
SUMMARY:No School - Labor Day
END:VEVENT
BEGIN:VEVENT
DTSTAMP:20260419T191547Z
UID:a7a5bb6f-9358-4460-8fab-20896a845cb9
DTSTART;VALUE=DATE:20260930
DTEND;VALUE=DATE:20261001
DESCRIPTION:
LOCATION:
SUMMARY:eLearning Day - Parent Teacher Conferences
END:VEVENT
BEGIN:VEVENT
DTSTAMP:20260419T191547Z
UID:104ee37d-4c48-4f0e-b5dd-d048c8278e1b
DTSTART;VALUE=DATE:20261002
DTEND;VALUE=DATE:20261003
DESCRIPTION:
LOCATION:
SUMMARY:Quarter 1 Ends
END:VEVENT
BEGIN:VEVENT
DTSTAMP:20260419T191547Z
UID:602751ff-0d16-4582-a1bc-15d0e69a809a
DTSTART;VALUE=DATE:20261009
DTEND;VALUE=DATE:20261010
DESCRIPTION:
LOCATION:
SUMMARY:Quarter 1 Report Cards Available
END:VEVENT
BEGIN:VEVENT
DTSTAMP:20260419T191547Z
UID:5ddb4386-25cb-4e1a-b603-8c3060a22aa4
DTSTART;VALUE=DATE:20261019
DTEND;VALUE=DATE:20261024
DESCRIPTION:
LOCATION:
SUMMARY:No School - Fall Break
END:VEVENT
BEGIN:VEVENT
DTSTAMP:20260419T191547Z
UID:b545f64e-7cd3-46dc-921c-13064942ef89
DTSTART;VALUE=DATE:20261111
DTEND;VALUE=DATE:20261112
DESCRIPTION:
LOCATION:
SUMMARY:Midterm 2 Ends
END:VEVENT
BEGIN:VEVENT
DTSTAMP:20260419T191547Z
UID:11a60586-8cec-4694-b43d-e80cc514a86d
DTSTART;VALUE=DATE:20261125
DTEND;VALUE=DATE:20261128
DESCRIPTION:
LOCATION:
SUMMARY:No School - Thanksgiving Break
END:VEVENT
BEGIN:VEVENT
DTSTAMP:20260419T191547Z
UID:a97fbc86-2b77-4d24-b42c-19e4e0fa01e0
DTSTART;VALUE=DATE:20261218
DTEND;VALUE=DATE:20261219
DESCRIPTION:
LOCATION:
SUMMARY:Semester 1 Ends
END:VEVENT
BEGIN:VEVENT
DTSTAMP:20260419T191547Z
UID:eccc6a43-a2b0-441d-8661-508b7bb80543
DTSTART;VALUE=DATE:20261221
DTEND;VALUE=DATE:20270106
DESCRIPTION:
LOCATION:
SUMMARY:Christmas Break
END:VEVENT
BEGIN:VEVENT
DTSTAMP:20260419T191547Z
UID:bf52baa0-becf-43db-86f1-49e9ad8bffaf
DTSTART;VALUE=DATE:20270106
DTEND;VALUE=DATE:20270107
DESCRIPTION:
LOCATION:
SUMMARY:Second Semester Begins
END:VEVENT
BEGIN:VEVENT
DTSTAMP:20260419T191547Z
UID:c4254486-5f17-46a7-a9f6-6159838e9506
DTSTART;VALUE=DATE:20270112
DTEND;VALUE=DATE:20270113
DESCRIPTION:
LOCATION:
SUMMARY:Quarter 2 Report Card Available
END:VEVENT
BEGIN:VEVENT
DTSTAMP:20260419T191547Z
UID:3f90170b-51cd-4579-a0bc-3cc6f085d1d8
DTSTART;VALUE=DATE:20270118
DTEND;VALUE=DATE:20270119
DESCRIPTION:
LOCATION:
SUMMARY:No School - Martin Luther King Jr Day
END:VEVENT
BEGIN:VEVENT
DTSTAMP:20260419T191547Z
UID:a557e7ad-446e-4f4c-8311-445adc373416
DTSTART;VALUE=DATE:20270203
DTEND;VALUE=DATE:20270204
DESCRIPTION:
LOCATION:
SUMMARY:Midterm 3 Ends
END:VEVENT
BEGIN:VEVENT
DTSTAMP:20260419T191547Z
UID:e9a4ceaa-8c49-4e50-a127-ecd7e202c9eb
DTSTART;VALUE=DATE:20270215
DTEND;VALUE=DATE:20270216
DESCRIPTION:
LOCATION:
SUMMARY:No School - Presidents Day
END:VEVENT
BEGIN:VEVENT
DTSTAMP:20260419T191547Z
UID:9efd070d-ee8b-4fae-9406-df0ff2c16a8d
DTSTART;VALUE=DATE:20270312
DTEND;VALUE=DATE:20270313
DESCRIPTION:
LOCATION:
SUMMARY:Quarter 3 Ends
END:VEVENT
BEGIN:VEVENT
DTSTAMP:20260419T191547Z
UID:03aaefc5-55a8-44d9-89e0-a0da96caad64
DTSTART;VALUE=DATE:20270318
DTEND;VALUE=DATE:20270319
DESCRIPTION:
LOCATION:
SUMMARY:Quarter 3 Report Cards Available
END:VEVENT
BEGIN:VEVENT
DTSTAMP:20260419T191547Z
UID:1e91c739-8717-4e73-86e0-dbf537ca372e
DTSTART;VALUE=DATE:20270319
DTEND;VALUE=DATE:20270320
DESCRIPTION:
LOCATION:
SUMMARY:No School - Spring Break
END:VEVENT
BEGIN:VEVENT
DTSTAMP:20260419T191547Z
UID:c1302349-71d3-4653-a40e-c8d691b6c791
DTSTART;VALUE=DATE:20270322
DTEND;VALUE=DATE:20270327
DESCRIPTION:
LOCATION:
SUMMARY:No School - Spring Break
END:VEVENT
BEGIN:VEVENT
DTSTAMP:20260419T191547Z
UID:7914a91d-1051-4db4-9a26-289a93c3c79d
DTSTART;VALUE=DATE:20270421
DTEND;VALUE=DATE:20270422
DESCRIPTION:
LOCATION:
SUMMARY:Midterm 4 Ends
END:VEVENT
BEGIN:VEVENT
DTSTAMP:20260419T191547Z
UID:d16b25f1-b706-4f7f-8dfc-52861cec576e
DTSTART;VALUE=DATE:20270525
DTEND;VALUE=DATE:20270526
DESCRIPTION:
LOCATION:
SUMMARY:Last Student Day
END:VEVENT
BEGIN:VEVENT
DTSTAMP:20260419T191547Z
UID:5f7b7b1a-21fc-485d-bbc6-0e1f09124ab7
DTSTART;VALUE=DATE:20270526
DTEND;VALUE=DATE:20270527
DESCRIPTION:
LOCATION:
SUMMARY:Last Teacher Day
END:VEVENT
BEGIN:VEVENT
DTSTAMP:20260419T191547Z
UID:299fb0c7-345a-494d-9b40-1fab62366e94
DTSTART;VALUE=DATE:20270601
DTEND;VALUE=DATE:20270602
DESCRIPTION:
LOCATION:
SUMMARY:Quarter 4 Report Cards Available
END:VEVENT
END:VCALENDAR
