BEGIN:VCALENDAR
VERSION:2.0
PRODID:icalendar-ruby
CALSCALE:GREGORIAN
BEGIN:VTIMEZONE
TZID:America/New_York
BEGIN:DAYLIGHT
DTSTART:20260308T030000
TZOFFSETFROM:-0500
TZOFFSETTO:-0400
RRULE:FREQ=YEARLY;BYDAY=2SU;BYMONTH=3
TZNAME:EDT
END:DAYLIGHT
BEGIN:STANDARD
DTSTART:20261101T010000
TZOFFSETFROM:-0400
TZOFFSETTO:-0500
RRULE:FREQ=YEARLY;BYDAY=1SU;BYMONTH=11
TZNAME:EST
END:STANDARD
END:VTIMEZONE
BEGIN:VEVENT
DTSTAMP:20260425T161602Z
UID:98185d83-45f8-46f2-9331-3e6aef7fed14
DTSTART:20260428T170000
DTEND:20260428T180000
DESCRIPTION:
LOCATION:HS Room 5 (STEM Lab)
SUMMARY:Facilities Committee Meeting
END:VEVENT
BEGIN:VEVENT
DTSTAMP:20260425T161602Z
UID:1d1343e6-d92a-4770-bd35-9ad39a8f41bc
DTSTART;VALUE=DATE:20260429
DTEND;VALUE=DATE:20260430
DESCRIPTION:
LOCATION:
SUMMARY:Science Assessments Grades 5 & 8
END:VEVENT
BEGIN:VEVENT
DTSTAMP:20260425T161602Z
UID:c097a970-c6a0-4ace-a684-c5da687f622f
DTSTART;VALUE=DATE:20260501
DTEND;VALUE=DATE:20260503
DESCRIPTION:
LOCATION:Dryden High School
SUMMARY:NYSSMA Festival - Vocal
END:VEVENT
BEGIN:VEVENT
DTSTAMP:20260425T161602Z
UID:227381f4-ceac-497f-b44b-1e78767a60f8
DTSTART;VALUE=DATE:20260504
DTEND;VALUE=DATE:20260505
DESCRIPTION:
LOCATION:
SUMMARY:Freshmen BBQ/Freezer Raffle begins
END:VEVENT
BEGIN:VEVENT
DTSTAMP:20260425T161602Z
UID:5d9b30af-4dac-4286-aabb-7b3b10c29ed3
DTSTART;VALUE=DATE:20260504
DTEND;VALUE=DATE:20260509
DESCRIPTION:
LOCATION:
SUMMARY:Staff Appreciation Week
END:VEVENT
BEGIN:VEVENT
DTSTAMP:20260425T161602Z
UID:d9954bd2-95e6-411f-9f78-f00fc0ae03ad
DTSTART;VALUE=DATE:20260505
DTEND;VALUE=DATE:20260507
DESCRIPTION:
LOCATION:
SUMMARY:Math State Assessments Grades 3-8
END:VEVENT
BEGIN:VEVENT
DTSTAMP:20260425T161602Z
UID:0085020e-91e8-4872-8361-c2fabb199f90
DTSTART:20260506T180000
DTEND:20260506T190000
DESCRIPTION:
LOCATION:
SUMMARY:JH/HS & Jazz Spring Concert & Art Show
END:VEVENT
BEGIN:VEVENT
DTSTAMP:20260425T161602Z
UID:890c2a7c-55f5-4c38-8855-13b262180585
DTSTART:20260507T181500
DTEND:20260507T183000
DESCRIPTION:
LOCATION:High School Library
SUMMARY:Budget Hearing
END:VEVENT
BEGIN:VEVENT
DTSTAMP:20260425T161602Z
UID:fae48390-37c2-49d8-a75e-4ef33d179ad5
DTSTART:20260507T183000
DTEND:20260507T193000
DESCRIPTION:
LOCATION:HS Library
SUMMARY:Board of Education Meeting
END:VEVENT
BEGIN:VEVENT
DTSTAMP:20260425T161602Z
UID:18feeffb-0d22-4765-af0c-59d8da7509fb
DTSTART;VALUE=DATE:20260508
DTEND;VALUE=DATE:20260509
DESCRIPTION:
LOCATION:
SUMMARY:Mid-Marking Period
END:VEVENT
BEGIN:VEVENT
DTSTAMP:20260425T161602Z
UID:481979bc-d096-4a12-bb86-630eb69e1c8b
DTSTART;VALUE=DATE:20260510
DTEND;VALUE=DATE:20260511
DESCRIPTION:
LOCATION:
SUMMARY:Mother's Day
END:VEVENT
BEGIN:VEVENT
DTSTAMP:20260425T161602Z
UID:23b19048-041b-4698-87f4-a28194c6df05
DTSTART:20260512T151500
DTEND:20260512T161500
DESCRIPTION:
LOCATION:High School Library
SUMMARY:Health & Safety Committee Meeting
END:VEVENT
BEGIN:VEVENT
DTSTAMP:20260425T161602Z
UID:c8af1920-8883-4e30-a490-b212cb91fe87
DTSTART;VALUE=DATE:20260513
DTEND;VALUE=DATE:20260514
DESCRIPTION:
LOCATION:
SUMMARY:Freshmen BBQ/Freezer Raffle ends
END:VEVENT
BEGIN:VEVENT
DTSTAMP:20260425T161602Z
UID:ca50467d-edea-4c58-9d1b-1665b7e2c4f1
DTSTART:20260513T173000
DTEND:20260513T183000
DESCRIPTION:
LOCATION:Elementary Cafeteria
SUMMARY:PTO Meeting
END:VEVENT
BEGIN:VEVENT
DTSTAMP:20260425T161602Z
UID:4a9f177e-96cc-406a-99e9-db1ab89ff060
DTSTART;VALUE=DATE:20260514
DTEND;VALUE=DATE:20260516
DESCRIPTION:
LOCATION:
SUMMARY:FFA Convention
END:VEVENT
BEGIN:VEVENT
DTSTAMP:20260425T161602Z
UID:4c5c4e7a-8e65-4945-860b-4fa9637ffbaf
DTSTART;VALUE=DATE:20260514
DTEND;VALUE=DATE:20260515
DESCRIPTION:
LOCATION:
SUMMARY:Interim Reports Mailed
END:VEVENT
BEGIN:VEVENT
DTSTAMP:20260425T161602Z
UID:9dcbf134-fa19-440f-8ddd-d385a150c7ef
DTSTART;VALUE=DATE:20260515
DTEND;VALUE=DATE:20260516
DESCRIPTION:
LOCATION:
SUMMARY:Elementary Grandparent Luncheon
END:VEVENT
BEGIN:VEVENT
DTSTAMP:20260425T161602Z
UID:61b3839b-01f4-4989-acff-a3a20b206a83
DTSTART:20260516T190000
DTEND:20260517T030000
DESCRIPTION:
LOCATION:
SUMMARY:Junior-Senior Prom & After Party
END:VEVENT
BEGIN:VEVENT
DTSTAMP:20260425T161602Z
UID:b0f6c720-ac57-4b59-a023-e4d54dd2aa50
DTSTART:20260519T120000
DTEND:20260519T200000
DESCRIPTION:
LOCATION:
SUMMARY:School Budget Vote & Election
END:VEVENT
BEGIN:VEVENT
DTSTAMP:20260425T161602Z
UID:585b0f40-ed9f-47e3-8ae5-209ec200b089
DTSTART:20260520T183000
DTEND:20260520T193000
DESCRIPTION:
LOCATION:High School Auditorium
SUMMARY:Elementary Band/Chorus Concert & Art Show
END:VEVENT
BEGIN:VEVENT
DTSTAMP:20260425T161602Z
UID:84b5378b-a516-4d31-9ce2-1f0036bfdf11
DTSTART:20260521T183000
DTEND:20260521T193000
DESCRIPTION:
LOCATION:HS Library
SUMMARY:Board of Education Meeting
END:VEVENT
BEGIN:VEVENT
DTSTAMP:20260425T161602Z
UID:a6d56251-3157-48ee-9ab2-414a21c23ff3
DTSTART:20260523T090000
DTEND:20260523T120000
DESCRIPTION:<a href="https://aptg.co/sGKSLl">Spring Can &amp\; Bottle Drive
 </a>
LOCATION:
SUMMARY:Booster Club Bottle & Can Drive
END:VEVENT
BEGIN:VEVENT
DTSTAMP:20260425T161602Z
UID:a33f2be1-e4eb-48f0-9205-5962f72c3aef
DTSTART;VALUE=DATE:20260525
DTEND;VALUE=DATE:20260526
DESCRIPTION:
LOCATION:
SUMMARY:Memorial Day
END:VEVENT
BEGIN:VEVENT
DTSTAMP:20260425T161602Z
UID:499166de-1499-4d89-bde9-61a7010c2943
DTSTART:20260525T093000
DTEND:20260525T103000
DESCRIPTION:
LOCATION:
SUMMARY:Memorial Day Ceremony & Parade
END:VEVENT
BEGIN:VEVENT
DTSTAMP:20260425T161602Z
UID:bdd07d9d-0f2e-487c-aba6-da201aaf7b24
DTSTART;VALUE=DATE:20260526
DTEND;VALUE=DATE:20260529
DESCRIPTION:
LOCATION:
SUMMARY:Kindergarten Screening
END:VEVENT
BEGIN:VEVENT
DTSTAMP:20260425T161602Z
UID:d81fc2a2-1a8b-4265-9d58-0029df32c086
DTSTART:20260527T183000
DTEND:20260527T193000
DESCRIPTION:
LOCATION:Elementary Gym
SUMMARY:Kindergarten Concert
END:VEVENT
BEGIN:VEVENT
DTSTAMP:20260425T161602Z
UID:ec5b91dc-0f1c-4d95-96d6-4d9643eea59c
DTSTART:20260528T170000
DTEND:20260528T180000
DESCRIPTION:
LOCATION:District Office
SUMMARY:Audit/Finance Committee Meeting
END:VEVENT
BEGIN:VEVENT
DTSTAMP:20260425T161602Z
UID:ad05e6d7-5885-4751-bf14-d9627f83e337
DTSTART:20260602T183000
DTEND:20260602T193000
DESCRIPTION:
LOCATION:Cortland\, NY
SUMMARY:Dairy Parade
END:VEVENT
BEGIN:VEVENT
DTSTAMP:20260425T161602Z
UID:7fe946af-ca9a-4c16-97f2-cf786f26640b
DTSTART:20260603T183000
DTEND:20260603T193000
DESCRIPTION:
LOCATION:
SUMMARY:JH/HS Academic & Senior Awards/ Honor Society Inductions
END:VEVENT
BEGIN:VEVENT
DTSTAMP:20260425T161602Z
UID:7f5bbdd9-7fd0-4e77-b8e4-95f859e2f774
DTSTART:20260604T174500
DTEND:20260604T183000
DESCRIPTION:
LOCATION:
SUMMARY:Policy Committee Meeting
END:VEVENT
BEGIN:VEVENT
DTSTAMP:20260425T161602Z
UID:a1304149-5820-48ed-b724-c84ca0099436
DTSTART:20260604T183000
DTEND:20260604T193000
DESCRIPTION:
LOCATION:HS Library
SUMMARY:Board of Education Meeting
END:VEVENT
BEGIN:VEVENT
DTSTAMP:20260425T161602Z
UID:768e1009-10d6-4b15-ae97-a7c286557d49
DTSTART:20260605T083000
DTEND:20260605T093000
DESCRIPTION:
LOCATION:
SUMMARY:Kindergarten VIP Breakfast
END:VEVENT
BEGIN:VEVENT
DTSTAMP:20260425T161602Z
UID:8f07aea2-f7e1-4bee-a269-e1ae388beb76
DTSTART;VALUE=DATE:20260606
DTEND;VALUE=DATE:20260607
DESCRIPTION:
LOCATION:
SUMMARY:Foreign Language Sale
END:VEVENT
BEGIN:VEVENT
DTSTAMP:20260425T161602Z
UID:a67c7c14-5475-4023-8ddc-af454b4900c6
DTSTART;VALUE=DATE:20260606
DTEND;VALUE=DATE:20260607
DESCRIPTION:
LOCATION:
SUMMARY:McGraw Around the Block Sales
END:VEVENT
BEGIN:VEVENT
DTSTAMP:20260425T161602Z
UID:c462856d-5d24-4611-a328-8da7c593bc85
DTSTART;VALUE=DATE:20260606
DTEND;VALUE=DATE:20260607
DESCRIPTION:
LOCATION:
SUMMARY:Middle School Table Sale
END:VEVENT
BEGIN:VEVENT
DTSTAMP:20260425T161602Z
UID:38b3382d-3b43-4993-8663-e9e4d58de17b
DTSTART;VALUE=DATE:20260609
DTEND;VALUE=DATE:20260611
DESCRIPTION:
LOCATION:
SUMMARY:Regents Exams
END:VEVENT
BEGIN:VEVENT
DTSTAMP:20260425T161602Z
UID:14ef4944-5cfc-4da6-a1e0-cab539954835
DTSTART:20260609T183000
DTEND:20260609T193000
DESCRIPTION:
LOCATION:High School Auditorium
SUMMARY:Grades 1 & 2 Spring Concert & Art Show
END:VEVENT
BEGIN:VEVENT
DTSTAMP:20260425T161602Z
UID:2cd614db-756b-4b81-b820-3749261b469d
DTSTART:20260610T173000
DTEND:20260610T183000
DESCRIPTION:
LOCATION:Elementary Cafeteria
SUMMARY:PTO Meeting
END:VEVENT
BEGIN:VEVENT
DTSTAMP:20260425T161602Z
UID:d4f230a5-54e9-4e6a-80d5-0f4b891528b2
DTSTART;VALUE=DATE:20260612
DTEND;VALUE=DATE:20260613
DESCRIPTION:
LOCATION:
SUMMARY:JH/HS Yearbook Slide Show & Field Day
END:VEVENT
BEGIN:VEVENT
DTSTAMP:20260425T161602Z
UID:69083c6c-6e72-4e80-a22e-526549c960a8
DTSTART;VALUE=DATE:20260614
DTEND;VALUE=DATE:20260615
DESCRIPTION:
LOCATION:
SUMMARY:Father's Day
END:VEVENT
BEGIN:VEVENT
DTSTAMP:20260425T161602Z
UID:fa4a780a-0caa-4192-a875-20d077413d93
DTSTART;VALUE=DATE:20260615
DTEND;VALUE=DATE:20260616
DESCRIPTION:
LOCATION:Elementary School
SUMMARY:Senior Grad Walk 
END:VEVENT
BEGIN:VEVENT
DTSTAMP:20260425T161602Z
UID:756b8a07-c8e6-4a4b-b06b-dc44463588ca
DTSTART;VALUE=DATE:20260616
DTEND;VALUE=DATE:20260617
DESCRIPTION:
LOCATION:
SUMMARY:End of Marking Period
END:VEVENT
BEGIN:VEVENT
DTSTAMP:20260425T161602Z
UID:356ebe10-f2c2-462e-be32-e7149c573864
DTSTART;VALUE=DATE:20260616
DTEND;VALUE=DATE:20260617
DESCRIPTION:
LOCATION:
SUMMARY:Grades 7-12 Last Day
END:VEVENT
BEGIN:VEVENT
DTSTAMP:20260425T161602Z
UID:8386f8e7-4cd6-4c76-bf7a-b399c9a82f16
DTSTART;VALUE=DATE:20260616
DTEND;VALUE=DATE:20260617
DESCRIPTION:
LOCATION:
SUMMARY:Senior Mystery Trip
END:VEVENT
BEGIN:VEVENT
DTSTAMP:20260425T161602Z
UID:90b4a985-1eaf-4ccb-b4ee-b6f1e10509f2
DTSTART;VALUE=DATE:20260617
DTEND;VALUE=DATE:20260619
DESCRIPTION:
LOCATION:
SUMMARY:Regents Exams
END:VEVENT
BEGIN:VEVENT
DTSTAMP:20260425T161602Z
UID:632b6852-eda9-4941-af16-812fe3ee04a6
DTSTART;VALUE=DATE:20260618
DTEND;VALUE=DATE:20260619
DESCRIPTION:
LOCATION:
SUMMARY:Elementary Student Council Celebration/ Wellness Day
END:VEVENT
BEGIN:VEVENT
DTSTAMP:20260425T161602Z
UID:6a635d83-f0e2-4363-812c-6629b7508367
DTSTART;VALUE=DATE:20260619
DTEND;VALUE=DATE:20260620
DESCRIPTION:
LOCATION:
SUMMARY:Juneteenth
END:VEVENT
BEGIN:VEVENT
DTSTAMP:20260425T161602Z
UID:08029cf8-e42e-4b69-93b8-3d57bc5e0d55
DTSTART;VALUE=DATE:20260622
DTEND;VALUE=DATE:20260623
DESCRIPTION:
LOCATION:
SUMMARY:Elementary Awards
END:VEVENT
BEGIN:VEVENT
DTSTAMP:20260425T161602Z
UID:d5100fb2-c51a-4b49-8a8b-7accf9682e7b
DTSTART:20260622T183000
DTEND:20260622T193000
DESCRIPTION:
LOCATION:High School Auditorium
SUMMARY:Grade 6 Transition Ceremony
END:VEVENT
BEGIN:VEVENT
DTSTAMP:20260425T161602Z
UID:13b0ddda-0102-4385-afd6-e8cc4b3a3075
DTSTART;VALUE=DATE:20260623
DTEND;VALUE=DATE:20260626
DESCRIPTION:
LOCATION:
SUMMARY:Regents Exams
END:VEVENT
BEGIN:VEVENT
DTSTAMP:20260425T161602Z
UID:960bca7e-5003-46e4-b357-dc1e3f867b12
DTSTART:20260623T183000
DTEND:20260623T193000
DESCRIPTION:
LOCATION:Elementary Gym
SUMMARY:PK-4 Graduation
END:VEVENT
BEGIN:VEVENT
DTSTAMP:20260425T161602Z
UID:948c88dc-19e5-4101-810c-81413d888926
DTSTART;VALUE=DATE:20260625
DTEND;VALUE=DATE:20260626
DESCRIPTION:
LOCATION:
SUMMARY:Last Day PK-6
END:VEVENT
BEGIN:VEVENT
DTSTAMP:20260425T161602Z
UID:11638615-7e20-4ca7-bfa9-93c5db408e45
DTSTART:20260625T110000
DTEND:20260625T120000
DESCRIPTION:
LOCATION:
SUMMARY:Mandatory Graduation Rehearsal
END:VEVENT
BEGIN:VEVENT
DTSTAMP:20260425T161602Z
UID:b9f64630-1971-4e25-997b-36591fea6d44
DTSTART;VALUE=DATE:20260626
DTEND;VALUE=DATE:20260627
DESCRIPTION:
LOCATION:
SUMMARY:Rating Day
END:VEVENT
BEGIN:VEVENT
DTSTAMP:20260425T161602Z
UID:4a8a1abb-0b3a-499b-a354-5e24b53a8fef
DTSTART;VALUE=DATE:20260626
DTEND;VALUE=DATE:20260627
DESCRIPTION:
LOCATION:
SUMMARY:Report Cards Issued
END:VEVENT
BEGIN:VEVENT
DTSTAMP:20260425T161602Z
UID:055c12d6-990d-4290-8d7f-9c84fd8f2215
DTSTART:20260626T183000
DTEND:20260626T193000
DESCRIPTION:
LOCATION:
SUMMARY:Class of 2026 Graduation
END:VEVENT
BEGIN:VEVENT
DTSTAMP:20260425T161602Z
UID:23d0b5e1-df3a-4672-b5e9-cb3525df43f0
DTSTART;VALUE=DATE:20260706
DTEND;VALUE=DATE:20260707
DESCRIPTION:
LOCATION:
SUMMARY:Summer Enrichment Adventure begins
END:VEVENT
BEGIN:VEVENT
DTSTAMP:20260425T161602Z
UID:d9fae0f3-25a2-4c7f-a670-bbfaeac516b4
DTSTART;VALUE=DATE:20260707
DTEND;VALUE=DATE:20260712
DESCRIPTION:
LOCATION:
SUMMARY:Summer Enrichment Adventure
END:VEVENT
BEGIN:VEVENT
DTSTAMP:20260425T161602Z
UID:c04e9ea4-644a-449c-bb6c-eb1eb331b97f
DTSTART;VALUE=DATE:20260713
DTEND;VALUE=DATE:20260718
DESCRIPTION:
LOCATION:
SUMMARY:Summer Enrichment Adventure
END:VEVENT
BEGIN:VEVENT
DTSTAMP:20260425T161602Z
UID:d72c261b-1cba-4c1f-a361-7024a22ae7a5
DTSTART;VALUE=DATE:20260720
DTEND;VALUE=DATE:20260725
DESCRIPTION:
LOCATION:
SUMMARY:Summer Enrichment Adventure
END:VEVENT
BEGIN:VEVENT
DTSTAMP:20260425T161602Z
UID:14ed4961-d0c3-4dc3-b63c-a70b46aca387
DTSTART;VALUE=DATE:20260727
DTEND;VALUE=DATE:20260731
DESCRIPTION:
LOCATION:
SUMMARY:Summer Enrichment Adventure
END:VEVENT
BEGIN:VEVENT
DTSTAMP:20260425T161602Z
UID:de26a7ee-2d15-4681-98a5-dd16cc42be42
DTSTART;VALUE=DATE:20260731
DTEND;VALUE=DATE:20260801
DESCRIPTION:
LOCATION:
SUMMARY:Summer Enrichment Adventure ends
END:VEVENT
END:VCALENDAR
