BEGIN:VCALENDAR
VERSION:2.0
PRODID:icalendar-ruby
CALSCALE:GREGORIAN
BEGIN:VTIMEZONE
TZID:America/Chicago
BEGIN:DAYLIGHT
DTSTART:20260308T030000
TZOFFSETFROM:-0600
TZOFFSETTO:-0500
RRULE:FREQ=YEARLY;BYDAY=2SU;BYMONTH=3
TZNAME:CDT
END:DAYLIGHT
BEGIN:STANDARD
DTSTART:20261101T010000
TZOFFSETFROM:-0500
TZOFFSETTO:-0600
RRULE:FREQ=YEARLY;BYDAY=1SU;BYMONTH=11
TZNAME:CST
END:STANDARD
END:VTIMEZONE
BEGIN:VEVENT
DTSTAMP:20260423T213308Z
UID:86677bfe-b12a-4c9f-b849-186582d9b713
DTSTART:20260501T115700
DTEND:20260501T123100
DESCRIPTION:
LOCATION:Cafeteria
SUMMARY:Senior Decision Day Celebration 
END:VEVENT
BEGIN:VEVENT
DTSTAMP:20260423T213308Z
UID:17c5ad9f-4381-4f01-839b-95f2157a73af
DTSTART:20260502T190000
DTEND:20260502T230000
DESCRIPTION:
LOCATION:Hilton Dallas/Plano Granite Park\, 5805 Granite Pkwy\, Plano\, TX 
 75024\, USA
SUMMARY:WGHS Prom 2026
END:VEVENT
BEGIN:VEVENT
DTSTAMP:20260423T213308Z
UID:932768da-cd30-4335-a687-abd1e066a4d2
DTSTART:20260506T115700
DTEND:20260506T123100
DESCRIPTION:
LOCATION:Auditorium
SUMMARY:Junior Class Meeting *Students Only*
END:VEVENT
BEGIN:VEVENT
DTSTAMP:20260423T213308Z
UID:5858d824-c739-4afa-b1b7-8ccea187f417
DTSTART:20260518T190000
DTEND:20260518T200000
DESCRIPTION:
LOCATION:
SUMMARY:School Board Meeting
END:VEVENT
BEGIN:VEVENT
DTSTAMP:20260423T213308Z
UID:f55efa88-047b-4026-8740-662d2b2c4674
DTSTART;VALUE=DATE:20260520
DTEND;VALUE=DATE:20260521
DESCRIPTION:
LOCATION:
SUMMARY:End of 4th 9 Weeks
END:VEVENT
BEGIN:VEVENT
DTSTAMP:20260423T213308Z
UID:a9d0e220-ced6-4f8e-ac45-c6cd7c361384
DTSTART;VALUE=DATE:20260520
DTEND;VALUE=DATE:20260521
DESCRIPTION:
LOCATION:
SUMMARY:Last Day of School
END:VEVENT
BEGIN:VEVENT
DTSTAMP:20260423T213308Z
UID:939a0cf2-13ff-4a5d-96b8-55f49a4a1399
DTSTART;VALUE=DATE:20260521
DTEND;VALUE=DATE:20260522
DESCRIPTION:
LOCATION:
SUMMARY:All Staff Professional Learning
END:VEVENT
BEGIN:VEVENT
DTSTAMP:20260423T213308Z
UID:a8ad4804-4f51-4128-90b2-7ca7d9f5349d
DTSTART;VALUE=DATE:20260522
DTEND;VALUE=DATE:20260523
DESCRIPTION:
LOCATION:
SUMMARY:All Staff Professional Learning
END:VEVENT
BEGIN:VEVENT
DTSTAMP:20260423T213308Z
UID:dba7202c-3223-43be-bc5c-b5cd595451b7
DTSTART:20260522T193000
DTEND:20260522T213000
DESCRIPTION:<a href="https://prosperisdtx.sites.thrillshare.com/o/pisd/page
 /wghs-graduation-update">WGHS Graduation Information</a>
LOCATION:Prosper ISD Children's Health Stadium\, 2000 Stadium Dr\, Prosper\
 , TX 75078\, USA
SUMMARY:Walnut Grove High School Graduation
END:VEVENT
BEGIN:VEVENT
DTSTAMP:20260423T213308Z
UID:d74a798c-71f2-43c7-bd8e-f25e046212b7
DTSTART;VALUE=DATE:20260525
DTEND;VALUE=DATE:20260526
DESCRIPTION:
LOCATION:
SUMMARY:School Holiday
END:VEVENT
BEGIN:VEVENT
DTSTAMP:20260423T213308Z
UID:54e1b10f-f2bb-4e12-a94c-30e82cc3ea20
DTSTART:20260601T090000
DTEND:20260601T100000
DESCRIPTION:
LOCATION:LGI - Room 1080
SUMMARY:New to Prosper ISD Student Orientation (9th Grade)
END:VEVENT
BEGIN:VEVENT
DTSTAMP:20260423T213308Z
UID:624b4b7b-f223-444e-9f13-218ab6a14974
DTSTART:20260601T100000
DTEND:20260601T110000
DESCRIPTION:
LOCATION:LGI - Room 1080
SUMMARY:New to Prosper ISD Student Orientation (10th Grade)
END:VEVENT
BEGIN:VEVENT
DTSTAMP:20260423T213308Z
UID:39dbe663-963c-42d4-9d14-d03b229c7e7c
DTSTART:20260601T130000
DTEND:20260601T140000
DESCRIPTION:
LOCATION:LGI - Room 1080
SUMMARY:New to Prosper ISD Student Orientation (11th Grade)
END:VEVENT
BEGIN:VEVENT
DTSTAMP:20260423T213308Z
UID:f3331e79-9286-4b77-aa3b-e09429417912
DTSTART:20260601T140000
DTEND:20260601T150000
DESCRIPTION:
LOCATION:LGI - Room 1080
SUMMARY:New to Prosper ISD Student Orientation (12th Grade)
END:VEVENT
BEGIN:VEVENT
DTSTAMP:20260423T213308Z
UID:763841d3-9263-4eb2-9d4c-398dddbae3ad
DTSTART:20260615T190000
DTEND:20260615T200000
DESCRIPTION:
LOCATION:
SUMMARY:School Board Meeting
END:VEVENT
BEGIN:VEVENT
DTSTAMP:20260423T213308Z
UID:7167c199-2c47-481f-bca2-783493235230
DTSTART:20260722T100000
DTEND:20260722T110000
DESCRIPTION:
LOCATION:LGI - Room 1080
SUMMARY:New to Prosper ISD Student Orientation (9th Grade)
END:VEVENT
BEGIN:VEVENT
DTSTAMP:20260423T213308Z
UID:cdf1fd30-da77-4f6c-b6e0-cbc448b8a7cd
DTSTART:20260722T130000
DTEND:20260722T140000
DESCRIPTION:
LOCATION:LGI - Room 1080
SUMMARY:New to Prosper ISD Student Orientation (10th Grade)
END:VEVENT
BEGIN:VEVENT
DTSTAMP:20260423T213308Z
UID:b525ec32-e16d-4d8a-8755-cdd692b6eaef
DTSTART:20260723T100000
DTEND:20260723T110000
DESCRIPTION:
LOCATION:LGI - Room 1080
SUMMARY:New to Prosper ISD Student Orientation (11th Grade)
END:VEVENT
BEGIN:VEVENT
DTSTAMP:20260423T213308Z
UID:05d1a691-6955-4f22-964f-76a22801e7fd
DTSTART:20260723T130000
DTEND:20260723T160000
DESCRIPTION:
LOCATION:Walnut Grove High School\, 3500 E First St\, Prosper\, TX 75078\, 
 USA
SUMMARY:Fish Camp for Incoming Freshmen & New to Prosper ISD 
END:VEVENT
BEGIN:VEVENT
DTSTAMP:20260423T213308Z
UID:d3df40fc-c864-4da5-a1cd-727de3956b2f
DTSTART:20260723T130000
DTEND:20260723T140000
DESCRIPTION:
LOCATION:LGI - Room 1080
SUMMARY:New to Prosper ISD Student Orientation (12th Grade)
END:VEVENT
END:VCALENDAR
