BEGIN:VCALENDAR
VERSION:2.0
PRODID:icalendar-ruby
CALSCALE:GREGORIAN
BEGIN:VTIMEZONE
TZID:America/Chicago
BEGIN:DAYLIGHT
DTSTART:20260308T030000
TZOFFSETFROM:-0600
TZOFFSETTO:-0500
RRULE:FREQ=YEARLY;BYDAY=2SU;BYMONTH=3
TZNAME:CDT
END:DAYLIGHT
BEGIN:STANDARD
DTSTART:20261101T010000
TZOFFSETFROM:-0500
TZOFFSETTO:-0600
RRULE:FREQ=YEARLY;BYDAY=1SU;BYMONTH=11
TZNAME:CST
END:STANDARD
END:VTIMEZONE
BEGIN:VEVENT
DTSTAMP:20260423T130049Z
UID:c1752d71-f05e-4174-bed8-472ea09bf2a1
DTSTART:20260429T080000
DTEND:20260429T090000
DESCRIPTION:
LOCATION:
SUMMARY:3rd-5th Math STAAR
END:VEVENT
BEGIN:VEVENT
DTSTAMP:20260423T130049Z
UID:ea75a687-9b0d-44cc-b2c8-4f5bee2a5c2e
DTSTART;VALUE=DATE:20260501
DTEND;VALUE=DATE:20260502
DESCRIPTION:
LOCATION:
SUMMARY:Field Day
END:VEVENT
BEGIN:VEVENT
DTSTAMP:20260423T130049Z
UID:0ddeab79-bcb4-47e8-adac-91fb08a516b7
DTSTART:20260501T080000
DTEND:20260501T084500
DESCRIPTION:
LOCATION:
SUMMARY:Lilyana Live
END:VEVENT
BEGIN:VEVENT
DTSTAMP:20260423T130049Z
UID:48ae3052-a3b2-4c5b-8079-3637ca253ae0
DTSTART:20260505T173000
DTEND:20260505T180000
DESCRIPTION:
LOCATION:
SUMMARY:Kindergarten Music Program
END:VEVENT
BEGIN:VEVENT
DTSTAMP:20260423T130049Z
UID:8fd8ec40-6093-47cd-9ab6-c1011582707b
DTSTART:20260505T180000
DTEND:20260505T183000
DESCRIPTION:
LOCATION:
SUMMARY:Kindergarten Music Program
END:VEVENT
BEGIN:VEVENT
DTSTAMP:20260423T130049Z
UID:6588e6e5-e17a-4f56-bbfd-0aac6dcc3afd
DTSTART:20260513T090000
DTEND:20260513T094500
DESCRIPTION:
LOCATION:
SUMMARY:Kindergarten Awards
END:VEVENT
BEGIN:VEVENT
DTSTAMP:20260423T130049Z
UID:532d5a42-53c6-4fb4-9a6b-f708433b62f4
DTSTART:20260513T100000
DTEND:20260513T104500
DESCRIPTION:
LOCATION:
SUMMARY:2nd Grade Awards
END:VEVENT
BEGIN:VEVENT
DTSTAMP:20260423T130049Z
UID:c6f52dc9-512e-431f-8f96-10dbf83174b1
DTSTART:20260514T090000
DTEND:20260514T094500
DESCRIPTION:
LOCATION:
SUMMARY:3rd Grade Awards
END:VEVENT
BEGIN:VEVENT
DTSTAMP:20260423T130049Z
UID:5bef160c-1b88-4b08-96fb-df274aaa3601
DTSTART:20260514T100000
DTEND:20260514T104500
DESCRIPTION:
LOCATION:
SUMMARY:1st Grade Awards
END:VEVENT
BEGIN:VEVENT
DTSTAMP:20260423T130049Z
UID:2874010a-9495-4cb7-a1b7-e56cec74724d
DTSTART:20260514T110000
DTEND:20260514T114500
DESCRIPTION:
LOCATION:
SUMMARY:4th Grade Awards
END:VEVENT
BEGIN:VEVENT
DTSTAMP:20260423T130049Z
UID:52510f1f-b974-4755-9c60-51a6786316a2
DTSTART;VALUE=DATE:20260515
DTEND;VALUE=DATE:20260516
DESCRIPTION:
LOCATION:
SUMMARY:End of Year Parties
END:VEVENT
BEGIN:VEVENT
DTSTAMP:20260423T130049Z
UID:f10665bf-651c-439e-90c2-eeac503c22ca
DTSTART;VALUE=DATE:20260518
DTEND;VALUE=DATE:20260519
DESCRIPTION:
LOCATION:
SUMMARY:Lilyana Talent Show
END:VEVENT
BEGIN:VEVENT
DTSTAMP:20260423T130049Z
UID:bbb897a3-b635-481a-8adb-b819044260e5
DTSTART:20260518T190000
DTEND:20260518T200000
DESCRIPTION:<a href="https://live.myvrspot.com/player?udi=cHJvc3Blcg%3D%3D&
 c=cHJvc3BlcjE%3D">https://www.google.com/url?q=https://live.myvrspot.com/p
 layer?udi%3DcHJvc3Blcg%253D%253D%26c%3DcHJvc3BlcjE%253D&amp\;sa=D&amp\;sou
 rce=calendar&amp\;ust=1757790949607209&amp\;usg=AOvVaw2YBiomI3uqMCSyYP6Lh8
 3o</a>
LOCATION:Prosper ISD Administration\, 605 E 7th St\, Prosper\, TX 75078\, U
 SA
SUMMARY:School Board Meeting
END:VEVENT
BEGIN:VEVENT
DTSTAMP:20260423T130049Z
UID:1299e0f8-8368-47a8-a489-ff6ce1b4f425
DTSTART:20260519T083000
DTEND:20260520T094500
DESCRIPTION:
LOCATION:
SUMMARY:5th Grade Awards
END:VEVENT
BEGIN:VEVENT
DTSTAMP:20260423T130049Z
UID:e6219da9-f6ab-43ca-b7ea-a53ce3e49b4f
DTSTART;VALUE=DATE:20260520
DTEND;VALUE=DATE:20260521
DESCRIPTION:
LOCATION:
SUMMARY:End of 4th 9 Weeks / Last Day of School
END:VEVENT
BEGIN:VEVENT
DTSTAMP:20260423T130049Z
UID:7aa2c6ce-adba-49d5-9763-f0cdc75dac8a
DTSTART;VALUE=DATE:20260521
DTEND;VALUE=DATE:20260523
DESCRIPTION:<a href="https://prosperisdtx.sites.thrillshare.com/o/pisd/page
 /graduation">Graduation Information</a>
LOCATION:
SUMMARY:Prosper ISD Graduations
END:VEVENT
BEGIN:VEVENT
DTSTAMP:20260423T130049Z
UID:4b36b9d5-1324-441b-a9b7-1de8dbdc9808
DTSTART;VALUE=DATE:20260521
DTEND;VALUE=DATE:20260523
DESCRIPTION:
LOCATION:
SUMMARY:Staff Professional Learning
END:VEVENT
BEGIN:VEVENT
DTSTAMP:20260423T130049Z
UID:ad1ea8bd-5736-42de-bbf5-1fe729a54551
DTSTART:20260521T090000
DTEND:20260521T110000
DESCRIPTION:<a href="https://prosperisdtx.sites.thrillshare.com/o/pisd/page
 /phs-graduation">PHS Graduation Information</a>
LOCATION:Prosper ISD Children's Health Stadium\, 2000 Stadium Dr\, Prosper\
 , TX 75078\, USA
SUMMARY:Prosper High School Graduation 
END:VEVENT
BEGIN:VEVENT
DTSTAMP:20260423T130049Z
UID:9829d903-d491-4aca-8c51-d0294daab4f9
DTSTART:20260521T193000
DTEND:20260521T213000
DESCRIPTION:<a href="https://prosperisdtx.sites.thrillshare.com/o/pisd/page
 /rhhs-graduation">RHHS Graduation Information</a>
LOCATION:Prosper ISD Children's Health Stadium\, 2000 Stadium Dr\, Prosper\
 , TX 75078\, USA
SUMMARY:Rock Hill High School Graduation
END:VEVENT
BEGIN:VEVENT
DTSTAMP:20260423T130049Z
UID:46aba415-74e8-4867-88f2-501ddecfc36d
DTSTART:20260522T090000
DTEND:20260522T110000
DESCRIPTION:<a href="https://prosperisdtx.sites.thrillshare.com/o/pisd/page
 /rhs-graduation">RHS Graduation Information</a>
LOCATION:Prosper ISD Children's Health Stadium\, 2000 Stadium Dr\, Prosper\
 , TX 75078\, USA
SUMMARY:Richland High School Graduation
END:VEVENT
BEGIN:VEVENT
DTSTAMP:20260423T130049Z
UID:c5a6e1c6-57ed-4254-be83-fec7defea3b7
DTSTART:20260522T193000
DTEND:20260522T213000
DESCRIPTION:<a href="https://prosperisdtx.sites.thrillshare.com/o/pisd/page
 /wghs-graduation-update">WGHS Graduation Information</a>
LOCATION:Prosper ISD Children's Health Stadium\, 2000 Stadium Dr\, Prosper\
 , TX 75078\, USA
SUMMARY:Walnut Grove High School Graduation
END:VEVENT
BEGIN:VEVENT
DTSTAMP:20260423T130049Z
UID:9fb369ca-87e5-45f6-a30c-d0d98d9d5075
DTSTART:20260615T190000
DTEND:20260615T200000
DESCRIPTION:<a href="https://live.myvrspot.com/player?udi=cHJvc3Blcg%3D%3D&
 c=cHJvc3BlcjE%3D">https://www.google.com/url?q=https://live.myvrspot.com/p
 layer?udi%3DcHJvc3Blcg%253D%253D%26c%3DcHJvc3BlcjE%253D&amp\;sa=D&amp\;sou
 rce=calendar&amp\;ust=1757790949607209&amp\;usg=AOvVaw2YBiomI3uqMCSyYP6Lh8
 3o</a>
LOCATION:Prosper ISD Administration\, 605 E 7th St\, Prosper\, TX 75078\, U
 SA
SUMMARY:School Board Meeting
END:VEVENT
BEGIN:VEVENT
DTSTAMP:20260423T130049Z
UID:77908bee-ce2c-4f69-88eb-fc17faea3268
DTSTART;VALUE=DATE:20260903
DTEND;VALUE=DATE:20260904
DESCRIPTION:
LOCATION:
SUMMARY:School Pictures
END:VEVENT
BEGIN:VEVENT
DTSTAMP:20260423T130049Z
UID:3cd9a139-ed45-4912-8dba-9c0483836871
DTSTART;VALUE=DATE:20261105
DTEND;VALUE=DATE:20261106
DESCRIPTION:
LOCATION:
SUMMARY:Picture Retakes
END:VEVENT
BEGIN:VEVENT
DTSTAMP:20260423T130049Z
UID:dc833a6e-a063-4c8c-b5f3-3a7b2fcb5ac6
DTSTART;VALUE=DATE:20270413
DTEND;VALUE=DATE:20270414
DESCRIPTION:
LOCATION:
SUMMARY:Spring Pictures
END:VEVENT
END:VCALENDAR
