BEGIN:VCALENDAR
VERSION:2.0
PRODID:icalendar-ruby
CALSCALE:GREGORIAN
BEGIN:VTIMEZONE
TZID:America/Chicago
BEGIN:DAYLIGHT
DTSTART:20260308T030000
TZOFFSETFROM:-0600
TZOFFSETTO:-0500
RRULE:FREQ=YEARLY;BYDAY=2SU;BYMONTH=3
TZNAME:CDT
END:DAYLIGHT
BEGIN:STANDARD
DTSTART:20261101T010000
TZOFFSETFROM:-0500
TZOFFSETTO:-0600
RRULE:FREQ=YEARLY;BYDAY=1SU;BYMONTH=11
TZNAME:CST
END:STANDARD
END:VTIMEZONE
BEGIN:VEVENT
DTSTAMP:20260423T092217Z
UID:ffd2eaef-9d26-44e3-844e-a280863afbe9
DTSTART:20260423T180000
DTEND:20260423T183000
DESCRIPTION:
LOCATION:
SUMMARY:Kinder Musical Performance
END:VEVENT
BEGIN:VEVENT
DTSTAMP:20260423T092217Z
UID:10bb85ac-9329-492c-ac29-8a7e396ad4b3
DTSTART:20260424T071000
DTEND:20260424T074500
DESCRIPTION:
LOCATION:
SUMMARY:All Pro Dads
END:VEVENT
BEGIN:VEVENT
DTSTAMP:20260423T092217Z
UID:11e3da94-e0ce-4230-a47f-41eac34ca092
DTSTART:20260424T080000
DTEND:20260424T084000
DESCRIPTION:
LOCATION:
SUMMARY:Champion Assembly
END:VEVENT
BEGIN:VEVENT
DTSTAMP:20260423T092217Z
UID:5250f6af-f0ac-47de-b219-14ffe73fd76b
DTSTART:20260428T080000
DTEND:20260428T150000
DESCRIPTION:
LOCATION:
SUMMARY:Math STAAR
END:VEVENT
BEGIN:VEVENT
DTSTAMP:20260423T092217Z
UID:edc20927-9730-42c2-9eef-59ed7ec7a444
DTSTART:20260501T090000
DTEND:20260501T130000
DESCRIPTION:
LOCATION:
SUMMARY:Choir to Pinstack
END:VEVENT
BEGIN:VEVENT
DTSTAMP:20260423T092217Z
UID:19e7a4cb-7a7a-402e-bc42-366e075e43e5
DTSTART;VALUE=DATE:20260508
DTEND;VALUE=DATE:20260509
DESCRIPTION:
LOCATION:
SUMMARY:Field Day
END:VEVENT
BEGIN:VEVENT
DTSTAMP:20260423T092217Z
UID:ec246d0b-58ec-4b66-b066-88ef50a9d8cc
DTSTART:20260514T133000
DTEND:20260514T143000
DESCRIPTION:
LOCATION:
SUMMARY:Cockrell Talent Show Part 1
END:VEVENT
BEGIN:VEVENT
DTSTAMP:20260423T092217Z
UID:a8531a0a-f4ef-4d79-8fb1-42a8929f030b
DTSTART:20260515T133000
DTEND:20260515T143000
DESCRIPTION:
LOCATION:
SUMMARY:Cockrell Talent Show Part 2
END:VEVENT
BEGIN:VEVENT
DTSTAMP:20260423T092217Z
UID:1618a4fb-0827-4bf2-be7d-e519f4c26b21
DTSTART;VALUE=DATE:20260518
DTEND;VALUE=DATE:20260519
DESCRIPTION:
LOCATION:
SUMMARY:Celebration of Learning
END:VEVENT
BEGIN:VEVENT
DTSTAMP:20260423T092217Z
UID:fdb7a2c9-7ac7-4d55-9dc9-996d5d43f26c
DTSTART:20260518T190000
DTEND:20260518T200000
DESCRIPTION:<a href="https://live.myvrspot.com/player?udi=cHJvc3Blcg%3D%3D&
 c=cHJvc3BlcjE%3D">https://www.google.com/url?q=https://live.myvrspot.com/p
 layer?udi%3DcHJvc3Blcg%253D%253D%26c%3DcHJvc3BlcjE%253D&amp\;sa=D&amp\;sou
 rce=calendar&amp\;ust=1757790949607209&amp\;usg=AOvVaw2YBiomI3uqMCSyYP6Lh8
 3o</a>
LOCATION:Prosper ISD Administration\, 605 E 7th St\, Prosper\, TX 75078\, U
 SA
SUMMARY:School Board Meeting
END:VEVENT
BEGIN:VEVENT
DTSTAMP:20260423T092217Z
UID:ad36e96b-4f76-46c1-96d3-c9b42b1077bd
DTSTART:20260519T090000
DTEND:20260519T130000
DESCRIPTION:
LOCATION:
SUMMARY:5th Grade EOY Party
END:VEVENT
BEGIN:VEVENT
DTSTAMP:20260423T092217Z
UID:929f4926-a9b6-44b6-9f49-56e8a7487c0c
DTSTART;VALUE=DATE:20260520
DTEND;VALUE=DATE:20260521
DESCRIPTION:
LOCATION:
SUMMARY:End of 4th 9 Weeks / Last Day of School
END:VEVENT
BEGIN:VEVENT
DTSTAMP:20260423T092217Z
UID:09fc5905-3d65-4a9f-9abc-133df71204ae
DTSTART:20260520T080000
DTEND:20260520T084000
DESCRIPTION:
LOCATION:
SUMMARY:Champion Assembly/EOY Parties/5th Grade Walk Halls
END:VEVENT
BEGIN:VEVENT
DTSTAMP:20260423T092217Z
UID:c24decef-adad-447a-9e27-2a490478959c
DTSTART;VALUE=DATE:20260521
DTEND;VALUE=DATE:20260523
DESCRIPTION:<a href="https://prosperisdtx.sites.thrillshare.com/o/pisd/page
 /graduation">Graduation Information</a>
LOCATION:
SUMMARY:Prosper ISD Graduations
END:VEVENT
BEGIN:VEVENT
DTSTAMP:20260423T092217Z
UID:1ce16b87-5757-4bc8-9e1d-5b533bdbbc07
DTSTART;VALUE=DATE:20260521
DTEND;VALUE=DATE:20260523
DESCRIPTION:
LOCATION:
SUMMARY:Staff Professional Learning
END:VEVENT
BEGIN:VEVENT
DTSTAMP:20260423T092217Z
UID:f5a56b18-0c0b-4dbb-bf4a-161bef063a36
DTSTART:20260521T090000
DTEND:20260521T110000
DESCRIPTION:<a href="https://prosperisdtx.sites.thrillshare.com/o/pisd/page
 /phs-graduation">PHS Graduation Information</a>
LOCATION:Prosper ISD Children's Health Stadium\, 2000 Stadium Dr\, Prosper\
 , TX 75078\, USA
SUMMARY:Prosper High School Graduation 
END:VEVENT
BEGIN:VEVENT
DTSTAMP:20260423T092217Z
UID:e71db885-4c47-4b13-9086-6a1270cf6819
DTSTART:20260521T193000
DTEND:20260521T213000
DESCRIPTION:<a href="https://prosperisdtx.sites.thrillshare.com/o/pisd/page
 /rhhs-graduation">RHHS Graduation Information</a>
LOCATION:Prosper ISD Children's Health Stadium\, 2000 Stadium Dr\, Prosper\
 , TX 75078\, USA
SUMMARY:Rock Hill High School Graduation
END:VEVENT
BEGIN:VEVENT
DTSTAMP:20260423T092217Z
UID:9218eb86-981c-4fca-9354-de0aca77705c
DTSTART:20260522T090000
DTEND:20260522T110000
DESCRIPTION:<a href="https://prosperisdtx.sites.thrillshare.com/o/pisd/page
 /rhs-graduation">RHS Graduation Information</a>
LOCATION:Prosper ISD Children's Health Stadium\, 2000 Stadium Dr\, Prosper\
 , TX 75078\, USA
SUMMARY:Richland High School Graduation
END:VEVENT
BEGIN:VEVENT
DTSTAMP:20260423T092217Z
UID:9b0b2017-a71c-4304-b4a0-09186ee1340c
DTSTART:20260522T193000
DTEND:20260522T213000
DESCRIPTION:<a href="https://prosperisdtx.sites.thrillshare.com/o/pisd/page
 /wghs-graduation-update">WGHS Graduation Information</a>
LOCATION:Prosper ISD Children's Health Stadium\, 2000 Stadium Dr\, Prosper\
 , TX 75078\, USA
SUMMARY:Walnut Grove High School Graduation
END:VEVENT
BEGIN:VEVENT
DTSTAMP:20260423T092217Z
UID:deb1e346-eb89-4f96-a3d9-552ef4b45644
DTSTART:20260615T190000
DTEND:20260615T200000
DESCRIPTION:<a href="https://live.myvrspot.com/player?udi=cHJvc3Blcg%3D%3D&
 c=cHJvc3BlcjE%3D">https://www.google.com/url?q=https://live.myvrspot.com/p
 layer?udi%3DcHJvc3Blcg%253D%253D%26c%3DcHJvc3BlcjE%253D&amp\;sa=D&amp\;sou
 rce=calendar&amp\;ust=1757790949607209&amp\;usg=AOvVaw2YBiomI3uqMCSyYP6Lh8
 3o</a>
LOCATION:Prosper ISD Administration\, 605 E 7th St\, Prosper\, TX 75078\, U
 SA
SUMMARY:School Board Meeting
END:VEVENT
END:VCALENDAR
