BEGIN:VCALENDAR
VERSION:2.0
PRODID:icalendar-ruby
CALSCALE:GREGORIAN
BEGIN:VTIMEZONE
TZID:America/Chicago
BEGIN:DAYLIGHT
DTSTART:20260308T030000
TZOFFSETFROM:-0600
TZOFFSETTO:-0500
RRULE:FREQ=YEARLY;BYDAY=2SU;BYMONTH=3
TZNAME:CDT
END:DAYLIGHT
BEGIN:STANDARD
DTSTART:20261101T010000
TZOFFSETFROM:-0500
TZOFFSETTO:-0600
RRULE:FREQ=YEARLY;BYDAY=1SU;BYMONTH=11
TZNAME:CST
END:STANDARD
END:VTIMEZONE
BEGIN:VEVENT
DTSTAMP:20260419T125456Z
UID:86d48752-3e4d-4e65-9430-23357be85953
DTSTART:20260421T100000
DTEND:20260421T160000
DESCRIPTION:
LOCATION:Okemah\, OK 74859\, USA
SUMMARY:Track Meet JH
END:VEVENT
BEGIN:VEVENT
DTSTAMP:20260419T125456Z
UID:8ce3db42-1df9-4754-bd00-42d4e1c6cc9e
DTSTART:20260424T100000
DTEND:20260424T160000
DESCRIPTION:
LOCATION:Sallisaw\, OK 74955\, USA
SUMMARY:Track Meet HS
END:VEVENT
BEGIN:VEVENT
DTSTAMP:20260419T125456Z
UID:2d2b709b-4b6e-409f-a832-92b5f8d0968f
DTSTART:20260427T100000
DTEND:20260427T160000
DESCRIPTION:
LOCATION:11461 OK-31\, Haywood\, OK 74501\, USA
SUMMARY:Track Meet  2nd - 4th grades
END:VEVENT
BEGIN:VEVENT
DTSTAMP:20260419T125456Z
UID:c87b435f-77f3-4655-b3b8-266653b23b26
DTSTART:20260427T100000
DTEND:20260427T160000
DESCRIPTION:
LOCATION:Okemah\, OK 74859\, USA
SUMMARY:Track Meet HS
END:VEVENT
BEGIN:VEVENT
DTSTAMP:20260419T125456Z
UID:8e3180e6-51aa-4c18-b999-893ccd563deb
DTSTART:20260429T100000
DTEND:20260429T160000
DESCRIPTION:
LOCATION:Haywood\, OK 74501\, USA
SUMMARY:Track Meet 5/6
END:VEVENT
BEGIN:VEVENT
DTSTAMP:20260419T125456Z
UID:e0c51b3e-f2a8-4dd0-a601-2039deb5697e
DTSTART:20260501T100000
DTEND:20260501T160000
DESCRIPTION:
LOCATION:Haywood\, OK 74501\, USA
SUMMARY:Track Meet JH
END:VEVENT
BEGIN:VEVENT
DTSTAMP:20260419T125456Z
UID:05294797-ba60-4c2c-bc13-ca7fc4ee2553
DTSTART:20260502T080000
DTEND:20260502T160000
DESCRIPTION:
LOCATION:TBA
SUMMARY:Track Meet Regionals HS
END:VEVENT
BEGIN:VEVENT
DTSTAMP:20260419T125456Z
UID:c861bb4d-bcf0-4ac2-a498-e7535efd604e
DTSTART:20260503T180000
DTEND:20260503T200000
DESCRIPTION:
LOCATION:PO Box 158\, Pittsburg\, OK 74560\, USA
SUMMARY:Senior Class Baccalaureate
END:VEVENT
BEGIN:VEVENT
DTSTAMP:20260419T125456Z
UID:33aec409-2a91-4beb-a82b-6f514103710a
DTSTART:20260505T183000
DTEND:20260505T203000
DESCRIPTION:
LOCATION:Pittsburg School Old Gym
SUMMARY:Sports Banquet
END:VEVENT
BEGIN:VEVENT
DTSTAMP:20260419T125456Z
UID:15ce15ea-640f-4246-86e6-c641464817b6
DTSTART:20260507T080000
DTEND:20260507T153000
DESCRIPTION:
LOCATION:
SUMMARY:Last Day of School
END:VEVENT
BEGIN:VEVENT
DTSTAMP:20260419T125456Z
UID:86d5c0a3-17ae-47a7-a77b-52878ce76638
DTSTART:20260507T100000
DTEND:20260507T110000
DESCRIPTION:
LOCATION:Pittsburg School Old Gym
SUMMARY:Kindergarten Graduation
END:VEVENT
BEGIN:VEVENT
DTSTAMP:20260419T125456Z
UID:9e02d270-a4cd-4e25-b134-12578e0af89e
DTSTART:20260507T133000
DTEND:20260507T150000
DESCRIPTION:
LOCATION:Pittsburg School Old Gym
SUMMARY:Awards Assembly 
END:VEVENT
BEGIN:VEVENT
DTSTAMP:20260419T125456Z
UID:6521aedd-c5df-41c0-a0f8-3d7d8fc5cbf4
DTSTART:20260507T180000
DTEND:20260507T184500
DESCRIPTION:
LOCATION:
SUMMARY:8th Grade Graduation
END:VEVENT
BEGIN:VEVENT
DTSTAMP:20260419T125456Z
UID:c7833a59-ab89-4bf1-829e-c3b95e72b1fd
DTSTART:20260507T190000
DTEND:20260507T200000
DESCRIPTION:
LOCATION:
SUMMARY:Senior Graduation
END:VEVENT
BEGIN:VEVENT
DTSTAMP:20260419T125456Z
UID:e9f803ef-1469-4f9d-a757-213ac2b1a2d1
DTSTART:20260508T080000
DTEND:20260508T160000
DESCRIPTION:
LOCATION:TBA
SUMMARY:Track Meet State HS
END:VEVENT
END:VCALENDAR
