BEGIN:VCALENDAR
VERSION:2.0
PRODID:icalendar-ruby
CALSCALE:GREGORIAN
BEGIN:VTIMEZONE
TZID:America/Chicago
BEGIN:DAYLIGHT
DTSTART:20260308T030000
TZOFFSETFROM:-0600
TZOFFSETTO:-0500
RRULE:FREQ=YEARLY;BYDAY=2SU;BYMONTH=3
TZNAME:CDT
END:DAYLIGHT
BEGIN:STANDARD
DTSTART:20261101T010000
TZOFFSETFROM:-0500
TZOFFSETTO:-0600
RRULE:FREQ=YEARLY;BYDAY=1SU;BYMONTH=11
TZNAME:CST
END:STANDARD
END:VTIMEZONE
BEGIN:VEVENT
DTSTAMP:20260425T102923Z
UID:ee77b564-3fc4-4513-a707-aa9100382137
DTSTART;VALUE=DATE:20260423
DTEND;VALUE=DATE:20260426
DESCRIPTION:
LOCATION:
SUMMARY:JH Baseball @ Skiatook Tournament
END:VEVENT
BEGIN:VEVENT
DTSTAMP:20260425T102923Z
UID:4fcfb751-3b93-4846-9673-2d00543d0611
DTSTART:20260430T090000
DTEND:20260430T100000
DESCRIPTION:
LOCATION:
SUMMARY:JH Track Conference @ Claremore
END:VEVENT
BEGIN:VEVENT
DTSTAMP:20260425T102923Z
UID:cb3bb9cb-f615-41d1-a89d-9fc9207c3a5d
DTSTART:20260430T170000
DTEND:20260430T180000
DESCRIPTION:
LOCATION:
SUMMARY:JH Baseball vs Porter
END:VEVENT
BEGIN:VEVENT
DTSTAMP:20260425T102923Z
UID:a55b49da-af99-416f-9ff9-4b4a2344b936
DTSTART:20260504T083000
DTEND:20260504T093000
DESCRIPTION:
LOCATION:
SUMMARY:Teacher Appreciation Week 5/4-5/8
END:VEVENT
BEGIN:VEVENT
DTSTAMP:20260425T102923Z
UID:2502b6db-0502-4a8c-9f05-8c494a1e49b6
DTSTART:20260508T094500
DTEND:20260508T114500
DESCRIPTION:
LOCATION:
SUMMARY:Reward Day - Park Day
END:VEVENT
BEGIN:VEVENT
DTSTAMP:20260425T102923Z
UID:51860044-82f3-4fd1-94b3-a0cee63726e0
DTSTART:20260513T133000
DTEND:20260513T143000
DESCRIPTION:
LOCATION:
SUMMARY:2025-2026 Awards Assembly
END:VEVENT
BEGIN:VEVENT
DTSTAMP:20260425T102923Z
UID:999d05b2-502b-4ede-a244-0cbf83d53558
DTSTART:20260515T144500
DTEND:20260515T164500
DESCRIPTION:
LOCATION:
SUMMARY:8th Grade Celebration
END:VEVENT
BEGIN:VEVENT
DTSTAMP:20260425T102923Z
UID:877e533f-2025-4832-be34-7d8357beed4b
DTSTART:20260520T113000
DTEND:20260520T133000
DESCRIPTION:
LOCATION:
SUMMARY:Award Winner Roller Skating
END:VEVENT
BEGIN:VEVENT
DTSTAMP:20260425T102923Z
UID:2006264c-8ae3-44ff-a0e2-13eeb10711f7
DTSTART:20260520T150000
DTEND:20260520T153000
DESCRIPTION:
LOCATION:
SUMMARY:8th Grade Walk
END:VEVENT
BEGIN:VEVENT
DTSTAMP:20260425T102923Z
UID:99b52cee-2c58-4202-98a4-a30394812f8a
DTSTART:20260521T083000
DTEND:20260521T153000
DESCRIPTION:
LOCATION:
SUMMARY:Last Day of School - Semester Finals 
END:VEVENT
END:VCALENDAR
