BEGIN:VCALENDAR
VERSION:2.0
PRODID:icalendar-ruby
CALSCALE:GREGORIAN
BEGIN:VTIMEZONE
TZID:America/New_York
BEGIN:DAYLIGHT
DTSTART:20260308T030000
TZOFFSETFROM:-0500
TZOFFSETTO:-0400
RRULE:FREQ=YEARLY;BYDAY=2SU;BYMONTH=3
TZNAME:EDT
END:DAYLIGHT
BEGIN:STANDARD
DTSTART:20261101T010000
TZOFFSETFROM:-0400
TZOFFSETTO:-0500
RRULE:FREQ=YEARLY;BYDAY=1SU;BYMONTH=11
TZNAME:EST
END:STANDARD
END:VTIMEZONE
BEGIN:VEVENT
DTSTAMP:20260420T195715Z
UID:56b0ee04-3685-4ec3-90c2-52e126e280d1
DTSTART:20260422T180000
DTEND:20260422T200000
DESCRIPTION:<p>Administration Building</p>
LOCATION:3228 Coles Mill Rd\, Franklinville\, NJ 08322\, USA
SUMMARY:Board Meeting - Work Session
END:VEVENT
BEGIN:VEVENT
DTSTAMP:20260420T195715Z
UID:33872977-30ba-4f66-97d4-78a761a914ac
DTSTART;VALUE=DATE:20260423
DTEND;VALUE=DATE:20260424
DESCRIPTION:
LOCATION:
SUMMARY:CLR - Take Your Child to Work Day
END:VEVENT
BEGIN:VEVENT
DTSTAMP:20260420T195715Z
UID:6f10aa49-c46c-408f-88ae-d73d55159f5d
DTSTART:20260430T110000
DTEND:20260430T134500
DESCRIPTION:
LOCATION:
SUMMARY:CLR - Spring Music Concert Practice
END:VEVENT
BEGIN:VEVENT
DTSTAMP:20260420T195715Z
UID:a8795ef6-0d65-4968-88a0-4f530120370a
DTSTART:20260430T190000
DTEND:20260430T200000
DESCRIPTION:
LOCATION:
SUMMARY:CLR - Spring Music Concert
END:VEVENT
BEGIN:VEVENT
DTSTAMP:20260420T195715Z
UID:224b2566-66bf-4903-b863-914feb97c77e
DTSTART:20260504T180000
DTEND:20260504T200000
DESCRIPTION:<p>All-Purpose Room</p>
LOCATION:1532 Pennsylvania Ave\, Franklinville\, NJ 08322\, USA
SUMMARY:Board Meeting
END:VEVENT
BEGIN:VEVENT
DTSTAMP:20260420T195715Z
UID:8b978576-1123-49cc-ac35-8009e57c65f8
DTSTART;VALUE=DATE:20260505
DTEND;VALUE=DATE:20260506
DESCRIPTION:
LOCATION:
SUMMARY:MFJ PTA Staff Appreciation Day
END:VEVENT
BEGIN:VEVENT
DTSTAMP:20260420T195715Z
UID:6e85eaef-6751-45df-9290-70c310a268e9
DTSTART;VALUE=DATE:20260514
DTEND;VALUE=DATE:20260515
DESCRIPTION:
LOCATION:
SUMMARY:MFJ Spring Evening Book Fair and Art Show
END:VEVENT
BEGIN:VEVENT
DTSTAMP:20260420T195715Z
UID:2d3ade6c-5953-4a03-9e9c-7083089022ed
DTSTART:20260518T180000
DTEND:20260518T200000
DESCRIPTION:<p>All-Purpose Room</p>
LOCATION:1532 Pennsylvania Ave\, Franklinville\, NJ 08322\, USA
SUMMARY:Board Meeting
END:VEVENT
BEGIN:VEVENT
DTSTAMP:20260420T195715Z
UID:c865f563-cca9-4e8e-83a5-39b4de98039c
DTSTART:20260518T190000
DTEND:20260518T203000
DESCRIPTION:
LOCATION:
SUMMARY:MFJ - 2nd Grade Music Concert
END:VEVENT
BEGIN:VEVENT
DTSTAMP:20260420T195715Z
UID:bd51198b-8cd4-49f7-991e-a90ee2d5b099
DTSTART:20260519T190000
DTEND:20260519T203000
DESCRIPTION:
LOCATION:
SUMMARY:MFJ - 2nd Grade Music Concert
END:VEVENT
BEGIN:VEVENT
DTSTAMP:20260420T195715Z
UID:656fbe10-a840-452a-bde4-9e271f20fc85
DTSTART;VALUE=DATE:20260522
DTEND;VALUE=DATE:20260523
DESCRIPTION:
LOCATION:
SUMMARY:Early Dismissal- students & staff
END:VEVENT
BEGIN:VEVENT
DTSTAMP:20260420T195715Z
UID:241a172a-e584-4852-8be3-8a3c77aaba78
DTSTART;VALUE=DATE:20260525
DTEND;VALUE=DATE:20260526
DESCRIPTION:
LOCATION:
SUMMARY:Memorial Day- School/district closed
END:VEVENT
BEGIN:VEVENT
DTSTAMP:20260420T195715Z
UID:60f0ff22-5a28-4cfb-8435-f64117cb5677
DTSTART;VALUE=DATE:20260526
DTEND;VALUE=DATE:20260530
DESCRIPTION:
LOCATION:
SUMMARY:CLR - PTO's BOGO Scholastic Book Fair
END:VEVENT
BEGIN:VEVENT
DTSTAMP:20260420T195715Z
UID:137df224-80e8-4883-b699-0a27810fe286
DTSTART:20260527T163000
DTEND:20260527T193000
DESCRIPTION:
LOCATION:
SUMMARY:Main Road Art and Diversity Night
END:VEVENT
BEGIN:VEVENT
DTSTAMP:20260420T195715Z
UID:84953d3b-6501-442f-a195-bd9e00765edd
DTSTART:20260528T170000
DTEND:20260528T183000
DESCRIPTION:
LOCATION:
SUMMARY:CLR Art Show
END:VEVENT
BEGIN:VEVENT
DTSTAMP:20260420T195715Z
UID:726ed953-541c-4d08-97dc-6e7182aca84f
DTSTART;VALUE=DATE:20260529
DTEND;VALUE=DATE:20260530
DESCRIPTION:
LOCATION:
SUMMARY:CLR AM Grade Level Assembly Schedule
END:VEVENT
BEGIN:VEVENT
DTSTAMP:20260420T195715Z
UID:87cf975f-1467-4ee7-aed2-a04468758650
DTSTART:20260602T190000
DTEND:20260602T200000
DESCRIPTION:
LOCATION:
SUMMARY:Main Road Spring Concert at DHS
END:VEVENT
BEGIN:VEVENT
DTSTAMP:20260420T195715Z
UID:5728a951-123b-4a00-a8a1-d32dbd405442
DTSTART:20260603T190000
DTEND:20260603T203000
DESCRIPTION:
LOCATION:
SUMMARY:CLR - School Musical
END:VEVENT
BEGIN:VEVENT
DTSTAMP:20260420T195715Z
UID:95d192be-b38c-4952-9485-e7e3fd84f255
DTSTART:20260604T190000
DTEND:20260604T203000
DESCRIPTION:
LOCATION:
SUMMARY:CLR - School Musical
END:VEVENT
BEGIN:VEVENT
DTSTAMP:20260420T195715Z
UID:0f48a15d-afec-4764-8d06-7557cb25c744
DTSTART:20260605T110000
DTEND:20260605T134500
DESCRIPTION:
LOCATION:
SUMMARY:CLR - Color Run
END:VEVENT
BEGIN:VEVENT
DTSTAMP:20260420T195715Z
UID:487442a3-df38-4088-a320-2a07cdb5e4a9
DTSTART:20260608T113000
DTEND:20260608T134500
DESCRIPTION:
LOCATION:
SUMMARY:CLR - Commencement Ceremony Practice
END:VEVENT
BEGIN:VEVENT
DTSTAMP:20260420T195715Z
UID:38e6da3a-7829-447e-97b3-93827f76c0b2
DTSTART:20260609T113000
DTEND:20260609T134500
DESCRIPTION:
LOCATION:
SUMMARY:CLR - Commencement Ceremony Practice
END:VEVENT
BEGIN:VEVENT
DTSTAMP:20260420T195715Z
UID:cd8c3f7c-0166-4895-8667-cb2559f6af49
DTSTART:20260609T190000
DTEND:20260609T200000
DESCRIPTION:
LOCATION:
SUMMARY:CLR - Commencement Ceremony
END:VEVENT
BEGIN:VEVENT
DTSTAMP:20260420T195715Z
UID:34843ea1-5317-4d4c-a360-6524db70ca6c
DTSTART:20260610T190000
DTEND:20260610T200000
DESCRIPTION:
LOCATION:
SUMMARY:CLR - Commencement Ceremony (Rain Date)
END:VEVENT
BEGIN:VEVENT
DTSTAMP:20260420T195715Z
UID:b46307e7-8f67-49a2-b137-d56220e93e6a
DTSTART:20260612T110000
DTEND:20260612T140000
DESCRIPTION:
LOCATION:
SUMMARY:CLR - Sixth Grade Picnic
END:VEVENT
BEGIN:VEVENT
DTSTAMP:20260420T195715Z
UID:c283a5b7-79b1-4256-ac2f-ac7fd75d08dc
DTSTART;VALUE=DATE:20260615
DTEND;VALUE=DATE:20260619
DESCRIPTION:
LOCATION:
SUMMARY:Early dismissal for students
END:VEVENT
BEGIN:VEVENT
DTSTAMP:20260420T195715Z
UID:e0c21d6e-b09a-4a85-9e7e-afcb824c3192
DTSTART;VALUE=DATE:20260616
DTEND;VALUE=DATE:20260617
DESCRIPTION:
LOCATION:
SUMMARY:CLR - Field Day
END:VEVENT
BEGIN:VEVENT
DTSTAMP:20260420T195715Z
UID:57fa6024-9b9d-4bbb-8678-7593c37d1c11
DTSTART;VALUE=DATE:20260617
DTEND;VALUE=DATE:20260618
DESCRIPTION:
LOCATION:
SUMMARY:MFJ PTA Fun Day
END:VEVENT
BEGIN:VEVENT
DTSTAMP:20260420T195715Z
UID:2a9393eb-ffa2-4a6e-a035-c54c52c14cc8
DTSTART:20260617T180000
DTEND:20260617T200000
DESCRIPTION:<p>Administration Building</p>
LOCATION:3228 Coles Mill Rd\, Franklinville\, NJ 08322\, USA
SUMMARY:Board Meeting - Work Session
END:VEVENT
BEGIN:VEVENT
DTSTAMP:20260420T195715Z
UID:c46a3cea-a89b-4def-98f9-941d021cac4a
DTSTART;VALUE=DATE:20260618
DTEND;VALUE=DATE:20260619
DESCRIPTION:
LOCATION:
SUMMARY:Last day of school & third trimester
END:VEVENT
BEGIN:VEVENT
DTSTAMP:20260420T195715Z
UID:177bbcc8-dd1b-4150-93b1-e366c76b6915
DTSTART:20260622T180000
DTEND:20260622T200000
DESCRIPTION:<p>All-Purpose Room</p>
LOCATION:1532 Pennsylvania Ave\, Franklinville\, NJ 08322\, USA
SUMMARY:Board Meeting
END:VEVENT
BEGIN:VEVENT
DTSTAMP:20260420T195715Z
UID:85f5d32e-8d77-4635-8248-ca58886d78f5
DTSTART:20260727T180000
DTEND:20260727T200000
DESCRIPTION:<p>All-Purpose Room</p>
LOCATION:1532 Pennsylvania Ave\, Franklinville\, NJ 08322\, USA
SUMMARY:Board Meeting
END:VEVENT
BEGIN:VEVENT
DTSTAMP:20260420T195715Z
UID:7a279603-a537-462c-8e88-97295d2cf0ba
DTSTART:20260824T180000
DTEND:20260824T200000
DESCRIPTION:<p>All-Purpose Room</p>
LOCATION:1532 Pennsylvania Ave\, Franklinville\, NJ 08322\, USA
SUMMARY:Board Meeting
END:VEVENT
BEGIN:VEVENT
DTSTAMP:20260420T195715Z
UID:bc2f9440-9a7e-4bdc-9608-212f348260fb
DTSTART:20260916T180000
DTEND:20260916T200000
DESCRIPTION:<p>Administration Building</p>
LOCATION:3228 Coles Mill Rd\, Franklinville\, NJ 08322\, USA
SUMMARY:Board Meeting - Work Session
END:VEVENT
BEGIN:VEVENT
DTSTAMP:20260420T195715Z
UID:f567aee5-6fed-4b62-b703-e09aa92b0163
DTSTART:20260921T180000
DTEND:20260921T200000
DESCRIPTION:<p>All-Purpose Room</p>
LOCATION:1532 Pennsylvania Ave\, Franklinville\, NJ 08322\, USA
SUMMARY:Board Meeting
END:VEVENT
BEGIN:VEVENT
DTSTAMP:20260420T195715Z
UID:7b5bc47e-427f-4cc3-bd2e-a90e62922f1c
DTSTART:20261014T180000
DTEND:20261014T200000
DESCRIPTION:<p>All-Purpose Room</p>
LOCATION:1532 Pennsylvania Ave\, Franklinville\, NJ 08322\, USA
SUMMARY:Board Meeting
END:VEVENT
BEGIN:VEVENT
DTSTAMP:20260420T195715Z
UID:1e7f58ad-db40-4d40-b8d0-9f3518f5cf4c
DTSTART:20261111T180000
DTEND:20261111T200000
DESCRIPTION:<p>Administration Building</p>
LOCATION:3228 Coles Mill Rd\, Franklinville\, NJ 08322\, USA
SUMMARY:Board Meeting - Work Session
END:VEVENT
BEGIN:VEVENT
DTSTAMP:20260420T195715Z
UID:cb84524a-874b-419d-9327-5c5fea9827a0
DTSTART:20261116T180000
DTEND:20261116T200000
DESCRIPTION:<p>All-Purpose Room</p>
LOCATION:1532 Pennsylvania Ave\, Franklinville\, NJ 08322\, USA
SUMMARY:Board Meeting
END:VEVENT
BEGIN:VEVENT
DTSTAMP:20260420T195715Z
UID:2ad25964-aef9-464c-850b-f52f6d6c5af5
DTSTART:20261214T180000
DTEND:20261214T200000
DESCRIPTION:<p>All-Purpose Room</p>
LOCATION:1532 Pennsylvania Ave\, Franklinville\, NJ 08322\, USA
SUMMARY:Board Meeting
END:VEVENT
END:VCALENDAR
